App-perlbrew v0.92 Perl 5 v5.34.0 amd64-netbsd-thread-multi
- Status
- Pass
- From
- Carlos Guevara
- Dist
-
App-perlbrew v0.92
- Platform
- Perl 5 v5.34.0 amd64-netbsd-thread-multi
- Date
- 2021-05-11 18:51:51
- ID
- f2bcd8b2-b289-11eb-aa0b-1c78d970b63b
This distribution has been tested as part of the CPAN Testers
project, supporting the Perl programming language. See
http://wiki.cpantesters.org/ for more information or email
questions to cpan-testers-discuss@perl.org
--
Dear Liu Kang Min,
This is a computer-generated report for App-perlbrew-0.92
on perl 5.34.0, created by CPAN-Reporter-1.2018.
Thank you for uploading your work to CPAN. Congratulations!
All tests were successful.
Sections of this report:
* Tester comments
* Program output
* Prerequisites
* Environment and other context
------------------------------
TESTER COMMENTS
------------------------------
Additional comments from tester:
this report is from an automated smoke testing program
and was not reviewed by a human for accuracy
------------------------------
PROGRAM OUTPUT
------------------------------
Output from './Build test':
t/00.load.t ............................ ok
t/01.options.t ......................... ok
t/02.format_perl_version.t ............. ok
t/03.test_get_available_versions.t ..... ok
t/04.find_available_perls.t ............ ok
t/05.get_current_perl.t ................ ok
t/06.installed_perls.t ................. skipped: No perl installation under PERLBREW_ROOT
t/07.argv.t ............................ ok
t/08.error_available.t ................. ok
t/08.error_install.t ................... ok
t/08.error_install_blead.t ............. ok
t/08.error_install_cpanm.t ............. ok
t/09.exit_status.t ..................... ok
t/10.resolve.t ......................... ok
t/11.editdist.t ........................ ok
t/11.root_from_arg.t ................... ok
t/12.destdir.t ......................... ok
t/12.sitecustomize.t ................... ok
t/13.perl_release.t .................... ok
t/14.perl_version_parsing.t ............ ok
# /home/cpan/tmp/aONRcNByVR/build/test/test
t/15.no-reuse-build-dir.t .............. ok
t/16.release-detail.t .................. ok
t/17.release-detail-cperl-local.t ...... ok
t/17.release-detail-cperl-remote.t ..... skipped: These tests send HTTP requests. Set env TEST_LIVE=1 to really run them.
t/18.release-detail-perl-local.t ....... ok
t/18.release-detail-perl-remote.t ...... skipped: These tests send HTTP requests. Set env TEST_LIVE=1 to really run them.
t/app-perlbrew-path-installation.t ..... ok
t/app-perlbrew-path.t .................. ok
t/bashrc_content.t ..................... ok
t/builddir.t ........................... ok
t/command-alias.t ...................... ok
t/command-available.t .................. ok
# ARGS: --with perl-5.14.1 perl -MExtUtils::Installed -le BEGIN{@INC=grep {$_ ne q!.!} @INC}; open my $output_fh, ">", "/home/cpan/tmp/_Y99AZcuRm"; print {$output_fh} $_ for ExtUtils::Installed->new->modules;
# ARGS: --with perl-5.16.0 cpanm Foo Bar
# ARGS: --with perl-5.14.1 perl -MExtUtils::Installed -le BEGIN{@INC=grep {$_ ne q!.!} @INC}; open my $output_fh, ">", "/home/cpan/tmp/6FMa9wOpPj"; print {$output_fh} $_ for ExtUtils::Installed->new->modules;
# ARGS: --with perl-5.16.0 cpanm Foo Bar
# ARGS: --with perl-5.16.0 perl -MExtUtils::Installed -le BEGIN{@INC=grep {$_ ne q!.!} @INC}; open my $output_fh, ">", "/home/cpan/tmp/KkCfO6f6u0"; print {$output_fh} $_ for ExtUtils::Installed->new->modules;
# ARGS: --with perl-5.14.1 cpanm Foo Bar
# ARGS: --with perl-5.16.0 perl -MExtUtils::Installed -le BEGIN{@INC=grep {$_ ne q!.!} @INC}; open my $output_fh, ">", "/home/cpan/tmp/GvV8Nwh61G"; print {$output_fh} $_ for ExtUtils::Installed->new->modules;
# ARGS: --with perl-5.14.1 cpanm Foo Bar
t/command-clone-modules.t .............. ok
t/command-compgen.t .................... ok
t/command-display-rc.t ................. ok
Attempting to create directory /home/cpan/tmp/5y2NBQDIiu/libs/perl-5.14.1@nobita
t/command-env.t ........................ ok
sort (...) interpreted as function at t/command-exec.t line 283.
sort (...) interpreted as function at t/command-exec.t line 305.
Command [perl -E 'somesub 42'] terminated with exit code 7 ($? = 1792) under the following perl environment:
format_info_output_value
Command [perl -E 'say 42'] terminated with exit code 3 ($? = 768) under the following perl environment:
Command [perl -E 'say 42'] terminated with exit code 3 ($? = 768) under the following perl environment:
Command [perl -E 'say 42'] terminated with exit code 3 ($? = 768) under the following perl environment:
Command [perl -E 'say 42'] terminated with exit code 255 ($? = -1) under the following perl environment:
Command [perl -E 'say 42'] terminated with exit code 7 ($? = 1792) under the following perl environment:
t/command-exec.t ....................... ok
t/command-help.t ....................... ok
t/command-info.t ....................... ok
t/command-install-cpanm.t .............. ok
t/command-install-from-archive.t ....... ok
t/command-install-patchperl.t .......... ok
t/command-install.t .................... ok
t/command-lib.t ........................ ok
t/command-list.t ....................... ok
t/current_perl.t ....................... ok
t/current_shell.t ...................... ok
t/do_system.t .......................... ok
t/failure-command-install-cpanm.t ...... ok
t/failure-command-install-patchperl.t .. ok
t/home.t ............................... ok
t/http-program-control.t ............... ok
# PATH=/home/cpan/.cpan/build/App-perlbrew-0.92-0/t/fake-bin:/home/cpan/bin/perl-blead/bin:/home/cpan/bin:/home/cpan/bin:/bin:/sbin:/usr/bin:/usr/sbin:/usr/X11R7/bin:/usr/pkg/bin:/usr/pkg/sbin:/usr/games:/usr/local/bin:/usr/local/sbin
# curl = /home/cpan/.cpan/build/App-perlbrew-0.92-0/t/fake-bin/curl
t/http-ua-detect-non-curl.t ............ ok
t/http-ua-detect.t ..................... ok
t/http.t ............................... skipped: (no reason given)
t/installation-perlbrew.t .............. ok
t/installation.t ....................... ok
t/installation2.t ...................... ok
t/installation3.t ...................... ok
t/unit-files-are-the-same.t ............ ok
All tests successful.
Files=60, Tests=416, 23 wallclock secs ( 0.31 usr 0.24 sys + 16.39 cusr 5.84 csys = 22.78 CPU)
Result: PASS
------------------------------
PREREQUISITES
------------------------------
Prerequisite modules loaded:
requires:
Module Need Have
-------------------- ---------- ----------
Capture::Tiny 0.36 0.48
CPAN::Perl::Releases 5.20210320 5.20210505
Devel::PatchPerl 2.08 2.08
ExtUtils::MakeMaker 7.22 7.62
File::Copy 0 2.35
File::Temp 0.2304 0.2311
JSON::PP 0 4.06
local::lib 2.000014 2.000024
Pod::Parser 1.63 1.63
Pod::Usage 1.68 2.01
build_requires:
Module Need Have
-------------------- ---------- ----------
File::Which 1.21 1.27
IO::All 0.51 0.87
Path::Class 0.33 0.37
Test::Exception 0.32 0.43
Test::More 1.001002 1.302183
Test::NoWarnings 1.04 1.04
Test::Output 1.03 1.033
Test::Simple 1.001002 1.302183
Test::Spec 0.49 0.54
Test::TempDir::Tiny 0.016 0.018
configure_requires:
Module Need Have
-------------------- ---------- ----------
Module::Build::Tiny 0.034 0.039
------------------------------
ENVIRONMENT AND OTHER CONTEXT
------------------------------
Environment variables:
AUTOMATED_TESTING = 1
DATE_MANIP_TEST_DM5 = 1
LC_ALL = C
NONINTERACTIVE_TESTING = 1
PATH = /home/cpan/bin/perl-blead/bin:/home/cpan/bin:/home/cpan/bin:/bin:/sbin:/usr/bin:/usr/sbin:/usr/X11R7/bin:/usr/pkg/bin:/usr/pkg/sbin:/usr/games:/usr/local/bin:/usr/local/sbin
PERL5LIB =
PERL5OPT =
PERL5_CPANPLUS_IS_RUNNING = 26987
PERL5_CPAN_IS_RUNNING = 26987
PERL_MM_USE_DEFAULT = 1
PERL_USE_UNSAFE_INC = 1
PERL_VERSION = blead
SHELL = /usr/pkg/bin/bash
TERM = screen
TMPDIR = /home/cpan/tmp
Perl special variables (and OS-specific diagnostics, for MSWin32):
$^X = /home/cpan/bin/perl-blead/bin/perl5.34.0
$UID/$EUID = 1001 / 1001
$GID = 100 100
$EGID = 100 100
Perl module toolchain versions installed:
Module Have
------------------- --------
CPAN 2.28
CPAN::Meta 2.150010
Cwd 3.80
ExtUtils::CBuilder 0.280236
ExtUtils::Command 7.62
ExtUtils::Install 2.20
ExtUtils::MakeMaker 7.62
ExtUtils::Manifest 1.73
ExtUtils::ParseXS 3.43
File::Spec 3.80
JSON 4.03
JSON::PP 4.06
Module::Build 0.4231
Module::Signature n/a
Parse::CPAN::Meta 2.150010
Test::Harness 3.43
Test::More 1.302183
YAML 1.30
YAML::Syck 1.34
version 0.9928
--
Summary of my perl5 (revision 5 version 34 subversion 0) configuration:
Commit id: 1e43c13e1f81d5dd4edd27cd7a11a6a9ffe051a7
Platform:
osname=netbsd
osvers=8.2
archname=amd64-netbsd-thread-multi
uname='netbsd cjg-netbsd8 8.2 netbsd 8.2 (generic) #0: tue mar 31 05:08:40 utc 2020 mkrepro@mkrepro.netbsd.org:usrsrcsysarchamd64compilegeneric amd64 '
config_args='-des -Dprefix=~/bin/perl-blead -Dscriptdir=~/bin/perl-blead/bin -Dusedevel -Duse64bitall -Duseithreads'
hint=recommended
useposix=true
d_sigaction=define
useithreads=define
usemultiplicity=define
use64bitint=define
use64bitall=define
uselongdouble=undef
usemymalloc=n
default_inc_excludes_dot=define
Compiler:
cc='cc'
ccflags ='-fwrapv -fno-strict-aliasing -pipe -fstack-protector-strong -I/usr/pkg/include -D_FORTIFY_SOURCE=2'
optimize='-O'
cppflags='-fwrapv -fno-strict-aliasing -pipe -fstack-protector-strong -I/usr/pkg/include'
ccversion=''
gccversion='5.5.0'
gccosandvers=''
intsize=4
longsize=8
ptrsize=8
doublesize=8
byteorder=12345678
doublekind=3
d_longlong=define
longlongsize=8
d_longdbl=define
longdblsize=16
longdblkind=3
ivtype='long'
ivsize=8
nvtype='double'
nvsize=8
Off_t='off_t'
lseeksize=8
alignbytes=8
prototype=define
Linker and Libraries:
ld='cc'
ldflags =' -Wl,-rpath,/usr/pkg/lib -Wl,-rpath,/usr/local/lib -fstack-protector-strong -L/usr/pkg/lib'
libpth=/usr/lib /usr/pkg/lib /lib
libs=-lpthread -lm -lcrypt -lutil -lc -lposix
perllibs=-lpthread -lm -lcrypt -lutil -lc -lposix
libc=/lib/libc.so
so=so
useshrplib=false
libperl=libperl.a
gnulibc_version=''
Dynamic Linking:
dlsrc=dl_dlopen.xs
dlext=so
d_dlsymun=undef
ccdlflags='-Wl,-E '
cccdlflags='-DPIC -fPIC '
lddlflags='-shared -L/usr/pkg/lib -fstack-protector-strong'
Characteristics of this binary (from libperl):
Compile-time options:
HAS_TIMES
MULTIPLICITY
PERLIO_LAYERS
PERL_COPY_ON_WRITE
PERL_DONT_CREATE_GVSV
PERL_IMPLICIT_CONTEXT
PERL_MALLOC_WRAP
PERL_OP_PARENT
PERL_PRESERVE_IVUV
PERL_USE_DEVEL
USE_64_BIT_ALL
USE_64_BIT_INT
USE_ITHREADS
USE_LARGE_FILES
USE_LOCALE
USE_LOCALE_COLLATE
USE_LOCALE_CTYPE
USE_LOCALE_NUMERIC
USE_LOCALE_TIME
USE_PERLIO
USE_PERL_ATOF
USE_REENTRANT_API
Built under netbsd
Compiled at May 11 2021 09:12:57
%ENV:
PERL5LIB=""
PERL5OPT=""
PERL5_CPANPLUS_IS_RUNNING="26987"
PERL5_CPAN_IS_RUNNING="26987"
PERL_MM_USE_DEFAULT="1"
PERL_USE_UNSAFE_INC="1"
PERL_VERSION="blead"
@INC:
/home/cpan/bin/perl-blead/lib/site_perl/5.34.0/amd64-netbsd-thread-multi
/home/cpan/bin/perl-blead/lib/site_perl/5.34.0
/home/cpan/bin/perl-blead/lib/5.34.0/amd64-netbsd-thread-multi
/home/cpan/bin/perl-blead/lib/5.34.0
.