Math-Random-ISAAC v1.004 Perl 5 v5.22.3 darwin-thread-multi-2level
- Status
- Pass
- From
- Nigel Horne
- Dist
-
Math-Random-ISAAC v1.004
- Platform
- Perl 5 v5.22.3 darwin-thread-multi-2level
- Date
- 2017-12-21 19:05:45
- ID
- f28c3fea-e681-11e7-8b87-7d332317d2df
This distribution has been tested as part of the CPAN Testers
project, supporting the Perl programming language. See
http://wiki.cpantesters.org/ for more information or email
questions to cpan-testers-discuss@perl.org
--
Dear Jonathan Yu,
This is a computer-generated report for Math-Random-ISAAC-1.004
on perl 5.22.3, created by CPAN-Reporter-1.2018.
Thank you for uploading your work to CPAN. Congratulations!
All tests were successful.
Sections of this report:
* Tester comments
* Program output
* Prerequisites
* Environment and other context
------------------------------
TESTER COMMENTS
------------------------------
Additional comments from tester:
this report is from an automated smoke testing program
and was not reviewed by a human for accuracy
------------------------------
PROGRAM OUTPUT
------------------------------
Output from '/sw/bin/make test':
PERL_DL_NONLAZY=1 "/Users/hornenj/perl5/perlbrew/perls/perl-5.22.3/bin/perl5.22.3" "-MExtUtils::Command::MM" "-MTest::Harness" "-e" "undef *Test::Harness::Switches; test_harness(0, 'blib/lib', 'blib/arch')" t/*.t
t/01compile.t .............. ok
t/03memory.t ............... ok
t/02sequence.t ............. ok
t/04uniform.t .............. skipped: Statistics::Test::RandomWalk not available for testing
t/05fallback.t ............. skipped: Test::Without::Module and Math::Random::ISAAC::XS required to test fallback ability
t/06exceptions.t ........... ok
t/release-dist-manifest.t .. skipped: these tests are for release candidate testing
t/release-kwalitee.t ....... skipped: these tests are for release candidate testing
t/release-pod-coverage.t ... skipped: these tests are for release candidate testing
t/release-pod-syntax.t ..... skipped: these tests are for release candidate testing
t/release-portability.t .... skipped: these tests are for release candidate testing
All tests successful.
Files=11, Tests=609, 0 wallclock secs ( 0.05 usr 0.03 sys + 0.54 cusr 0.25 csys = 0.87 CPU)
Result: PASS
------------------------------
PREREQUISITES
------------------------------
Prerequisite modules loaded:
build_requires:
Module Need Have
------------------- ----- --------
Test::More 0.62 1.302106
Test::NoWarnings 0.084 1.04
configure_requires:
Module Need Have
------------------- ----- --------
ExtUtils::MakeMaker 6.31 7.30
------------------------------
ENVIRONMENT AND OTHER CONTEXT
------------------------------
Environment variables:
AUTOMATED_TESTING = 1
HARNESS_OPTIONS = c:j3
LANG = en_US.UTF-8
LC_ALL = POSIX
PATH = /Users/hornenj/perl5/perlbrew/bin:/Users/hornenj/perl5/perlbrew/perls/perl-5.22.3/bin:src/njh/smoker/bin:/Users/hornenj/bin:/usr/bin:/bin:/usr/X11R6/bin:/sw/bin
PERL5LIB = /Users/hornenj/.cpan/build/Crypt-Random-Source-0.12-26/blib/arch:/Users/hornenj/.cpan/build/Crypt-Random-Source-0.12-26/blib/lib:/Users/hornenj/.cpan/build/Type-Tiny-1.002001-68/blib/arch:/Users/hornenj/.cpan/build/Type-Tiny-1.002001-68/blib/lib:/Users/hornenj/.cpan/build/MLDBM-2.05-26/blib/arch:/Users/hornenj/.cpan/build/MLDBM-2.05-26/blib/lib:/Users/hornenj/.cpan/build/Geo-IPfree-1.151940-26/blib/arch:/Users/hornenj/.cpan/build/Geo-IPfree-1.151940-26/blib/lib:/Users/hornenj/.cpan/build/ExtUtils-PkgConfig-1.16-2/blib/arch:/Users/hornenj/.cpan/build/ExtUtils-PkgConfig-1.16-2/blib/lib:/Users/hornenj/.cpan/build/DBIx-Connector-0.56-26/blib/arch:/Users/hornenj/.cpan/build/DBIx-Connector-0.56-26/blib/lib:/Users/hornenj/.cpan/build/Cache-FastMmap-1.46-26/blib/arch:/Users/hornenj/.cpan/build/Cache-FastMmap-1.46-26/blib/lib
PERL5OPT =
PERL5_CPANPLUS_IS_RUNNING = 11210
PERL5_CPAN_IS_RUNNING = 11210
PERLBREW_BASHRC_VERSION = 0.80
PERLBREW_HOME = /Users/hornenj/.perlbrew
PERLBREW_MANPATH = /Users/hornenj/perl5/perlbrew/perls/perl-5.22.3/man
PERLBREW_PATH = /Users/hornenj/perl5/perlbrew/bin:/Users/hornenj/perl5/perlbrew/perls/perl-5.22.3/bin
PERLBREW_PERL = perl-5.22.3
PERLBREW_ROOT = /Users/hornenj/perl5/perlbrew
PERLBREW_VERSION = 0.80
SHELL = /bin/bash
TERM = xterm-256color
TMPDIR = /var/folders/pz/pd7y1qjs6s3cbk170cw50fjc000c61/T/
Perl special variables (and OS-specific diagnostics, for MSWin32):
$^X = /Users/hornenj/perl5/perlbrew/perls/perl-5.22.3/bin/perl5.22.3
$UID/$EUID = 12481 / 12481
$GID = 14 14 5344 37191 527 12 62 204 399 206 37223 241 223
$EGID = 14 14 5344 37191 527 12 62 204 399 206 37223 241 223
Perl module toolchain versions installed:
Module Have
------------------- ----------
CPAN 2.16
CPAN::Meta 2.150001
Cwd 3.56_02
ExtUtils::CBuilder 0.280221
ExtUtils::Command 7.30
ExtUtils::Install 2.06
ExtUtils::MakeMaker 7.30
ExtUtils::Manifest 1.70
ExtUtils::ParseXS 3.28
File::Spec 3.56_02
JSON 2.94
JSON::PP 2.27300_01
Module::Build 0.4224
Module::Signature n/a
Parse::CPAN::Meta 1.4414_001
Test::Harness 3.35_01
Test::More 1.302106
YAML 1.24
YAML::Syck 1.30
version 0.9909
--
Summary of my perl5 (revision 5 version 22 subversion 3) configuration:
Platform:
osname=darwin, osvers=15.6.0, archname=darwin-thread-multi-2level
uname='darwin ncbimac2027 15.6.0 darwin kernel version 15.6.0: fri feb 17 10:21:18 pst 2017; root:xnu-3248.60.11.4.1~1release_x86_64 x86_64 '
config_args='-de -Dprefix=/Users/hornenj/perl5/perlbrew/perls/perl-5.22.3 -Duseithreads -Dusemultiplicity -Dusedevel -Accflags=-O2 -W -Wformat=2 -Wswitch -Wshadow -Wwrite-strings -Wuninitialized -Wall -pipe -mtune=native -march=native -fomit-frame-pointer -msse2 -msse -mmmx -pedantic -D_FORTIFY_SOURCE=2 -Wpointer-arith -Wstrict-prototypes -fstack-protector -Wstack-protector -Wextra -Wbad-function-cast -Wcast-align -Wcast-qual -Wdisabled-optimization -Wendif-labels -Wfloat-equal -Wformat-nonliteral -Winline -Wmissing-declarations -Wmissing-prototypes -Wnested-externs -Wpointer-arith -Wundef -Wformat-security -fassociative-math -I/Users/hornenj/openssl/include -Acc=cc -Aeval:scriptdir=/Users/hornenj/perl5/perlbrew/perls/perl-5.22.3/bin'
hint=recommended, useposix=true, d_sigaction=define
useithreads=define, usemultiplicity=define
use64bitint=define, use64bitall=define, uselongdouble=undef
usemymalloc=n, bincompat5005=undef
Compiler:
cc=' cc', ccflags ='-fno-common -DPERL_DARWIN -O2 -W -Wformat=2 -Wswitch -Wshadow -Wwrite-strings -Wuninitialized -Wall -pipe -mtune=native -march=native -fomit-frame-pointer -msse2 -msse -mmmx -pedantic -D_FORTIFY_SOURCE=2 -Wpointer-arith -Wstrict-prototypes -fstack-protector -Wstack-protector -Wextra -Wbad-function-cast -Wcast-align -Wcast-qual -Wdisabled-optimization -Wendif-labels -Wfloat-equal -Wformat-nonliteral -Winline -Wmissing-declarations -Wmissing-prototypes -Wnested-externs -Wpointer-arith -Wundef -Wformat-security -fassociative-math -I/Users/hornenj/openssl/include -fno-strict-aliasing -fstack-protector-strong -I/usr/local/include',
optimize='-O3',
cppflags='-fno-common -DPERL_DARWIN -O2 -W -Wformat=2 -Wswitch -Wshadow -Wwrite-strings -Wuninitialized -Wall -pipe -mtune=native -march=native -fomit-frame-pointer -msse2 -msse -mmmx -pedantic -D_FORTIFY_SOURCE=2 -Wpointer-arith -Wstrict-prototypes -fstack-protector -Wstack-protector -Wextra -Wbad-function-cast -Wcast-align -Wcast-qual -Wdisabled-optimization -Wendif-labels -Wfloat-equal -Wformat-nonliteral -Winline -Wmissing-declarations -Wmissing-prototypes -Wnested-externs -Wpointer-arith -Wundef -Wformat-security -fassociative-math -I/Users/hornenj/openssl/include -fno-strict-aliasing -fstack-protector-strong -I/usr/local/include'
ccversion='', gccversion='4.2.1 Compatible Apple LLVM 8.0.0 (clang-800.0.42.1)', gccosandvers=''
intsize=4, longsize=8, ptrsize=8, doublesize=8, byteorder=12345678, doublekind=3
d_longlong=define, longlongsize=8, d_longdbl=define, longdblsize=16, longdblkind=3
ivtype='long', ivsize=8, nvtype='double', nvsize=8, Off_t='off_t', lseeksize=8
alignbytes=8, prototype=define
Linker and Libraries:
ld='env MACOSX_DEPLOYMENT_TARGET=10.3 cc', ldflags =' -fstack-protector-strong -L/usr/local/lib'
libpth=/usr/local/lib /Applications/Xcode.app/Contents/Developer/Toolchains/XcodeDefault.xctoolchain/usr/bin/../lib/clang/8.0.0/lib /Applications/Xcode.app/Contents/Developer/Toolchains/XcodeDefault.xctoolchain/usr/lib /usr/lib
libs=-lpthread -ldbm -ldl -lm -lutil -lc
perllibs=-lpthread -ldl -lm -lutil -lc
libc=, so=dylib, useshrplib=false, libperl=libperl.a
gnulibc_version=''
Dynamic Linking:
dlsrc=dl_dlopen.xs, dlext=bundle, d_dlsymun=undef, ccdlflags=' '
cccdlflags=' ', lddlflags=' -bundle -undefined dynamic_lookup -L/usr/local/lib -fstack-protector-strong'
Characteristics of this binary (from libperl):
Compile-time options: HAS_TIMES MULTIPLICITY PERLIO_LAYERS
PERL_DONT_CREATE_GVSV
PERL_HASH_FUNC_ONE_AT_A_TIME_HARD
PERL_IMPLICIT_CONTEXT PERL_MALLOC_WRAP
PERL_NEW_COPY_ON_WRITE PERL_PRESERVE_IVUV
PERL_USE_DEVEL USE_64_BIT_ALL USE_64_BIT_INT
USE_ITHREADS USE_LARGE_FILES USE_LOCALE
USE_LOCALE_COLLATE USE_LOCALE_CTYPE
USE_LOCALE_NUMERIC USE_LOCALE_TIME USE_PERLIO
USE_PERL_ATOF USE_REENTRANT_API
Locally applied patches:
Devel::PatchPerl 1.30
Built under darwin
Compiled at Jun 27 2017 10:10:18
%ENV:
PERL5LIB="/Users/hornenj/.cpan/build/Crypt-Random-Source-0.12-26/blib/arch:/Users/hornenj/.cpan/build/Crypt-Random-Source-0.12-26/blib/lib:/Users/hornenj/.cpan/build/Type-Tiny-1.002001-68/blib/arch:/Users/hornenj/.cpan/build/Type-Tiny-1.002001-68/blib/lib:/Users/hornenj/.cpan/build/MLDBM-2.05-26/blib/arch:/Users/hornenj/.cpan/build/MLDBM-2.05-26/blib/lib:/Users/hornenj/.cpan/build/Geo-IPfree-1.151940-26/blib/arch:/Users/hornenj/.cpan/build/Geo-IPfree-1.151940-26/blib/lib:/Users/hornenj/.cpan/build/ExtUtils-PkgConfig-1.16-2/blib/arch:/Users/hornenj/.cpan/build/ExtUtils-PkgConfig-1.16-2/blib/lib:/Users/hornenj/.cpan/build/DBIx-Connector-0.56-26/blib/arch:/Users/hornenj/.cpan/build/DBIx-Connector-0.56-26/blib/lib:/Users/hornenj/.cpan/build/Cache-FastMmap-1.46-26/blib/arch:/Users/hornenj/.cpan/build/Cache-FastMmap-1.46-26/blib/lib"
PERL5OPT=""
PERL5_CPANPLUS_IS_RUNNING="11210"
PERL5_CPAN_IS_RUNNING="11210"
PERLBREW_BASHRC_VERSION="0.80"
PERLBREW_HOME="/Users/hornenj/.perlbrew"
PERLBREW_MANPATH="/Users/hornenj/perl5/perlbrew/perls/perl-5.22.3/man"
PERLBREW_PATH="/Users/hornenj/perl5/perlbrew/bin:/Users/hornenj/perl5/perlbrew/perls/perl-5.22.3/bin"
PERLBREW_PERL="perl-5.22.3"
PERLBREW_ROOT="/Users/hornenj/perl5/perlbrew"
PERLBREW_VERSION="0.80"
@INC:
/Users/hornenj/.cpan/build/Crypt-Random-Source-0.12-26/blib/arch
/Users/hornenj/.cpan/build/Crypt-Random-Source-0.12-26/blib/lib
/Users/hornenj/.cpan/build/Type-Tiny-1.002001-68/blib/arch
/Users/hornenj/.cpan/build/Type-Tiny-1.002001-68/blib/lib
/Users/hornenj/.cpan/build/MLDBM-2.05-26/blib/arch
/Users/hornenj/.cpan/build/MLDBM-2.05-26/blib/lib
/Users/hornenj/.cpan/build/Geo-IPfree-1.151940-26/blib/arch
/Users/hornenj/.cpan/build/Geo-IPfree-1.151940-26/blib/lib
/Users/hornenj/.cpan/build/ExtUtils-PkgConfig-1.16-2/blib/arch
/Users/hornenj/.cpan/build/ExtUtils-PkgConfig-1.16-2/blib/lib
/Users/hornenj/.cpan/build/DBIx-Connector-0.56-26/blib/arch
/Users/hornenj/.cpan/build/DBIx-Connector-0.56-26/blib/lib
/Users/hornenj/.cpan/build/Cache-FastMmap-1.46-26/blib/arch
/Users/hornenj/.cpan/build/Cache-FastMmap-1.46-26/blib/lib
/Users/hornenj/perl5/perlbrew/perls/perl-5.22.3/lib/site_perl/5.22.3/darwin-thread-multi-2level
/Users/hornenj/perl5/perlbrew/perls/perl-5.22.3/lib/site_perl/5.22.3
/Users/hornenj/perl5/perlbrew/perls/perl-5.22.3/lib/5.22.3/darwin-thread-multi-2level
/Users/hornenj/perl5/perlbrew/perls/perl-5.22.3/lib/5.22.3
.