DateTime-Format-Intl vv0.1.8 Perl 5 v5.20.3 i386-freebsd-64int

Status
Pass
From
Chris Williams (BINGOS)
Dist
DateTime-Format-Intl vv0.1.8
Platform
Perl 5 v5.20.3 i386-freebsd-64int
Date
2025-01-06 19:46:39
ID
f20f9dbe-cc66-11ef-98b0-b3c3213a625c
This distribution has been tested as part of the CPAN Testers
project, supporting the Perl programming language.  See
http://wiki.cpantesters.org/ for more information or email
questions to cpan-testers-discuss@perl.org


--

Dear JDEGUEST,

This is a computer-generated error report created automatically by
CPANPLUS, version 0.9914. Testers personal comments may appear
at the end of this report.


Thank you for uploading your work to CPAN.  Congratulations!
All tests were successful.

TEST RESULTS:

Below is the error stack from stage 'make test':

PERL_DL_NONLAZY=1 "/home/cpan/pit/64bit/perl-5.20.3/bin/perl" "-MExtUtils::Command::MM" "-MTest::Harness" "-e" "undef *Test::Harness::Switches; test_harness(0, 'blib/lib', 'blib/arch')" t/*.t
t/001_load.t ....................... ok
t/002_methods.t .................... ok
Warning only: unsupported numbering system provided (jpanfin) via the locale "nu" extension (ja-Kana-JP-u-ca-gregory-nu-jpanfin-tz-jptyo). at lib/DateTime/Format/Intl.pm line 357.
Warning only: unsupported numbering system provided (jpanfin) via the locale "nu" extension (ja-Kana-JP-u-ca-gregory-nu-jpanfin-tz-jptyo). at lib/DateTime/Format/Intl.pm line 357.
Warning only: unsupported numbering system provided (arab) via the locale "nu" extension (ar-EG-u-ca-gregory-nu-arab-tz-egcai). at lib/DateTime/Format/Intl.pm line 357.
t/003_resolved_options.t ........... ok
t/004_supported_locales_of.t ....... ok
t/005_select_best_pattern.t ........ ok
t/006_format.t ..................... ok
Use of uninitialized value in join or string at /home/cpan/pit/jail/fqTdUG97wa/lib/perl5/DateTime/Locale/FromCLDR.pm line 471.
Warning: something's wrong at /home/cpan/pit/jail/fqTdUG97wa/lib/perl5/DateTime/Locale/FromCLDR.pm line 482.
Use of uninitialized value in join or string at /home/cpan/pit/jail/fqTdUG97wa/lib/perl5/DateTime/Locale/FromCLDR.pm line 471.
Warning: something's wrong at /home/cpan/pit/jail/fqTdUG97wa/lib/perl5/DateTime/Locale/FromCLDR.pm line 482.
Use of uninitialized value in join or string at /home/cpan/pit/jail/fqTdUG97wa/lib/perl5/DateTime/Locale/FromCLDR.pm line 471.
Warning: something's wrong at /home/cpan/pit/jail/fqTdUG97wa/lib/perl5/DateTime/Locale/FromCLDR.pm line 482.
Use of uninitialized value in join or string at /home/cpan/pit/jail/fqTdUG97wa/lib/perl5/DateTime/Locale/FromCLDR.pm line 471.
Warning: something's wrong at /home/cpan/pit/jail/fqTdUG97wa/lib/perl5/DateTime/Locale/FromCLDR.pm line 482.
Use of uninitialized value in join or string at /home/cpan/pit/jail/fqTdUG97wa/lib/perl5/DateTime/Locale/FromCLDR.pm line 471.
Warning: something's wrong at /home/cpan/pit/jail/fqTdUG97wa/lib/perl5/DateTime/Locale/FromCLDR.pm line 482.
Use of uninitialized value in join or string at /home/cpan/pit/jail/fqTdUG97wa/lib/perl5/DateTime/Locale/FromCLDR.pm line 471.
Warning: something's wrong at /home/cpan/pit/jail/fqTdUG97wa/lib/perl5/DateTime/Locale/FromCLDR.pm line 482.
Use of uninitialized value in join or string at /home/cpan/pit/jail/fqTdUG97wa/lib/perl5/DateTime/Locale/FromCLDR.pm line 471.
Warning: something's wrong at /home/cpan/pit/jail/fqTdUG97wa/lib/perl5/DateTime/Locale/FromCLDR.pm line 482.
Use of uninitialized value in join or string at /home/cpan/pit/jail/fqTdUG97wa/lib/perl5/DateTime/Locale/FromCLDR.pm line 471.
Warning: something's wrong at /home/cpan/pit/jail/fqTdUG97wa/lib/perl5/DateTime/Locale/FromCLDR.pm line 482.
t/007_select_best_range_pattern.t .. ok
Use of uninitialized value in join or string at /home/cpan/pit/jail/fqTdUG97wa/lib/perl5/DateTime/Locale/FromCLDR.pm line 471.
Warning: something's wrong at /home/cpan/pit/jail/fqTdUG97wa/lib/perl5/DateTime/Locale/FromCLDR.pm line 482.
Use of uninitialized value in join or string at /home/cpan/pit/jail/fqTdUG97wa/lib/perl5/DateTime/Locale/FromCLDR.pm line 471.
Warning: something's wrong at /home/cpan/pit/jail/fqTdUG97wa/lib/perl5/DateTime/Locale/FromCLDR.pm line 482.
Use of uninitialized value in join or string at /home/cpan/pit/jail/fqTdUG97wa/lib/perl5/DateTime/Locale/FromCLDR.pm line 471.
Warning: something's wrong at /home/cpan/pit/jail/fqTdUG97wa/lib/perl5/DateTime/Locale/FromCLDR.pm line 482.
Use of uninitialized value in join or string at /home/cpan/pit/jail/fqTdUG97wa/lib/perl5/DateTime/Locale/FromCLDR.pm line 471.
Warning: something's wrong at /home/cpan/pit/jail/fqTdUG97wa/lib/perl5/DateTime/Locale/FromCLDR.pm line 482.
Use of uninitialized value in join or string at /home/cpan/pit/jail/fqTdUG97wa/lib/perl5/DateTime/Locale/FromCLDR.pm line 471.
Warning: something's wrong at /home/cpan/pit/jail/fqTdUG97wa/lib/perl5/DateTime/Locale/FromCLDR.pm line 482.
Use of uninitialized value in join or string at /home/cpan/pit/jail/fqTdUG97wa/lib/perl5/DateTime/Locale/FromCLDR.pm line 471.
Warning: something's wrong at /home/cpan/pit/jail/fqTdUG97wa/lib/perl5/DateTime/Locale/FromCLDR.pm line 482.
Use of uninitialized value in join or string at /home/cpan/pit/jail/fqTdUG97wa/lib/perl5/DateTime/Locale/FromCLDR.pm line 471.
Warning: something's wrong at /home/cpan/pit/jail/fqTdUG97wa/lib/perl5/DateTime/Locale/FromCLDR.pm line 482.
Use of uninitialized value in join or string at /home/cpan/pit/jail/fqTdUG97wa/lib/perl5/DateTime/Locale/FromCLDR.pm line 471.
Warning: something's wrong at /home/cpan/pit/jail/fqTdUG97wa/lib/perl5/DateTime/Locale/FromCLDR.pm line 482.
t/008_format_range.t ............... ok
t/009_date_time_combination.t ...... ok
t/010_format_to_parts.t ............ ok
Use of uninitialized value in join or string at /home/cpan/pit/jail/fqTdUG97wa/lib/perl5/DateTime/Locale/FromCLDR.pm line 471.
Warning: something's wrong at /home/cpan/pit/jail/fqTdUG97wa/lib/perl5/DateTime/Locale/FromCLDR.pm line 482.
Use of uninitialized value in join or string at /home/cpan/pit/jail/fqTdUG97wa/lib/perl5/DateTime/Locale/FromCLDR.pm line 471.
Warning: something's wrong at /home/cpan/pit/jail/fqTdUG97wa/lib/perl5/DateTime/Locale/FromCLDR.pm line 482.
Use of uninitialized value in join or string at /home/cpan/pit/jail/fqTdUG97wa/lib/perl5/DateTime/Locale/FromCLDR.pm line 471.
Warning: something's wrong at /home/cpan/pit/jail/fqTdUG97wa/lib/perl5/DateTime/Locale/FromCLDR.pm line 482.
Use of uninitialized value in join or string at /home/cpan/pit/jail/fqTdUG97wa/lib/perl5/DateTime/Locale/FromCLDR.pm line 471.
Warning: something's wrong at /home/cpan/pit/jail/fqTdUG97wa/lib/perl5/DateTime/Locale/FromCLDR.pm line 482.
Use of uninitialized value in join or string at /home/cpan/pit/jail/fqTdUG97wa/lib/perl5/DateTime/Locale/FromCLDR.pm line 471.
Warning: something's wrong at /home/cpan/pit/jail/fqTdUG97wa/lib/perl5/DateTime/Locale/FromCLDR.pm line 482.
Use of uninitialized value in join or string at /home/cpan/pit/jail/fqTdUG97wa/lib/perl5/DateTime/Locale/FromCLDR.pm line 471.
Warning: something's wrong at /home/cpan/pit/jail/fqTdUG97wa/lib/perl5/DateTime/Locale/FromCLDR.pm line 482.
Use of uninitialized value in join or string at /home/cpan/pit/jail/fqTdUG97wa/lib/perl5/DateTime/Locale/FromCLDR.pm line 471.
Warning: something's wrong at /home/cpan/pit/jail/fqTdUG97wa/lib/perl5/DateTime/Locale/FromCLDR.pm line 482.
Use of uninitialized value in join or string at /home/cpan/pit/jail/fqTdUG97wa/lib/perl5/DateTime/Locale/FromCLDR.pm line 471.
Warning: something's wrong at /home/cpan/pit/jail/fqTdUG97wa/lib/perl5/DateTime/Locale/FromCLDR.pm line 482.
t/011_format_range_to_parts.t ...... ok
t/900_pod.t ........................ skipped: These tests are for author or release candidate testing
t/910_coverage.t ................... skipped: These tests are for author or release candidate testing
t/920_manifest.t ................... skipped: Author tests not required for installation
t/930_signature.t .................. skipped: Set the environment variable AUTHOR_TESTING to enable this test.
t/999_kwalitee.t ................... skipped: These tests are for author or release candidate testing
All tests successful.
Files=16, Tests=467, 91 wallclock secs ( 0.63 usr  0.24 sys + 48.41 cusr  4.98 csys = 54.27 CPU)
Result: PASS


PREREQUISITES:

Here is a list of prerequisites you specified and versions we
managed to load:

	  Module Name                        Have     Want
	  DateTime                           1.65     0.42
	  DateTime::Format::Unicode        v0.1.6   v0.1.6
	  DateTime::Locale::FromCLDR       v0.6.1   v0.6.1
	  ExtUtils::MakeMaker                7.70        0
	  Locale::Intl                     v0.1.3   v0.1.3
	! Locale::Unicode::Data            v1.3.1   v1.3.2
	  Scalar::Util                       1.68        0
	  Test::More                     1.302207 1.302120
	  Test::Pod                          1.52     1.52
	  Want                               0.29     0.17
	  lib                                0.63     0.63
	  open                               1.10        0
	  parent                            0.228        0
	  strict                             1.08        0
	  utf8                            1.13_01        0
	  vars                               1.03        0
	  warnings                           1.23        0
	  warnings::register                 1.03        0

Perl module toolchain versions installed:
	Module Name                        Have
	CPANPLUS                         0.9914
	CPANPLUS::Dist::Build              0.90
	Cwd                                3.75
	ExtUtils::CBuilder             0.280236
	ExtUtils::Command                  7.70
	ExtUtils::Install                  2.22
	ExtUtils::MakeMaker                7.70
	ExtUtils::Manifest                 1.75
	ExtUtils::ParseXS                  3.51
	File::Spec                         3.75
	Module::Build                    0.4234
	Pod::Parser                        1.62
	Pod::Simple                        3.28
	Test2                          1.302207
	Test::Harness                      3.48
	Test::More                     1.302207
	version                          0.9932

******************************** NOTE ********************************
The comments above are created mechanically, possibly without manual
checking by the sender.  As there are many people performing automatic
tests on each upload to CPAN, it is likely that you will receive
identical messages about the same problem.

If you believe that the message is mistaken, please reply to the first
one with correction and/or additional informations, and do not take
it personally.  We appreciate your patience. :)
**********************************************************************

Additional comments:


This report was machine-generated by CPANPLUS::Dist::YACSmoke 1.08.
Powered by minismokebox version 0.68

CPANPLUS is prefering Build.PL

------------------------------
ENVIRONMENT AND OTHER CONTEXT
------------------------------

Environment variables:

    AUTOMATED_TESTING = 1
    LANG = C.UTF-8
    NONINTERACTIVE_TESTING = 1
    PATH = /sbin:/bin:/usr/sbin:/usr/bin:/usr/local/sbin:/usr/local/bin:/home/cpan/bin
    PERL5LIB = /home/cpan/pit/jail/fqTdUG97wa/lib/perl5:/home/cpan/pit/64bit/conf/perl-5.20.3/.cpanplus/5.20.3/build/PgaYH9IZRQ/DateTime-Format-Intl-v0.1.8/blib/lib:/home/cpan/pit/64bit/conf/perl-5.20.3/.cpanplus/5.20.3/build/PgaYH9IZRQ/DateTime-Format-Intl-v0.1.8/blib/arch
    PERL5_CPANPLUS_IS_RUNNING = 86912
    PERL5_CPANPLUS_IS_VERSION = 0.9914
    PERL5_MINISMOKEBOX = 0.68
    PERL5_YACSMOKE_BASE = /home/cpan/pit/64bit/conf/perl-5.20.3
    PERL_EXTUTILS_AUTOINSTALL = --defaultdeps
    PERL_LOCAL_LIB_ROOT = /home/cpan/pit/jail/fqTdUG97wa
    PERL_MB_OPT = --install_base "/home/cpan/pit/jail/fqTdUG97wa"
    PERL_MM_OPT = INSTALL_BASE=/home/cpan/pit/jail/fqTdUG97wa
    PERL_MM_USE_DEFAULT = 1
    SHELL = /usr/local/bin/bash
    TERM = screen

Perl special variables (and OS-specific diagnostics, for MSWin32):

    Perl: $^X = /home/cpan/pit/64bit/perl-5.20.3/bin/perl
    UID:  $<  = 1002
    EUID: $>  = 1002
    GID:  $(  = 1002 1002
    EGID: $)  = 1002 1002


-------------------------------


--

Summary of my perl5 (revision 5 version 20 subversion 3) configuration:
   
  Platform:
    osname=freebsd, osvers=14.1-release, archname=i386-freebsd-64int
    uname='freebsd felgarten 14.1-release freebsd 14.1-release releng14.1-n267679-10e31f0946d8 generic i386 '
    config_args='-des -Dprefix=/home/cpan/pit/64bit/perl-5.20.3 -Duse64bitint'
    hint=recommended, useposix=true, d_sigaction=define
    useithreads=undef, usemultiplicity=undef
    use64bitint=define, use64bitall=undef, uselongdouble=undef
    usemymalloc=n, bincompat5005=undef
  Compiler:
    cc='cc', ccflags ='-DHAS_FPSETMASK -DHAS_FLOATINGPOINT_H -DNO_POSIX_2008_LOCALE -fno-strict-aliasing -pipe -fstack-protector -I/usr/local/include',
    optimize='-O2',
    cppflags='-DHAS_FPSETMASK -DHAS_FLOATINGPOINT_H -DNO_POSIX_2008_LOCALE -fno-strict-aliasing -pipe -fstack-protector -I/usr/local/include'
    ccversion='', gccversion='FreeBSD Clang 18.1.5 (https://github.com/llvm/llvm-project.git llvmorg-18.1.5-0-g617a15a9eac9)', gccosandvers=''
    intsize=4, longsize=4, ptrsize=4, doublesize=8, byteorder=12345678
    d_longlong=define, longlongsize=8, d_longdbl=define, longdblsize=12
    ivtype='long long', ivsize=8, nvtype='double', nvsize=8, Off_t='off_t', lseeksize=8
    alignbytes=4, prototype=define
  Linker and Libraries:
    ld='cc', ldflags ='-Wl,-E  -fstack-protector -L/usr/local/lib'
    libpth=/usr/lib /usr/local/lib /usr/lib/clang/18/lib /usr/lib
    libs=-lpthread -lgdbm -ldl -lm -lcrypt -lutil -lc
    perllibs=-lpthread -ldl -lm -lcrypt -lutil -lc
    libc=, so=so, useshrplib=false, libperl=libperl.a
    gnulibc_version=''
  Dynamic Linking:
    dlsrc=dl_dlopen.xs, dlext=so, d_dlsymun=undef, ccdlflags=' '
    cccdlflags='-DPIC -fPIC', lddlflags='-shared  -L/usr/local/lib -fstack-protector'


Characteristics of this binary (from libperl): 
  Compile-time options: HAS_TIMES PERLIO_LAYERS PERL_DONT_CREATE_GVSV
                        PERL_HASH_FUNC_ONE_AT_A_TIME_HARD PERL_MALLOC_WRAP
                        PERL_NEW_COPY_ON_WRITE PERL_PRESERVE_IVUV
                        USE_64_BIT_INT USE_LARGE_FILES USE_LOCALE
                        USE_LOCALE_COLLATE USE_LOCALE_CTYPE
                        USE_LOCALE_NUMERIC USE_PERLIO USE_PERL_ATOF
  Locally applied patches:
	Devel::PatchPerl 2.09
  Built under freebsd
  Compiled at Jun 27 2024 10:56:46
  %ENV:
    PERL5LIB="/home/cpan/pit/jail/fqTdUG97wa/lib/perl5:/home/cpan/pit/64bit/conf/perl-5.20.3/.cpanplus/5.20.3/build/PgaYH9IZRQ/DateTime-Format-Intl-v0.1.8/blib/lib:/home/cpan/pit/64bit/conf/perl-5.20.3/.cpanplus/5.20.3/build/PgaYH9IZRQ/DateTime-Format-Intl-v0.1.8/blib/arch"
    PERL5_CPANPLUS_IS_RUNNING="86912"
    PERL5_CPANPLUS_IS_VERSION="0.9914"
    PERL5_MINISMOKEBOX="0.68"
    PERL5_YACSMOKE_BASE="/home/cpan/pit/64bit/conf/perl-5.20.3"
    PERL_EXTUTILS_AUTOINSTALL="--defaultdeps"
    PERL_LOCAL_LIB_ROOT="/home/cpan/pit/jail/fqTdUG97wa"
    PERL_MB_OPT="--install_base "/home/cpan/pit/jail/fqTdUG97wa""
    PERL_MM_OPT="INSTALL_BASE=/home/cpan/pit/jail/fqTdUG97wa"
    PERL_MM_USE_DEFAULT="1"
  @INC:
    /home/cpan/pit/jail/fqTdUG97wa/lib/perl5/5.20.3/i386-freebsd-64int
    /home/cpan/pit/jail/fqTdUG97wa/lib/perl5/5.20.3
    /home/cpan/pit/jail/fqTdUG97wa/lib/perl5/i386-freebsd-64int
    /home/cpan/pit/jail/fqTdUG97wa/lib/perl5
    /home/cpan/pit/64bit/conf/perl-5.20.3/.cpanplus/5.20.3/build/PgaYH9IZRQ/DateTime-Format-Intl-v0.1.8/blib/lib
    /home/cpan/pit/64bit/conf/perl-5.20.3/.cpanplus/5.20.3/build/PgaYH9IZRQ/DateTime-Format-Intl-v0.1.8/blib/arch
    /home/cpan/pit/64bit/perl-5.20.3/lib/site_perl/5.20.3/i386-freebsd-64int
    /home/cpan/pit/64bit/perl-5.20.3/lib/site_perl/5.20.3
    /home/cpan/pit/64bit/perl-5.20.3/lib/5.20.3/i386-freebsd-64int
    /home/cpan/pit/64bit/perl-5.20.3/lib/5.20.3
    .