Bread-Board-Declare v0.16 Perl 5 v5.43.2 amd64-netbsd
- Status
- Pass
- From
- Carlos Guevara
- Dist
-
Bread-Board-Declare v0.16
- Platform
- Perl 5 v5.43.2 amd64-netbsd
- Date
- 2025-07-31 12:50:32
- ID
- f1f38640-6e0c-11f0-a23d-8cbd58baf58b
This distribution has been tested as part of the CPAN Testers
project, supporting the Perl programming language. See
http://wiki.cpantesters.org/ for more information or email
questions to cpan-testers-discuss@perl.org
--
Dear Jesse Luehrs,
This is a computer-generated report for Bread-Board-Declare-0.16
on perl 5.43.2, created by CPAN-Reporter-1.2020.
Thank you for uploading your work to CPAN. Congratulations!
All tests were successful.
Sections of this report:
* Tester comments
* Program output
* Prerequisites
* Environment and other context
------------------------------
TESTER COMMENTS
------------------------------
Additional comments from tester:
this report is from an automated smoke testing program
and was not reviewed by a human for accuracy
------------------------------
PROGRAM OUTPUT
------------------------------
Output from '/usr/bin/make test':
PERL_DL_NONLAZY=1 "/home/cpan/bin/perl/bin/perl5.43.2" "-MExtUtils::Command::MM" "-MTest::Harness" "-e" "undef *Test::Harness::Switches; test_harness(0, 'blib/lib', 'blib/arch')" t/*.t
t/00-compile.t .............. ok
t/auto-deref.t .............. ok
t/basic.t ................... ok
t/block.t ................... ok
t/circular-dependency.t ..... ok
t/constructor-name.t ........ ok
t/defaults.t ................ ok
t/deps.t .................... ok
t/extends.t ................. ok
t/infer-loading.t ........... ok
t/infer-subclasses.t ........ ok
t/infer.t ................... ok
t/inheritance.t ............. ok
t/inline-services.t ......... ok
t/inlining.t ................ ok
t/leak.t .................... ok
t/lifecycle.t ............... ok
t/mop.t ..................... ok
t/more-inheritance.t ........ ok
t/multiple-instantiation.t .. ok
t/no-service.t .............. ok
t/parameters.t .............. ok
t/roles.t ................... ok
t/subcontainers.t ........... ok
t/type-checks.t ............. ok
All tests successful.
Files=25, Tests=358, 12 wallclock secs ( 0.09 usr 0.04 sys + 10.92 cusr 1.45 csys = 12.50 CPU)
Result: PASS
------------------------------
PREREQUISITES
------------------------------
Prerequisite modules loaded:
requires:
Module Need Have
---------------------------------- ---- --------
Bread::Board 0 0.37
Bread::Board::BlockInjection 0 0.37
Bread::Board::ConstructorInjection 0 0.37
Bread::Board::Literal 0 0.37
Bread::Board::Service 0 0.37
Bread::Board::Types 0 0.37
Class::Load 0 0.25
Moose 0 2.4000
Moose::Exporter 0 2.4000
Moose::Role 0 2.4000
Moose::Util 0 2.4000
build_requires:
Module Need Have
---------------------------------- ---- --------
File::Spec 0 3.94
IO::Handle 0 1.55
IPC::Open3 0 1.24
lib 0 0.65
Moose::Util::TypeConstraints 0 2.4000
strict 0 1.14
Test::Fatal 0 0.017
Test::Moose 0 2.4000
Test::More 0.88 1.302214
warnings 0 1.74
configure_requires:
Module Need Have
---------------------------------- ---- --------
ExtUtils::MakeMaker 6.30 7.76
------------------------------
ENVIRONMENT AND OTHER CONTEXT
------------------------------
Environment variables:
AUTOMATED_TESTING = 1
DATE_MANIP_TEST_DM5 = 1
LC_ALL = C
NONINTERACTIVE_TESTING = 1
NO_NETWORK_TESTING = 1
PATH = /home/cpan/bin/perl/bin:/home/cpan/bin:/home/cpan/bin:/bin:/sbin:/usr/bin:/usr/sbin:/usr/X11R7/bin:/usr/pkg/bin:/usr/pkg/sbin:/usr/games:/usr/local/bin:/usr/local/sbin
PERL5LIB =
PERL5OPT =
PERL5_CPANPLUS_IS_RUNNING = 26267
PERL5_CPAN_IS_RUNNING = 26267
PERL_MM_USE_DEFAULT = 1
PERL_USE_UNSAFE_INC = 1
SHELL = /usr/pkg/bin/bash
TERM = screen
TMPDIR = /home/cpan/tmp
Perl special variables (and OS-specific diagnostics, for MSWin32):
$^X = /home/cpan/bin/perl/bin/perl5.43.2
$UID/$EUID = 1003 / 1003
$GID = 100 100
$EGID = 100 100
Perl module toolchain versions installed:
Module Have
------------------- --------
CPAN 2.38
CPAN::Meta 2.150010
Cwd 3.94
ExtUtils::CBuilder 0.280242
ExtUtils::Command 7.76
ExtUtils::Install 2.22
ExtUtils::MakeMaker 7.76
ExtUtils::Manifest 1.75
ExtUtils::ParseXS 3.58
File::Spec 3.94
JSON 4.10
JSON::PP 4.16
Module::Build 0.4234
Module::Signature n/a
Parse::CPAN::Meta 2.150010
Test2 1.302214
Test::Harness 3.52
Test::More 1.302214
YAML 1.31
YAML::Syck 1.34
version 0.9933
--
Summary of my perl5 (revision 5 version 43 subversion 2) configuration:
Commit id: 463db482666ccf830e8eb7ab26052dccf4991176
Platform:
osname=netbsd
osvers=10.1
archname=amd64-netbsd
uname='netbsd cjg-netbsd10 10.1 netbsd 10.1 (generic) #0: mon dec 16 13:08:11 utc 2024 mkrepro@mkrepro.netbsd.org:usrsrcsysarchamd64compilegeneric amd64 '
config_args='-des -Dprefix=/home/cpan/bin/perl -Dscriptdir=/home/cpan/bin/perl/bin -Dusedevel -Duse64bitall'
hint=recommended
useposix=true
d_sigaction=define
useithreads=undef
usemultiplicity=undef
use64bitint=define
use64bitall=define
uselongdouble=undef
usemymalloc=n
default_inc_excludes_dot=define
Compiler:
cc='cc'
ccflags ='-fwrapv -fno-strict-aliasing -pipe -fstack-protector-strong -I/usr/pkg/include -D_FORTIFY_SOURCE=2'
optimize='-O'
cppflags='-fwrapv -fno-strict-aliasing -pipe -fstack-protector-strong -I/usr/pkg/include'
ccversion=''
gccversion='10.5.0'
gccosandvers=''
intsize=4
longsize=8
ptrsize=8
doublesize=8
byteorder=12345678
doublekind=3
d_longlong=define
longlongsize=8
d_longdbl=define
longdblsize=16
longdblkind=3
ivtype='long'
ivsize=8
nvtype='double'
nvsize=8
Off_t='off_t'
lseeksize=8
alignbytes=8
prototype=define
Linker and Libraries:
ld='cc'
ldflags =' -Wl,-rpath,/usr/pkg/lib -Wl,-rpath,/usr/local/lib -fstack-protector-strong -L/usr/pkg/lib'
libpth=/usr/lib /usr/pkg/lib /lib
libs=-lpthread -lm -lcrypt -lutil -lc -lposix
perllibs=-lpthread -lm -lcrypt -lutil -lc -lposix
libc=/lib/libc.so
so=so
useshrplib=false
libperl=libperl.a
gnulibc_version=''
Dynamic Linking:
dlsrc=dl_dlopen.xs
dlext=so
d_dlsymun=undef
ccdlflags='-Wl,-E '
cccdlflags='-DPIC -fPIC '
lddlflags='-shared -L/usr/pkg/lib -fstack-protector-strong'
Characteristics of this binary (from libperl):
Compile-time options:
HAS_LONG_DOUBLE
HAS_STRTOLD
HAS_TIMES
PERLIO_LAYERS
PERL_COPY_ON_WRITE
PERL_DONT_CREATE_GVSV
PERL_HASH_FUNC_SIPHASH13
PERL_HASH_USE_SBOX32
PERL_MALLOC_WRAP
PERL_OP_PARENT
PERL_PRESERVE_IVUV
PERL_USE_DEVEL
PERL_USE_SAFE_PUTENV
USE_64_BIT_ALL
USE_64_BIT_INT
USE_LARGE_FILES
USE_LOCALE
USE_LOCALE_COLLATE
USE_LOCALE_CTYPE
USE_LOCALE_NUMERIC
USE_LOCALE_TIME
USE_PERLIO
USE_PERL_ATOF
Built under netbsd
Compiled at Jul 30 2025 16:50:05
%ENV:
PERL5LIB=""
PERL5OPT=""
PERL5_CPANPLUS_IS_RUNNING="26267"
PERL5_CPAN_IS_RUNNING="26267"
PERL_MM_USE_DEFAULT="1"
PERL_USE_UNSAFE_INC="1"
@INC:
/home/cpan/bin/perl/lib/site_perl/5.43.2/amd64-netbsd
/home/cpan/bin/perl/lib/site_perl/5.43.2
/home/cpan/bin/perl/lib/5.43.2/amd64-netbsd
/home/cpan/bin/perl/lib/5.43.2
.