CGI-Buffer v0.82 Perl 5 v5.20.3 x86_64-linux
- Status
- Pass
- From
- Oleg Pronin (SYBER)
- Dist
-
CGI-Buffer v0.82
- Platform
- Perl 5 v5.20.3 x86_64-linux
- Date
- 2019-08-06 19:54:03
- ID
- f14bc198-b883-11e9-a265-11a42958ff60
This distribution has been tested as part of the CPAN Testers
project, supporting the Perl programming language. See
http://wiki.cpantesters.org/ for more information or email
questions to cpan-testers-discuss@perl.org
--
Dear Nigel Horne,
This is a computer-generated report for CGI-Buffer-0.82
on perl 5.20.3, created by CPAN-Reporter-1.2018.
Thank you for uploading your work to CPAN. Congratulations!
All tests were successful.
Sections of this report:
* Tester comments
* Program output
* Prerequisites
* Environment and other context
------------------------------
TESTER COMMENTS
------------------------------
Additional comments from tester:
this report is from an automated smoke testing program
and was not reviewed by a human for accuracy
------------------------------
PROGRAM OUTPUT
------------------------------
Output from '/usr/bin/make test':
PERL_DL_NONLAZY=1 "/home/syber/perl5/perlbrew/perls/5.20.3/bin/perl" "-MExtUtils::Command::MM" "-MTest::Harness" "-e" "undef *Test::Harness::Switches; test_harness(0, 'blib/lib', 'blib/arch')" t/*.t
# Testing CGI::Buffer 0.82, Perl 5.020003, /home/syber/perl5/perlbrew/perls/5.20.3/bin/perl
t/00-load.t ........ ok
t/apoc.t ........... skipped: Test::Apocalypse required for testing the distribution
t/boiler.t ......... ok
t/changes.t ........ skipped: Author tests not required for installation
t/coverage.t ....... ok
t/critic.t ......... skipped: Author tests not required for installation
t/cv.t ............. skipped: Author tests not required for installation
t/dist.t ........... skipped: Author tests not required for installation
t/gv.t ............. skipped: Author tests not required for installation
# Using CHI 0.60
t/is_cached.t ...... ok
t/js.t ............. ok
t/kwalitee.t ....... skipped: Author tests not required for installation
t/last_mod.t ....... ok
t/links.t .......... skipped: Author tests not required for installation
t/manifest.t ....... skipped: Author tests not required for installation
t/metrics.t ........ skipped: Author tests not required for installation
t/namespaces.t ..... skipped: Author tests not required for installation
t/no404s.t ......... skipped: Author tests not required for installation
# Author tests not required for installation
t/noopentickets.t .. ok
t/noplan.t ......... skipped: Author tests not required for installation
# Ignore warning about <a> is never closed
(1:59): <a> at (1:13) is never closed
(1:66): <head> tag is required
(1:66): <title> tag is required
t/output.t ......... ok
t/pod-cm.t ......... ok
t/pod.t ............ skipped: Author tests not required for installation
t/port.t ........... ok
t/prereq.t ......... skipped: Author tests not required for installation
t/snippets.t ....... skipped: Author tests not required for installation
t/spelling.t ....... skipped: Author tests not required for installation
t/strict.t ......... skipped: Author tests not required for installation
# Using CHI 0.60
# Ignore the error that it can't retrieve the given body
Error retrieving data for key xyzzy at t/too_late.t line 0.
Can't retrieve body for key xyzzy at t/too_late.t line 0.
Can't retrieve body for key xyzzy, cache_hash contains:
t/too_late.t ....... ok
t/unused.t ......... skipped: Author tests not required for installation
t/used.t ........... skipped: Author tests not required for installation
t/vars.t ........... skipped: Author tests not required for installation
All tests successful.
Test Summary Report
-------------------
t/boiler.t (Wstat: 0 Tests: 3 Failed: 0)
TODO passed: 1-3
Files=32, Tests=145, 5 wallclock secs ( 0.09 usr 0.00 sys + 4.34 cusr 0.47 csys = 4.90 CPU)
Result: PASS
------------------------------
PREREQUISITES
------------------------------
Prerequisite modules loaded:
requires:
Module Need Have
-------------------- -------- ---------
Carp 0 1.50
CGI::Info 0.51 0.70
Compress::Zlib 0 2.086
CSS::Packer 0 2.07
Digest::MD5 0 2.55
Encode 0 3.01
File::Spec 0 3.75
HTML::Lint 0 2.32
HTML::Packer 1 2.09
HTTP::Date 0 6.02
HTTP::Status 0 6.20
IO::Compress::Brotli 0.003 0.004_002
IO::String 0 1.08
JavaScript::Packer 2 2.04
perl 5.006002 5.020003
Storable 0 3.15_04
Time::localtime 0 1.02
build_requires:
Module Need Have
-------------------- -------- ---------
DateTime 0 1.51
ExtUtils::MakeMaker 0 7.37_03
Test::Most 0 0.35
Test::TempDir::Tiny 0 0.018
WWW::RT::CPAN 0 0.002
configure_requires:
Module Need Have
-------------------- -------- ---------
ExtUtils::MakeMaker 0 7.37_03
------------------------------
ENVIRONMENT AND OTHER CONTEXT
------------------------------
Environment variables:
AUTOMATED_TESTING = 1
LC_COLLATE = ru_RU.utf8
LC_CTYPE = ru_RU.utf8
PATH = /home/syber/perl5/perlbrew/bin:/home/syber/perl5/perlbrew/perls/5.20.3/bin:/usr/local/bin:/usr/bin:/bin:/usr/local/games:/usr/games
PERL5LIB =
PERL5OPT =
PERL5_CPANPLUS_IS_RUNNING = 19196
PERL5_CPAN_IS_RUNNING = 19196
PERL5_CPAN_IS_RUNNING_IN_RECURSION = 24167,19196
PERLBREW_HOME = /home/syber/.perlbrew
PERLBREW_MANPATH = /home/syber/perl5/perlbrew/perls/5.20.3/man
PERLBREW_PATH = /home/syber/perl5/perlbrew/bin:/home/syber/perl5/perlbrew/perls/5.20.3/bin
PERLBREW_PERL = 5.20.3
PERLBREW_ROOT = /home/syber/perl5/perlbrew
PERLBREW_SHELLRC_VERSION = 0.86
PERLBREW_VERSION = 0.86
PERL_CR_SMOKER_CURRENT = CGI-Buffer-0.82
PERL_EXTUTILS_AUTOINSTALL = --defaultdeps
PERL_MM_USE_DEFAULT = 1
PERL_USE_UNSAFE_INC = 1
SHELL = /bin/bash
TERM = screen
Perl special variables (and OS-specific diagnostics, for MSWin32):
$^X = /home/syber/perl5/perlbrew/perls/5.20.3/bin/perl
$UID/$EUID = 1003 / 1003
$GID = 1003 11 1003
$EGID = 1003 11 1003
Perl module toolchain versions installed:
Module Have
------------------- ---------
CPAN 2.27
CPAN::Meta 2.150010
Cwd 3.75
ExtUtils::CBuilder 0.280231
ExtUtils::Command 7.37_03
ExtUtils::Install 2.14
ExtUtils::MakeMaker 7.37_03
ExtUtils::Manifest 1.72
ExtUtils::ParseXS 3.35
File::Spec 3.75
JSON 4.02
JSON::PP 4.04
Module::Build 0.42_30
Module::Signature 0.83
Parse::CPAN::Meta 2.150010
Test::Harness 3.42
Test::More 1.302164
YAML 1.29
YAML::Syck 1.31
version 0.9924_02
--
Summary of my perl5 (revision 5 version 20 subversion 3) configuration:
Platform:
osname=linux, osvers=4.9.0-8-amd64, archname=x86_64-linux
uname='linux dexter.crazypanda.ru 4.9.0-8-amd64 #1 smp debian 4.9.110-3+deb9u6 (2018-10-08) x86_64 gnulinux '
config_args='-de -Dprefix=/home/syber/perl5/perlbrew/perls/5.20.3 -Aeval:scriptdir=/home/syber/perl5/perlbrew/perls/5.20.3/bin'
hint=recommended, useposix=true, d_sigaction=define
useithreads=undef, usemultiplicity=undef
use64bitint=define, use64bitall=define, uselongdouble=undef
usemymalloc=n, bincompat5005=undef
Compiler:
cc='cc', ccflags ='-fwrapv -fno-strict-aliasing -pipe -fstack-protector -I/usr/local/include -D_LARGEFILE_SOURCE -D_FILE_OFFSET_BITS=64',
optimize='-O2',
cppflags='-fwrapv -fno-strict-aliasing -pipe -fstack-protector -I/usr/local/include'
ccversion='', gccversion='6.3.0 20170516', gccosandvers=''
intsize=4, longsize=8, ptrsize=8, doublesize=8, byteorder=12345678
d_longlong=define, longlongsize=8, d_longdbl=define, longdblsize=16
ivtype='long', ivsize=8, nvtype='double', nvsize=8, Off_t='off_t', lseeksize=8
alignbytes=8, prototype=define
Linker and Libraries:
ld='cc', ldflags =' -fstack-protector -L/usr/local/lib'
libpth=/usr/local/lib /usr/lib/gcc/x86_64-linux-gnu/6/include-fixed /usr/include/x86_64-linux-gnu /usr/lib /lib/x86_64-linux-gnu /lib/../lib /usr/lib/x86_64-linux-gnu /usr/lib/../lib /lib
libs=-lpthread -lnsl -ldl -lm -lcrypt -lutil -lc
perllibs=-lpthread -lnsl -ldl -lm -lcrypt -lutil -lc
libc=libc-2.24.so, so=so, useshrplib=false, libperl=libperl.a
gnulibc_version='2.24'
Dynamic Linking:
dlsrc=dl_dlopen.xs, dlext=so, d_dlsymun=undef, ccdlflags='-Wl,-E'
cccdlflags='-fPIC', lddlflags='-shared -O2 -L/usr/local/lib -fstack-protector'
Characteristics of this binary (from libperl):
Compile-time options: HAS_TIMES PERLIO_LAYERS PERL_DONT_CREATE_GVSV
PERL_HASH_FUNC_ONE_AT_A_TIME_HARD PERL_MALLOC_WRAP
PERL_NEW_COPY_ON_WRITE PERL_PRESERVE_IVUV
USE_64_BIT_ALL USE_64_BIT_INT USE_LARGE_FILES
USE_LOCALE USE_LOCALE_COLLATE USE_LOCALE_CTYPE
USE_LOCALE_NUMERIC USE_PERLIO USE_PERL_ATOF
Locally applied patches:
Devel::PatchPerl 1.64
Built under linux
Compiled at Aug 5 2019 14:02:05
%ENV:
PERL5LIB=""
PERL5OPT=""
PERL5_CPANPLUS_IS_RUNNING="19196"
PERL5_CPAN_IS_RUNNING="19196"
PERL5_CPAN_IS_RUNNING_IN_RECURSION="24167,19196"
PERLBREW_HOME="/home/syber/.perlbrew"
PERLBREW_MANPATH="/home/syber/perl5/perlbrew/perls/5.20.3/man"
PERLBREW_PATH="/home/syber/perl5/perlbrew/bin:/home/syber/perl5/perlbrew/perls/5.20.3/bin"
PERLBREW_PERL="5.20.3"
PERLBREW_ROOT="/home/syber/perl5/perlbrew"
PERLBREW_SHELLRC_VERSION="0.86"
PERLBREW_VERSION="0.86"
PERL_CR_SMOKER_CURRENT="CGI-Buffer-0.82"
PERL_EXTUTILS_AUTOINSTALL="--defaultdeps"
PERL_MM_USE_DEFAULT="1"
PERL_USE_UNSAFE_INC="1"
@INC:
/home/syber/perl5/perlbrew/perls/5.20.3/lib/site_perl/5.20.3/x86_64-linux
/home/syber/perl5/perlbrew/perls/5.20.3/lib/site_perl/5.20.3
/home/syber/perl5/perlbrew/perls/5.20.3/lib/5.20.3/x86_64-linux
/home/syber/perl5/perlbrew/perls/5.20.3/lib/5.20.3
.