Report for Dist-Zilla-Plugin-CheckExtraTests-0.021

Back
From: metabase:user:00e8548a-0e72-11e3-8ee3-df0a9c418065
Subject: PASS Dist-Zilla-Plugin-CheckExtraTests-0.021 v5.16.3 GNU/Linux
Date: 2014-04-03T01:33:19Z

This distribution has been tested as part of the CPAN Testers
project, supporting the Perl programming language.  See
http://wiki.cpantesters.org/ for more information or email
questions to cpan-testers-discuss@perl.org


--
Dear David Golden,

This is a computer-generated report for Dist-Zilla-Plugin-CheckExtraTests-0.021
on perl 5.16.3, created by CPAN-Reporter-1.2010.

Thank you for uploading your work to CPAN.  Congratulations!
All tests were successful.

Sections of this report:

    * Tester comments
    * Program output
    * Prerequisites
    * Environment and other context

------------------------------
TESTER COMMENTS
------------------------------

Additional comments from tester:

this report is from an automated smoke testing program
and was not reviewed by a human for accuracy

------------------------------
PROGRAM OUTPUT
------------------------------

Output from '/usr/bin/make test':

PERL_DL_NONLAZY=1 /root/perl5/perlbrew/perls/perl-5.16.3/bin/perl "-MExtUtils::Command::MM" "-MTest::Harness" "-e" "undef *Test::Harness::Switches; test_harness(0, 'blib/lib', 'blib/arch')" t/*.t
# 
# Versions for all modules listed in MYMETA.json (including optional ones):
#    Version Module                          
#   -------- --------------------------------
#       3.28 App::Prove                      
#       1.92 Archive::Tar                    
#   2.132661 CPAN::Meta                      
#      2.125 CPAN::Meta::Requirements        
#       0.22 Capture::Tiny                   
#   4.300039 Dist::Zilla                     
#   4.300039 Dist::Zilla::App                
#   4.300039 Dist::Zilla::App::Tester        
#   4.300039 Dist::Zilla::Role::BeforeRelease
#   4.300039 Dist::Zilla::Role::TestRunner   
#   4.300039 Dist::Zilla::Tester             
#       6.78 ExtUtils::MakeMaker             
#       3.40 File::Spec::Functions           
#      1.005 File::pushd                     
#       1.31 List::Util                      
#     2.1005 Moose                           
#       0.13 Moose::Autobox                  
#       1.07 Params::Util                    
#      1.005 Path::Iterator::Rule            
#      0.031 Path::Tiny                      
#      0.986 Sub::Exporter                   
#       0.98 Test::More                      
#       0.07 Test::Requires                  
#       0.18 Try::Tiny                       
#       0.63 lib                             
#       0.13 namespace::autoclean            
#       1.07 strict                          
#       0.99 version                         
#       1.13 warnings                        
t/00-report-prereqs.t .. ok
t/checkxt.t ............ ok
t/runxt.t .............. ok
t/withblib.t ........... ok
All tests successful.
Files=4, Tests=16,  8 wallclock secs ( 0.01 usr  0.00 sys +  3.47 cusr  1.14 csys =  4.62 CPU)
Result: PASS

------------------------------
PREREQUISITES
------------------------------

Prerequisite modules loaded:

requires:

    Module                           Need  Have    
    -------------------------------- ----- --------
    App::Prove                       3.00  3.28    
    Archive::Tar                     0     1.92    
    Dist::Zilla                      4.3   4.300039
    Dist::Zilla::App                 0     4.300039
    Dist::Zilla::Role::BeforeRelease 0     4.300039
    Dist::Zilla::Role::TestRunner    0     4.300039
    File::pushd                      0     1.005   
    Moose                            2     2.1005  
    Moose::Autobox                   0     0.13    
    namespace::autoclean             0.09  0.13    
    Path::Iterator::Rule             0     1.005   
    Path::Tiny                       0.013 0.031   
    strict                           0     1.07    
    warnings                         0     1.13    

build_requires:

    Module                           Need  Have    
    -------------------------------- ----- --------
    Capture::Tiny                    0     0.22    
    Dist::Zilla::App::Tester         0     4.300039
    Dist::Zilla::Tester              0     4.300039
    ExtUtils::MakeMaker              0     6.78    
    File::Spec::Functions            0     3.40    
    lib                              0     0.63    
    List::Util                       0     1.31    
    Params::Util                     0     1.07    
    Sub::Exporter                    0     0.986   
    Test::More                       0.88  0.98    
    Test::Requires                   0     0.07    
    Try::Tiny                        0     0.18    
    version                          0     0.99    

configure_requires:

    Module                           Need  Have    
    -------------------------------- ----- --------
    ExtUtils::MakeMaker              6.17  6.78    


------------------------------
ENVIRONMENT AND OTHER CONTEXT
------------------------------

Environment variables:

    AUTOMATED_TESTING = 1
    LANG = en_US.UTF-8
    PATH = /root/perl5/perlbrew/bin:/root/perl5/perlbrew/perls/perl-5.16.3/bin:/usr/kerberos/sbin:/usr/kerberos/bin:/usr/local/sbin:/usr/local/bin:/sbin:/bin:/usr/sbin:/usr/bin:/root/bin
    PERL5LIB = 
    PERL5OPT = 
    PERL5_CPANPLUS_IS_RUNNING = 18764
    PERL5_CPAN_IS_RUNNING = 18764
    PERL5_CPAN_IS_RUNNING_IN_RECURSION = 26470,18764
    PERLBREW_BASHRC_VERSION = 0.66
    PERLBREW_HOME = /root/.perlbrew
    PERLBREW_MANPATH = /root/perl5/perlbrew/perls/perl-5.16.3/man
    PERLBREW_PATH = /root/perl5/perlbrew/bin:/root/perl5/perlbrew/perls/perl-5.16.3/bin
    PERLBREW_PERL = perl-5.16.3
    PERLBREW_ROOT = /root/perl5/perlbrew
    PERLBREW_VERSION = 0.66
    PERL_CR_SMOKER_CURRENT = Dist-Zilla-Plugin-CheckExtraTests-0.021
    PERL_EXTUTILS_AUTOINSTALL = --defaultdeps
    PERL_MM_USE_DEFAULT = 1
    SHELL = /bin/bash
    TERM = linux

Perl special variables (and OS-specific diagnostics, for MSWin32):

    $^X = /root/perl5/perlbrew/perls/perl-5.16.3/bin/perl
    $UID/$EUID = 0 / 0
    $GID = 0 0 1 2 3 4 6 10
    $EGID = 0 0 1 2 3 4 6 10

Perl module toolchain versions installed:

    Module              Have    
    ------------------- --------
    CPAN                2.00    
    CPAN::Meta          2.132661
    Cwd                 3.40    
    ExtUtils::CBuilder  0.280212
    ExtUtils::Command   1.18    
    ExtUtils::Install   1.58    
    ExtUtils::MakeMaker 6.78    
    ExtUtils::Manifest  1.63    
    ExtUtils::ParseXS   3.22    
    File::Spec          3.40    
    JSON                2.59    
    JSON::PP            2.27202 
    Module::Build       0.4007  
    Module::Signature   n/a     
    Parse::CPAN::Meta   1.4405  
    Test::Harness       3.28    
    Test::More          0.98    
    YAML                0.84    
    YAML::Syck          1.27    
    version             0.99    


--

Summary of my perl5 (revision 5 version 16 subversion 3) configuration:
   
  Platform:
    osname=linux, osvers=2.6.18-348.16.1.el5, archname=x86_64-linux
    uname='linux localhost.localdomain 2.6.18-348.16.1.el5 #1 smp wed aug 21 04:00:25 edt 2013 x86_64 x86_64 x86_64 gnulinux '
    config_args='-de -Dprefix=/root/perl5/perlbrew/perls/perl-5.16.3 -Aeval:scriptdir=/root/perl5/perlbrew/perls/perl-5.16.3/bin'
    hint=recommended, useposix=true, d_sigaction=define
    useithreads=undef, usemultiplicity=undef
    useperlio=define, d_sfio=undef, uselargefiles=define, usesocks=undef
    use64bitint=define, use64bitall=define, uselongdouble=undef
    usemymalloc=n, bincompat5005=undef
  Compiler:
    cc='cc', ccflags ='-fno-strict-aliasing -pipe -fstack-protector -I/usr/local/include -D_LARGEFILE_SOURCE -D_FILE_OFFSET_BITS=64',
    optimize='-O2',
    cppflags='-fno-strict-aliasing -pipe -fstack-protector -I/usr/local/include'
    ccversion='', gccversion='4.1.2 20080704 (Red Hat 4.1.2-54)', gccosandvers=''
    intsize=4, longsize=8, ptrsize=8, doublesize=8, byteorder=12345678
    d_longlong=define, longlongsize=8, d_longdbl=define, longdblsize=16
    ivtype='long', ivsize=8, nvtype='double', nvsize=8, Off_t='off_t', lseeksize=8
    alignbytes=8, prototype=define
  Linker and Libraries:
    ld='cc', ldflags =' -fstack-protector -L/usr/local/lib'
    libpth=/usr/local/lib /lib /usr/lib /lib64 /usr/lib64 /usr/local/lib64
    libs=-lnsl -ldl -lm -lcrypt -lutil -lc
    perllibs=-lnsl -ldl -lm -lcrypt -lutil -lc
    libc=/lib/libc-2.5.so, so=so, useshrplib=false, libperl=libperl.a
    gnulibc_version='2.5'
  Dynamic Linking:
    dlsrc=dl_dlopen.xs, dlext=so, d_dlsymun=undef, ccdlflags='-Wl,-E'
    cccdlflags='-fPIC', lddlflags='-shared -O2 -L/usr/local/lib -fstack-protector'


Characteristics of this binary (from libperl): 
  Compile-time options: HAS_TIMES PERLIO_LAYERS PERL_DONT_CREATE_GVSV
                        PERL_MALLOC_WRAP PERL_PRESERVE_IVUV USE_64_BIT_ALL
                        USE_64_BIT_INT USE_LARGE_FILES USE_LOCALE
                        USE_LOCALE_COLLATE USE_LOCALE_CTYPE
                        USE_LOCALE_NUMERIC USE_PERLIO USE_PERL_ATOF
  Built under linux
  Compiled at Aug 26 2013 11:51:42
  %ENV:
    PERL5LIB=""
    PERL5OPT=""
    PERL5_CPANPLUS_IS_RUNNING="18764"
    PERL5_CPAN_IS_RUNNING="18764"
    PERL5_CPAN_IS_RUNNING_IN_RECURSION="26470,18764"
    PERLBREW_BASHRC_VERSION="0.66"
    PERLBREW_HOME="/root/.perlbrew"
    PERLBREW_MANPATH="/root/perl5/perlbrew/perls/perl-5.16.3/man"
    PERLBREW_PATH="/root/perl5/perlbrew/bin:/root/perl5/perlbrew/perls/perl-5.16.3/bin"
    PERLBREW_PERL="perl-5.16.3"
    PERLBREW_ROOT="/root/perl5/perlbrew"
    PERLBREW_VERSION="0.66"
    PERL_CR_SMOKER_CURRENT="Dist-Zilla-Plugin-CheckExtraTests-0.021"
    PERL_EXTUTILS_AUTOINSTALL="--defaultdeps"
    PERL_MM_USE_DEFAULT="1"
  @INC:
    /root/perl5/perlbrew/perls/perl-5.16.3/lib/site_perl/5.16.3/x86_64-linux
    /root/perl5/perlbrew/perls/perl-5.16.3/lib/site_perl/5.16.3
    /root/perl5/perlbrew/perls/perl-5.16.3/lib/5.16.3/x86_64-linux
    /root/perl5/perlbrew/perls/perl-5.16.3/lib/5.16.3
    .