LaTeXML v0.8.8 Perl 5 v5.24.0 amd64-freebsd
- Status
- Pass
- From
- Slaven Rezić
- Dist
-
LaTeXML v0.8.8
- Platform
- Perl 5 v5.24.0 amd64-freebsd
- Date
- 2024-02-28 16:53:46
- ID
- f05e8cea-d659-11ee-b6c9-0b136e8775ea
This distribution has been tested as part of the CPAN Testers
project, supporting the Perl programming language. See
http://wiki.cpantesters.org/ for more information or email
questions to cpan-testers-discuss@perl.org
--
Dear Bruce Miller,
This is a computer-generated report for LaTeXML-0.8.8
on perl 5.24.0, created by CPAN-Reporter-1.2019.
Thank you for uploading your work to CPAN. Congratulations!
All tests were successful.
Sections of this report:
* Tester comments
* Program output
* Prerequisites
* Environment and other context
------------------------------
TESTER COMMENTS
------------------------------
Additional comments from tester:
none provided
------------------------------
PROGRAM OUTPUT
------------------------------
Output from '/usr/bin/make test':
PERL_DL_NONLAZY=1 "/usr/perl5.24.0p/bin/perl" "-MExtUtils::Command::MM" "-MTest::Harness" "-e" "undef *Test::Harness::Switches; test_harness(0, 'blib/lib', 'blib/arch')" t/*.t
Missing argument in sprintf at /usr/perl5.24.0p/lib/site_perl/5.24.0/Text/Wrap.pm line 15.
#
# LaTeXML version 0.8.8
# XML::LibXML 2.0210; libxml2 20904
# XML::LibXSLT 2.002000; libxslt 10129
# TeX 3.14159265 (Web2C 2015)
t/000_test_context.t ...... ok
Missing argument in sprintf at /usr/perl5.24.0p/lib/site_perl/5.24.0/Text/Wrap.pm line 15.
t/002_unit_findfile.t ..... ok
# Skip: This unit test only examines basic Image::Magick conversion, when installed.
t/003_unit_imagemagick.t .. ok
Missing argument in sprintf at /usr/perl5.24.0p/lib/site_perl/5.24.0/Text/Wrap.pm line 15.
t/00_unittest.t ........... ok
t/05_tokenize.t ........... ok
t/10_expansion.t .......... ok
t/12_grouping.t ........... ok
Missing argument in sprintf at /usr/perl5.24.0p/lib/site_perl/5.24.0/Text/Wrap.pm line 15.
t/170_grammar_coverage.t .. skipped: Only checked in continuous integration. (use make test CI=true)
t/20_digestion.t .......... ok
t/22_fonts.t .............. ok
t/30_encoding.t ........... ok
t/32_keyval.t ............. ok
t/33_keyval_options.t ..... ok
t/40_math.t ............... ok
# Skip: Minimal texlive 2021 requirement not met for t/structure/figure_grids
# Skip: Minimal texlive 2016 requirement not met for t/structure/glossary
t/50_structure.t .......... ok
t/52_namespace.t .......... ok
t/53_alignment.t .......... ok
t/55_theorem.t ............ ok
t/56_ams.t ................ ok
t/65_graphics.t ........... ok
t/70_parse.t .............. ok
# Skip: Minimal texlive 2021 requirement not met for t/complex/figure_dual_caption
# Skip: Minimal texlive 2021 requirement not met for t/complex/figure_mixed_content
# Skip: Minimal texlive 2015 requirement not met for t/complex/si
t/80_complex.t ............ ok
# Skip: Minimal texlive 2015 requirement not met for t/babel/csquotes
t/81_babel.t .............. ok
t/82_moderncv.t ........... ok
# Skip: Minimal texlive 2018 requirement not met for t/expl3/tilde_tricks
# Skip: Minimal texlive 2019 requirement not met for t/expl3/xparse
t/83_expl3.t .............. ok
t/84_slides.t ............. ok
t/90_latexmlpost.t ........ ok
Missing argument in sprintf at /usr/perl5.24.0p/lib/site_perl/5.24.0/Text/Wrap.pm line 15.
t/91_latexmlc_api.t ....... ok
Missing argument in sprintf at /usr/perl5.24.0p/lib/site_perl/5.24.0/Text/Wrap.pm line 15.
Missing argument in sprintf at /usr/perl5.24.0p/lib/site_perl/5.24.0/Text/Wrap.pm line 15.
Missing argument in sprintf at /usr/perl5.24.0p/lib/site_perl/5.24.0/Text/Wrap.pm line 15.
Missing argument in sprintf at /usr/perl5.24.0p/lib/site_perl/5.24.0/Text/Wrap.pm line 15.
t/92_profiles.t ........... ok
t/931_epub.t .............. ok
Missing argument in sprintf at /usr/perl5.24.0p/lib/site_perl/5.24.0/Text/Wrap.pm line 15.
Missing argument in sprintf at /usr/perl5.24.0p/lib/site_perl/5.24.0/Text/Wrap.pm line 15.
Missing argument in sprintf at /usr/perl5.24.0p/lib/site_perl/5.24.0/Text/Wrap.pm line 15.
Missing argument in sprintf at /usr/perl5.24.0p/lib/site_perl/5.24.0/Text/Wrap.pm line 15.
Missing argument in sprintf at /usr/perl5.24.0p/lib/site_perl/5.24.0/Text/Wrap.pm line 15.
Missing argument in sprintf at /usr/perl5.24.0p/lib/site_perl/5.24.0/Text/Wrap.pm line 15.
Missing argument in sprintf at /usr/perl5.24.0p/lib/site_perl/5.24.0/Text/Wrap.pm line 15.
Missing argument in sprintf at /usr/perl5.24.0p/lib/site_perl/5.24.0/Text/Wrap.pm line 15.
Missing argument in sprintf at /usr/perl5.24.0p/lib/site_perl/5.24.0/Text/Wrap.pm line 15.
Missing argument in sprintf at /usr/perl5.24.0p/lib/site_perl/5.24.0/Text/Wrap.pm line 15.
Missing argument in sprintf at /usr/perl5.24.0p/lib/site_perl/5.24.0/Text/Wrap.pm line 15.
Missing argument in sprintf at /usr/perl5.24.0p/lib/site_perl/5.24.0/Text/Wrap.pm line 15.
t/93_formats.t ............ ok
t/94_runtimes.t ........... ok
Missing argument in sprintf at /usr/perl5.24.0p/lib/site_perl/5.24.0/Text/Wrap.pm line 15.
t/95_complex_config.t ..... ok
Missing argument in sprintf at /usr/perl5.24.0p/lib/site_perl/5.24.0/Text/Wrap.pm line 15.
Missing argument in sprintf at /usr/perl5.24.0p/lib/site_perl/5.24.0/Text/Wrap.pm line 15.
t/96_fatal.t .............. ok
t/97_manifest.t ........... skipped: Only checked in continuous integration. (use make test CI=true)
All tests successful.
Files=35, Tests=452, 429 wallclock secs ( 0.08 usr 0.23 sys + 380.21 cusr 35.23 csys = 415.75 CPU)
Result: PASS
------------------------------
PREREQUISITES
------------------------------
Prerequisite modules loaded:
requires:
Module Need Have
------------------- -------- --------
Archive::Zip 0 1.67
DB_File 0 1.859
File::Which 0 1.27
Getopt::Long 2.37 2.55
Image::Size 0 3.300
IO::Handle 0 1.55
IO::String 0 1.08
JSON::XS 0 4.03
LWP 0 6.72
MIME::Base64 0 3.16
Parse::RecDescent 0 1.967015
perl 5.010001 5.024000
Pod::Parser 0 1.66
Test::More 0 1.302198
Text::Unidecode 0 1.30
Time::HiRes 0 1.9764
URI 0 5.26
version 0 0.9930
XML::LibXML 1.61 2.0210
XML::LibXSLT 1.58 2.002000
build_requires:
Module Need Have
------------------- -------- --------
ExtUtils::MakeMaker 0 7.70
------------------------------
ENVIRONMENT AND OTHER CONTEXT
------------------------------
Environment variables:
LC_ALL = de_DE.ISO8859-1
PATH = /usr/local/bin:/usr/bin:/bin:/usr/local/sbin:/usr/sbin:/sbin:/home/cpansand/bin/freebsd10.3:/home/cpansand/bin/sh:/home/cpansand/bin:/usr/games:/home/cpansand/devel:/home/eserte/src/srezic-misc/scripts
PERL5LIB =
PERL5OPT =
PERL5_CPANPLUS_IS_RUNNING = 58782
PERL5_CPAN_IS_RUNNING = 58782
PERL5_CPAN_IS_RUNNING_IN_RECURSION = 55490,58782
PERLDOC = -MPod::Perldoc::ToTextOverstrike
PERL_BATCH = yes
PERL_CANARY_STABILITY_NOPROMPT = 1
PERL_CPAN_REPORTER_CONFIG = /var/tmp/cpansmoker-1023/2024022807/cpanreporter_000_config.ini
PERL_EXTUTILS_AUTOINSTALL = --defaultdeps
PERL_USE_UNSAFE_INC = 1
SHELL = /usr/local/bin/zsh
TERM = screen
TMPDIR = /var/tmp/cpansmoker-1023/2024022807
Perl special variables (and OS-specific diagnostics, for MSWin32):
$^X = /usr/perl5.24.0p/bin/perl
$UID/$EUID = 1023 / 1023
$GID = 1023 1023
$EGID = 1023 1023
Perl module toolchain versions installed:
Module Have
------------------- --------
CPAN 2.34
CPAN::Meta 2.150010
Cwd 3.75
ExtUtils::CBuilder 0.280236
ExtUtils::Command 7.70
ExtUtils::Install 2.22
ExtUtils::MakeMaker 7.70
ExtUtils::Manifest 1.75
ExtUtils::ParseXS 3.51
File::Spec 3.75
JSON 4.10
JSON::PP 4.16
Module::Build 0.4234
Module::Signature 0.87
Parse::CPAN::Meta 2.150010
Test2 1.302198
Test::Harness 3.47
Test::More 1.302198
YAML 1.30
YAML::Syck 1.34
version 0.9930
--
Summary of my perl5 (revision 5 version 24 subversion 0) configuration:
Platform:
osname=freebsd, osvers=10.1-release, archname=amd64-freebsd
uname='freebsd cvrsnica-freebsd-101.herceg.de 10.1-release freebsd 10.1-release #0 r274401: tue nov 11 21:02:49 utc 2014 root@releng1.nyi.freebsd.org:usrobjusrsrcsysgeneric amd64 '
config_args='-ds -e -Dprefix=/usr/perl5.24.0p -Dcf_email=srezic@cpan.org -Doptimize=-O2 -pipe'
hint=recommended, useposix=true, d_sigaction=define
useithreads=undef, usemultiplicity=undef
use64bitint=define, use64bitall=define, uselongdouble=undef
usemymalloc=n, bincompat5005=undef
Compiler:
cc='cc', ccflags ='-DHAS_FPSETMASK -DHAS_FLOATINGPOINT_H -fno-strict-aliasing -pipe -fstack-protector -I/usr/local/include -D_FORTIFY_SOURCE=2',
optimize='-O2 -pipe',
cppflags='-DHAS_FPSETMASK -DHAS_FLOATINGPOINT_H -fno-strict-aliasing -pipe -fstack-protector -I/usr/local/include'
ccversion='', gccversion='4.2.1 Compatible FreeBSD Clang 3.4.1 (tags/RELEASE_34/dot1-final 208032)', gccosandvers=''
intsize=4, longsize=8, ptrsize=8, doublesize=8, byteorder=12345678, doublekind=3
d_longlong=define, longlongsize=8, d_longdbl=define, longdblsize=16, longdblkind=3
ivtype='long', ivsize=8, nvtype='double', nvsize=8, Off_t='off_t', lseeksize=8
alignbytes=8, prototype=define
Linker and Libraries:
ld='cc', ldflags ='-pthread -Wl,-E -fstack-protector -L/usr/local/lib'
libpth=/usr/lib /usr/local/lib /usr/include/clang/3.4.1 /usr/lib
libs=-lpthread -lgdbm -lm -lcrypt -lutil -lc
perllibs=-lpthread -lm -lcrypt -lutil -lc
libc=, so=so, useshrplib=false, libperl=libperl.a
gnulibc_version=''
Dynamic Linking:
dlsrc=dl_dlopen.xs, dlext=so, d_dlsymun=undef, ccdlflags=' '
cccdlflags='-DPIC -fPIC', lddlflags='-shared -L/usr/local/lib -fstack-protector'
Characteristics of this binary (from libperl):
Compile-time options: HAS_TIMES PERLIO_LAYERS PERL_COPY_ON_WRITE
PERL_DONT_CREATE_GVSV
PERL_HASH_FUNC_ONE_AT_A_TIME_HARD PERL_MALLOC_WRAP
PERL_PRESERVE_IVUV USE_64_BIT_ALL USE_64_BIT_INT
USE_LARGE_FILES USE_LOCALE USE_LOCALE_COLLATE
USE_LOCALE_CTYPE USE_LOCALE_NUMERIC USE_LOCALE_TIME
USE_PERLIO USE_PERL_ATOF
Built under freebsd
Compiled at May 10 2016 08:49:38
%ENV:
PERL5LIB=""
PERL5OPT=""
PERL5_CPANPLUS_IS_RUNNING="58782"
PERL5_CPAN_IS_RUNNING="58782"
PERL5_CPAN_IS_RUNNING_IN_RECURSION="55490,58782"
PERLDOC="-MPod::Perldoc::ToTextOverstrike"
PERL_BATCH="yes"
PERL_CANARY_STABILITY_NOPROMPT="1"
PERL_CPAN_REPORTER_CONFIG="/var/tmp/cpansmoker-1023/2024022807/cpanreporter_000_config.ini"
PERL_EXTUTILS_AUTOINSTALL="--defaultdeps"
PERL_USE_UNSAFE_INC="1"
@INC:
/usr/perl5.24.0p/lib/site_perl/5.24.0/amd64-freebsd
/usr/perl5.24.0p/lib/site_perl/5.24.0
/usr/perl5.24.0p/lib/5.24.0/amd64-freebsd
/usr/perl5.24.0p/lib/5.24.0
.