Back
From: metabase:user:8286d1fc-3d52-11e2-9ec4-cb9cdd236785
Subject: PASS Test-Unit-0.25 v5.12.2 GNU/Linux
Date: 2013-10-08T02:18:36Z
This distribution has been tested as part of the CPAN Testers
project, supporting the Perl programming language. See
http://wiki.cpantesters.org/ for more information or email
questions to cpan-testers-discuss@perl.org
--
Dear Matthew Astley,
This is a computer-generated report for Test-Unit-0.25
on perl 5.12.2, created by CPAN-Reporter-1.2010.
Thank you for uploading your work to CPAN. Congratulations!
All tests were successful.
Sections of this report:
* Tester comments
* Program output
* Prerequisites
* Environment and other context
------------------------------
TESTER COMMENTS
------------------------------
Additional comments from tester:
this report is from an automated smoke testing program
and was not reviewed by a human for accuracy
------------------------------
PROGRAM OUTPUT
------------------------------
Output from '/usr/local/bin/make test':
PERL_DL_NONLAZY=1 /opt/perl443-26-no-5.12.2/bin/perl "-MExtUtils::Command::MM" "-MTest::Harness" "-e" "undef *Test::Harness::Switches; test_harness(0, 'blib/lib', 'blib/arch')" t/*.t
t/all_tests.t ..... ok
t/assert.t ........ ok
t/try_examples.t .. ok
All tests successful.
Files=3, Tests=89, 4 wallclock secs ( 0.08 usr 0.01 sys + 2.83 cusr 0.19 csys = 3.11 CPU)
Result: PASS
------------------------------
PREREQUISITES
------------------------------
Prerequisite modules loaded:
requires:
Module Need Have
------------------- ---- --------
base 1 2.18
Class::Inner 0 0.200001
Devel::Symdump 0 2.10
Error 0 0.17021
build_requires:
Module Need Have
------------------- ---- --------
ExtUtils::MakeMaker 0 6.78
------------------------------
ENVIRONMENT AND OTHER CONTEXT
------------------------------
Environment variables:
AUTHOR_TESTING = 1
AUTOMATED_TESTING = 1
LANG = en_US.UTF-8
LD_LIBRARY_PATH = /usr/local/lib
PATH = /usr/lib/qt-3.3/bin:/usr/kerberos/sbin:/usr/kerberos/bin:/usr/lib/ccache:/usr/local/sbin:/usr/local/bin:/sbin:/bin:/usr/sbin:/usr/bin:/usr/X11R6/bin:/usr/lib/alliance/bin:/opt/real/RealPlayer:/root/bin:/usr/lib/alliance/bin:/opt/real/RealPlayer
PERL5LIB =
PERL5OPT =
PERL5_CPANPLUS_IS_RUNNING = 6638
PERL5_CPAN_IS_RUNNING = 6638
PERL_ANYEVENT_MODEL = POE
PERL_MM_NONINTERACTIVE = 1
PERL_MM_USE_DEFAULT = 1
SHELL = /bin/bash
TERM = xterm
Perl special variables (and OS-specific diagnostics, for MSWin32):
$^X = /opt/perl443-26-no-5.12.2/bin/perl
$UID/$EUID = 0 / 0
$GID = 0 0 1 2 3 4 6 10
$EGID = 0 0 1 2 3 4 6 10
Perl module toolchain versions installed:
Module Have
------------------- --------
CPAN 1.94_56
CPAN::Meta 2.132661
Cwd 3.40
ExtUtils::CBuilder 0.280212
ExtUtils::Command 1.16
ExtUtils::Install 1.55
ExtUtils::MakeMaker 6.78
ExtUtils::Manifest 1.63
ExtUtils::ParseXS 2.21
File::Spec 3.40
JSON 2.59
JSON::PP 2.27202
Module::Build 0.4007
Module::Signature 0.73
Parse::CPAN::Meta 1.4409
Test::Harness 3.17
Test::More 0.98
YAML n/a
YAML::Syck 1.27
version 0.9904
--
Summary of my perl5 (revision 5 version 12 subversion 2) configuration:
Platform:
osname=linux, osvers=2.6.26-gogol.1, archname=i686-linux-stdio
uname='linux localhost.localdomain 2.6.26-gogol.1 #1 smp fri dec 25 22:04:40 msk 2009 i686 i686 i386 gnulinux '
config_args='-Dcc=/opt/443/bin/gcc/bin/gcc -Doptimize=-O3 -DDMALLOC=/usr/local/bin/dmalloc -Dprefix=/opt/perl443-26-no-5.12.2 -DDEBUGGING'
hint=recommended, useposix=true, d_sigaction=define
useithreads=undef, usemultiplicity=undef
useperlio=undef, d_sfio=undef, uselargefiles=undef, usesocks=undef
use64bitint=undef, use64bitall=undef, uselongdouble=undef
usemymalloc=n, bincompat5005=undef
Compiler:
cc='/opt/443/bin/gcc/bin/gcc', ccflags ='-DDMALLOC',
optimize='-O3 -g',
cppflags='-DDMALLOC'
ccversion='', gccversion='4.4.3', gccosandvers=''
intsize=4, longsize=4, ptrsize=4, doublesize=8, byteorder=1234
d_longlong=define, longlongsize=8, d_longdbl=define, longdblsize=12
ivtype='long', ivsize=4, nvtype='double', nvsize=8, Off_t='off_t', lseeksize=4
alignbytes=4, prototype=define
Linker and Libraries:
ld='/opt/443/bin/gcc/bin/gcc', ldflags =' -L/usr/local/lib'
libpth=/usr/local/lib /lib /usr/lib
libs=-lnsl -lgdbm -ldb -ldl -lm -lcrypt -lutil -lc
perllibs=-lnsl -ldl -lm -lcrypt -lutil -lc
libc=/lib/libc-2.5.so, so=so, useshrplib=false, libperl=libperl.a
gnulibc_version='2.5'
Dynamic Linking:
dlsrc=dl_dlopen.xs, dlext=so, d_dlsymun=undef, ccdlflags='-Wl,-E'
cccdlflags='-fPIC', lddlflags='-shared -O3 -g -L/usr/local/lib'
Characteristics of this binary (from libperl):
Compile-time options: PERL_DONT_CREATE_GVSV PERL_MALLOC_WRAP USE_PERL_ATOF
Built under linux
Compiled at Oct 5 2013 19:38:14
%ENV:
PERL5LIB=""
PERL5OPT=""
PERL5_CPANPLUS_IS_RUNNING="6638"
PERL5_CPAN_IS_RUNNING="6638"
PERL_ANYEVENT_MODEL="POE"
PERL_MM_NONINTERACTIVE="1"
PERL_MM_USE_DEFAULT="1"
@INC:
/opt/perl443-26-no-5.12.2/lib/site_perl/5.12.2/i686-linux-stdio
/opt/perl443-26-no-5.12.2/lib/site_perl/5.12.2
/opt/perl443-26-no-5.12.2/lib/5.12.2/i686-linux-stdio
/opt/perl443-26-no-5.12.2/lib/5.12.2
.