HTML-Shakan v2.10 Perl 5 v5.20.0 x86_64-linux

Status
Pass
From
Nedzad Hrnjica (NHRNJICA)
Dist
HTML-Shakan v2.10
Platform
Perl 5 v5.20.0 x86_64-linux
Date
2022-08-12 14:49:16
ID
f02a06a6-1a4d-11ed-a328-029d28f29030
This distribution has been tested as part of the CPAN Testers
project, supporting the Perl programming language.  See
http://wiki.cpantesters.org/ for more information or email
questions to cpan-testers-discuss@perl.org


--
Dear SONGMU,

This is a computer-generated report for HTML-Shakan-2.10
on perl 5.20.0, created by App::cpanminus::reporter 0.17 (1.7046).

Thank you for uploading your work to CPAN.  Congratulations!
All tests were successful.

Sections of this report:

    * Tester comments
    * Program output
    * Prerequisites
    * Environment and other context

------------------------------
TESTER COMMENTS
------------------------------

Additional comments from tester:

none provided

------------------------------
PROGRAM OUTPUT
------------------------------

Output from '':

Building and testing HTML-Shakan-2.10
cp lib/HTML/Shakan/Filter/KatakanaZ.pm blib/lib/HTML/Shakan/Filter/KatakanaZ.pm
cp lib/HTML/Shakan/Field/Choice.pm blib/lib/HTML/Shakan/Field/Choice.pm
cp lib/HTML/Shakan/Widgets/jQueryUI.pm blib/lib/HTML/Shakan/Widgets/jQueryUI.pm
cp lib/HTML/Shakan/Doc.ja.pod blib/lib/HTML/Shakan/Doc.ja.pod
cp lib/HTML/Shakan.pm blib/lib/HTML/Shakan.pm
cp lib/HTML/Shakan/Role/Filter.pm blib/lib/HTML/Shakan/Role/Filter.pm
cp lib/HTML/Shakan/Model/Teng.pm blib/lib/HTML/Shakan/Model/Teng.pm
cp lib/HTML/Shakan/Inflator/DateTime.pm blib/lib/HTML/Shakan/Inflator/DateTime.pm
cp lib/HTML/Shakan/Renderer/HTML.pm blib/lib/HTML/Shakan/Renderer/HTML.pm
cp lib/HTML/Shakan/Fields.pm blib/lib/HTML/Shakan/Fields.pm
cp lib/HTML/Shakan/Model/DataModel.pm blib/lib/HTML/Shakan/Model/DataModel.pm
cp lib/HTML/Shakan/Field/Date.pm blib/lib/HTML/Shakan/Field/Date.pm
cp lib/HTML/Shakan/Filter/WhiteSpace.pm blib/lib/HTML/Shakan/Filter/WhiteSpace.pm
cp lib/HTML/Shakan/Field.pm blib/lib/HTML/Shakan/Field.pm
cp lib/HTML/Shakan/Filter/HTMLScrubber.pm blib/lib/HTML/Shakan/Filter/HTMLScrubber.pm
cp lib/HTML/Shakan/Widgets/Simple.pm blib/lib/HTML/Shakan/Widgets/Simple.pm
cp lib/HTML/Shakan/Filter/Hiragana.pm blib/lib/HTML/Shakan/Filter/Hiragana.pm
cp lib/HTML/Shakan/Utils.pm blib/lib/HTML/Shakan/Utils.pm
cp lib/HTML/Shakan/Role/Model.pm blib/lib/HTML/Shakan/Role/Model.pm
cp lib/HTML/Shakan/Filters.pm blib/lib/HTML/Shakan/Filters.pm
cp lib/HTML/Shakan/Field/Input.pm blib/lib/HTML/Shakan/Field/Input.pm
cp lib/HTML/Shakan/Model/DBIxSkinny.pm blib/lib/HTML/Shakan/Model/DBIxSkinny.pm
cp lib/HTML/Shakan/Declare.pm blib/lib/HTML/Shakan/Declare.pm
cp lib/HTML/Shakan/Field/File.pm blib/lib/HTML/Shakan/Field/File.pm
t/00_compile.t ............................. ok
t/010_core/001_render.t .................... ok
# FVL: 0.41
t/010_core/002_validator.t ................. ok
t/010_core/003_widgets.t ................... ok
t/010_core/004_filter.t .................... ok
t/010_core/005_bind_filter.t ............... skipped: Test requires module 'Lingua::JA::Regular::Unicode' but it's not found
t/010_core/006_fillin_form.t ............... ok
t/010_core/007_fillin_date.t ............... ok
t/010_core/008_declare.t ................... ok
t/010_core/009_validator_message.t ......... ok
t/010_core/010_submitted.t ................. ok
t/010_core/011_custom_validation_form.t .... ok
t/010_core/012_custom_validation_field.t ... ok
t/010_core/013_render_field.t .............. ok
t/010_core/014_multi_value.t ............... ok
t/020_inflator/001_datetime.t .............. skipped: Test requires module 'DateTime' but it's not found
t/020_inflator/002_dt_join.t ............... skipped: Test requires module 'DateTime' but it's not found
# FVL: 0.41
t/030_field/001_file.t ..................... ok
# FVL: 0.41
t/030_field/002_image.t .................... ok
t/030_field/003_duplication.t .............. ok
t/040_model/001_datamodel.t ................ skipped: Test requires module 'Data::Model' but it's not found
t/040_model/002_skinny.t ................... skipped: Test requires module 'DBD::SQLite' but it's not found
t/040_model/003_teng.t ..................... skipped: Test requires module 'DBD::SQLite' but it's not found
t/999_regression/001_destructive_widget.t .. ok
t/upload_submitted.t ....................... ok
All tests successful.
Files=25, Tests=87,  3 wallclock secs ( 0.07 usr  0.04 sys +  2.44 cusr  0.36 csys =  2.91 CPU)
Result: PASS

------------------------------
PREREQUISITES
------------------------------

Prerequisite modules loaded:

runtime:

    Module              Need     Have    
    ------------------- -------- --------
    Email::Valid::Loose 0.05     0.05    
    FormValidator::Lite 0.24     0.41    
    Hash::MultiValue    0        0.16    
    HTML::Escape        0        1.11    
    List::MoreUtils     0.22     0.430   
    List::Util          1.32     1.62    
    Mouse               0.9      v2.5.10 
    parent              0        0.228   
    perl                5.008001 5.020000
    Scalar::Util        0        1.62    

configure:

    Module              Need     Have    
    ------------------- -------- --------
    Module::Build       0        0.4231  
    Module::Build::Tiny 0.035    0.039   


------------------------------
ENVIRONMENT AND OTHER CONTEXT
------------------------------

Environment variables:

    LANG = C.UTF-8
    PATH = /home/liveapp/.plenv/versions/5.20.0/bin:/home/liveapp/.plenv/libexec:/home/liveapp/.plenv/plugins/perl-build/bin:/home/liveapp/.plenv/shims:/home/liveapp/.plenv/bin:/usr/local/sbin:/usr/local/bin:/usr/sbin:/usr/bin:/sbin:/bin:/usr/games:/usr/local/games:/snap/bin
    PERL_CPANM_HOME = /home/liveapp/cpantesters.new/5.20.0/.cpanm_temp
    SHELL = /bin/bash
    TERM = xterm-256color

Perl special variables (and OS-specific diagnostics, for MSWin32):

    EGID = 1001 27 1001
    EUID = 1001
    EXECUTABLE_NAME = /home/liveapp/.plenv/versions/5.20.0/bin/perl5.20.0
    GID = 1001 27 1001
    UID = 1001

Perl module toolchain versions installed:

    Module              Have    
    ------------------- --------
    CPAN                2.05    
    CPAN::Meta          2.150010
    Cwd                 3.75    
    ExtUtils::CBuilder  0.280236
    ExtUtils::Command   7.64    
    ExtUtils::Install   2.06    
    ExtUtils::MakeMaker 7.64    
    ExtUtils::Manifest  1.70    
    ExtUtils::ParseXS   3.44    
    File::Spec          3.75    
    JSON                4.09    
    JSON::PP            4.11    
    Module::Build       0.4231  
    Module::Signature   n/a     
    Parse::CPAN::Meta   2.150010
    Test::Harness       3.44    
    Test::More          1.302191
    YAML                1.30    
    YAML::Syck          n/a     
    version             0.9929  


--

Summary of my perl5 (revision 5 version 20 subversion 0) configuration:
   
  Platform:
    osname=linux, osvers=5.4.0-91-generic, archname=x86_64-linux
    uname='linux supremeadmin 5.4.0-91-generic #102-ubuntu smp fri nov 5 16:31:28 utc 2021 x86_64 x86_64 x86_64 gnulinux '
    config_args='-Dprefix=/home/liveapp/.plenv/versions/5.20.0 -de -Dversiononly -A'eval:scriptdir=/home/liveapp/.plenv/versions/5.20.0/bin''
    hint=recommended, useposix=true, d_sigaction=define
    useithreads=undef, usemultiplicity=undef
    use64bitint=define, use64bitall=define, uselongdouble=undef
    usemymalloc=n, bincompat5005=undef
  Compiler:
    cc='cc', ccflags ='-fwrapv -fno-strict-aliasing -pipe -fstack-protector -I/usr/local/include -D_LARGEFILE_SOURCE -D_FILE_OFFSET_BITS=64',
    optimize='-O2',
    cppflags='-fwrapv -fno-strict-aliasing -pipe -fstack-protector -I/usr/local/include'
    ccversion='', gccversion='9.4.0', gccosandvers=''
    intsize=4, longsize=8, ptrsize=8, doublesize=8, byteorder=12345678
    d_longlong=define, longlongsize=8, d_longdbl=define, longdblsize=16
    ivtype='long', ivsize=8, nvtype='double', nvsize=8, Off_t='off_t', lseeksize=8
    alignbytes=8, prototype=define
  Linker and Libraries:
    ld='cc', ldflags =' -fstack-protector -L/usr/local/lib'
    libpth=/usr/local/lib /usr/include/x86_64-linux-gnu /usr/lib /lib/x86_64-linux-gnu /lib/../lib /usr/lib/x86_64-linux-gnu /usr/lib/../lib /lib
    libs=-lnsl -ldl -lm -lcrypt -lutil -lc
    perllibs=-lnsl -ldl -lm -lcrypt -lutil -lc
    libc=libc-2.31.so, so=so, useshrplib=false, libperl=libperl.a
    gnulibc_version='2.31'
  Dynamic Linking:
    dlsrc=dl_dlopen.xs, dlext=so, d_dlsymun=undef, ccdlflags='-Wl,-E'
    cccdlflags='-fPIC', lddlflags='-shared -O2 -L/usr/local/lib -fstack-protector'


Characteristics of this binary (from libperl): 
  Compile-time options: HAS_TIMES PERLIO_LAYERS PERL_DONT_CREATE_GVSV
                        PERL_HASH_FUNC_ONE_AT_A_TIME_HARD PERL_MALLOC_WRAP
                        PERL_NEW_COPY_ON_WRITE PERL_PRESERVE_IVUV
                        USE_64_BIT_ALL USE_64_BIT_INT USE_LARGE_FILES
                        USE_LOCALE USE_LOCALE_COLLATE USE_LOCALE_CTYPE
                        USE_LOCALE_NUMERIC USE_PERLIO USE_PERL_ATOF
  Locally applied patches:
	Devel::PatchPerl 2.08
  Built under linux
  Compiled at Aug  8 2022 07:29:32
  %ENV:
    PERL_CPANM_HOME="/home/liveapp/cpantesters.new/5.20.0/.cpanm_temp"
  @INC:
    /home/liveapp/.plenv/versions/5.20.0/lib/perl5/site_perl/5.20.0/x86_64-linux
    /home/liveapp/.plenv/versions/5.20.0/lib/perl5/site_perl/5.20.0
    /home/liveapp/.plenv/versions/5.20.0/lib/perl5/5.20.0/x86_64-linux
    /home/liveapp/.plenv/versions/5.20.0/lib/perl5/5.20.0
    .