Report for MooseX-Role-AttributeOverride-v0.0.3

Back
From: metabase:user:e45047bb-6c03-1014-98e0-c05e9855645b
Subject: PASS MooseX-Role-AttributeOverride-v0.0.3 v5.10.0 
Date: 2011-06-09T02:35:12Z

This distribution has been tested as part of the CPAN Testers
project, supporting the Perl programming language.  See
http://wiki.cpantesters.org/ for more information or email
questions to cpan-testers-discuss@perl.org


--
Dear Edward J. Allen III,

This is a computer-generated report for MooseX-Role-AttributeOverride-v0.0.3
on perl 5.10.0, created by CPAN-Reporter-1.1902.

Thank you for uploading your work to CPAN.  Congratulations!
All tests were successful.

Sections of this report:

    * Tester comments
    * Program output
    * Prerequisites
    * Environment and other context

------------------------------
TESTER COMMENTS
------------------------------

Additional comments from tester:

none provided

------------------------------
PROGRAM OUTPUT
------------------------------

Output from 'C:\CPANTesters\Perl5.10.0\bin\perl.exe ./Build test':

# Testing MooseX::Role::AttributeOverride 0.0.3
t\00.load.t ...... ok
t\basic.t ........ ok
t\basicbuild.t ... ok
t\basicbuild2.t .. ok
t\composite.t .... ok
t\composite2.t ... ok
t\error1.t ....... ok
t\error2.t ....... ok
t\error3.t ....... ok
t\secondhand.t ... ok
All tests successful.
Files=10, Tests=13, 13 wallclock secs ( 0.16 usr +  0.03 sys =  0.19 CPU)
Result: PASS

------------------------------
PREREQUISITES
------------------------------

Prerequisite modules loaded:

requires:

    Module        Need Have  
    ------------- ---- ------
    Moose         1.99 2.0007
    version       0.77 0.90  

build_requires:

    Module        Need Have  
    ------------- ---- ------
    TAP::Harness  0    3.23  
    Test::More    0    0.98  

configure_requires:

    Module        Need Have  
    ------------- ---- ------
    Module::Build 0.38 0.3800


------------------------------
ENVIRONMENT AND OTHER CONTEXT
------------------------------

Environment variables:

    COMSPEC = C:\WINDOWS\system32\cmd.exe
    INCLUDE = C:\Program Files\Microsoft Visual Studio 10.0\VC\INCLUDE;C:\Program Files\Microsoft SDKs\Windows\v7.1\INCLUDE;C:\Program Files\Microsoft SDKs\Windows\v7.1\INCLUDE\gl;C:\work\bin\db-5.1.19\build_windows;C:\CPANTesters\archives\zlatkovic\iconv-1.9.2.win32\include;C:\CPANTesters\archives\tidy-060405\include;C:\work\bin\Python26\include;C:\CPANTesters\bin\mysql-5.5.11-win32\include;C:\work\include;C:\CPANTesters\bin\xampp\apache\include
    LIB = C:\Program Files\Microsoft Visual Studio 10.0\VC\Lib;C:\Program Files\Microsoft SDKs\Windows\v6.0A\Lib;C:\Program Files\Microsoft SDKs\Windows\v7.1\Lib;C:\Program Files\Microsoft Platform SDK for Windows Server 2003 R2\Lib;C:\WINDOWS\Microsoft.NET\Framework\v4.0.30319;C:\WINDOWS\Microsoft.NET\Framework\v3.5;C:\work\bin\db-5.1.19\build_windows\Win32\Debug;C:\Program Files\Oracle\Berkeley DB 11gR2 5.1.19\lib;C:\CPANTesters\archives\zlatkovic\iconv-1.9.2.win32\lib;C:\CPANTesters\archives\tidy-060405\lib;C:\work\bin\Aspell\bin;C:\work\bin\Python26\libs;C:\CPANTesters\bin\mysql-5.5.11-win32\lib;C:\work\lib;C:\CPANTesters\bin\xampp\apache\lib
    NUMBER_OF_PROCESSORS = 1
    PATH = C:\WINDOWS\Microsoft.NET\Framework\v4.0.30319;C:\WINDOWS\Microsoft.NET\Framework\v3.5;C:\Program Files\Microsoft Visual Studio 10.0\Common7\IDE;C:\Program Files\Microsoft Visual Studio 10.0\Common7\Tools;C:\Program Files\Microsoft Visual Studio 10.0\VC\Bin;C:\Program Files\Microsoft Visual Studio 10.0\VC\Bin\VCPackages;C:\Program Files\Microsoft SDKs\Windows\v7.1\Bin\NETFX 4.0 Tools;C:\Program Files\Microsoft SDKs\Windows\v7.1\Bin;C:\Program Files\Common Files\Microsoft Shared\Windows Live;C:\Program Files\ImageMagick-6.6.0-Q16;C:\work\bin\db-5.1.19\build_windows\Win32\Debug;C:\CPANTesters\Perl5.10.0\site\bin;C:\CPANTesters\Perl5.10.0\bin;C:\oracle\product\10.2.0\client_1\bin;C:\WINDOWS\system32;C:\WINDOWS;C:\WINDOWS\System32\Wbem;C:\Program Files\jEdit;C:\WINDOWS\system32\WindowsPowerShell\v1.0;C:\Program Files\Windows Imaging\;C:\Program Files\Support Tools;C:\CPANTesters\archives\zlatkovic\iconv-1.9.2.win32\bin;C:\CPANTesters\archives\tidy-060405\bin;C:\Program Files\GNU\GnuPG;c:\work\bin;C:\Program Files\Microsoft SQL Server\100\Tools\Binn\;c:\Program Files\Microsoft SQL Server\100\DTS\Binn\;C:\CPANTesters\bin\xampp\apache\bin;C:\Program Files\Java\jdk1.6.0_21;C:\work\bin\rrdtool-1.2.30-bin-w32\rrdtool;C:\work\bin\Aspell\bin;C:\work\bin\Python26;C:\CPANTesters\bin\mysql-5.5.11-win32\bin
    PERL5LIB = 
    PERL5OPT = 
    PERL5_CPANPLUS_IS_RUNNING = 3596
    PERL5_CPAN_IS_RUNNING = 3596
    PERL5_CPAN_IS_RUNNING_IN_RECURSION = 2384,3596
    PERL_MM_USE_DEFAULT = 1
    PROCESSOR_IDENTIFIER = x86 Family 6 Model 37 Stepping 5, GenuineIntel
    TEMP = C:\temp
    TERM = dumb

Perl special variables (and OS-specific diagnostics, for MSWin32):

    $^X = C:\CPANTesters\Perl5.10.0\bin\perl.exe
    $UID/$EUID = 0 / 0
    $GID = 0
    $EGID = 0
    Win32::GetOSName = WinXP/.Net
    Win32::GetOSVersion = Service Pack 3, 5, 1, 2600, 2, 3, 0, 256, 1
    Win32::FsType = NTFS
    Win32::IsAdminUser = 1

Perl module toolchain versions installed:

    Module              Have    
    ------------------- --------
    CPAN                1.9600  
    Cwd                 3.33    
    ExtUtils::CBuilder  0.280202
    ExtUtils::Command   1.17    
    ExtUtils::Install   1.54    
    ExtUtils::MakeMaker 6.56    
    ExtUtils::Manifest  1.58    
    ExtUtils::ParseXS   2.2206  
    File::Spec          3.33    
    Module::Build       0.3800  
    Module::Signature   0.68    
    Test::Harness       3.23    
    Test::More          0.98    
    YAML                0.73    
    YAML::Syck          1.17    
    version             0.90    


--

Summary of my perl5 (revision 5 version 10 subversion 0) configuration:
  Platform:
    osname=MSWin32, osvers=5.00, archname=MSWin32-x86-multi-thread
    uname=''
    config_args='undef'
    hint=recommended, useposix=true, d_sigaction=undef
    useithreads=define, usemultiplicity=define
    useperlio=define, d_sfio=undef, uselargefiles=define, usesocks=undef
    use64bitint=undef, use64bitall=undef, uselongdouble=undef
    usemymalloc=n, bincompat5005=undef
  Compiler:
    cc='cl', ccflags ='-nologo -GF -W3 -MD -Zi -DNDEBUG -O1 -DWIN32 -D_CONSOLE -DNO_STRICT -DHAVE_DES_FCRYPT -DUSE_SITECUSTOMIZE -DPRIVLIB_LAST_IN_INC -DPERL_IMPLICIT_CONTEXT -DPERL_IMPLICIT_SYS -DUSE_PERLIO -DPERL_MSVCRT_READFIX',
    optimize='-MD -Zi -DNDEBUG -O1',
    cppflags='-DWIN32'
    ccversion='16.0.30319', gccversion='', gccosandvers=''
    intsize=4, longsize=4, ptrsize=4, doublesize=8, byteorder=1234
    d_longlong=undef, longlongsize=8, d_longdbl=define, longdblsize=10
    ivtype='long', ivsize=4, nvtype='double', nvsize=8, Off_t='__int64', lseeksize=8
    alignbytes=8, prototype=define
  Linker and Libraries:
    ld='link', ldflags ='-nologo -nodefaultlib -debug -opt:ref,icf  -libpath:"C:\CPANTesters\Perl5.10.0\lib\CORE"  -machine:x86'
    libpth=\lib
    libs=  oldnames.lib kernel32.lib user32.lib gdi32.lib winspool.lib  comdlg32.lib advapi32.lib shell32.lib ole32.lib oleaut32.lib  netapi32.lib uuid.lib ws2_32.lib mpr.lib winmm.lib  version.lib odbc32.lib odbccp32.lib msvcrt.lib
    perllibs=  oldnames.lib kernel32.lib user32.lib gdi32.lib winspool.lib  comdlg32.lib advapi32.lib shell32.lib ole32.lib oleaut32.lib  netapi32.lib uuid.lib ws2_32.lib mpr.lib winmm.lib  version.lib odbc32.lib odbccp32.lib msvcrt.lib
    libc=msvcrt.lib, so=dll, useshrplib=true, libperl=perl510.lib
    gnulibc_version=''
  Dynamic Linking:
    dlsrc=dl_win32.xs, dlext=dll, d_dlsymun=undef, ccdlflags=' '
    cccdlflags=' ', lddlflags='-dll -nologo -nodefaultlib -debug -opt:ref,icf  -libpath:"C:\CPANTesters\Perl5.10.0\lib\CORE"  -machine:x86'


Characteristics of this binary (from libperl): 
  Compile-time options: MULTIPLICITY PERL_DONT_CREATE_GVSV
                        PERL_IMPLICIT_CONTEXT PERL_IMPLICIT_SYS
                        PERL_MALLOC_WRAP PL_OP_SLAB_ALLOC USE_ITHREADS
                        USE_LARGE_FILES USE_PERLIO USE_SITECUSTOMIZE
  Locally applied patches:
	ActivePerl Build 1003 [285500]
	33741 avoids segfaults invoking S_raise_signal() (on Linux)
	33763 Win32 process ids can have more than 16 bits
	32809 Load 'loadable object' with non-default file extension
	32728 64-bit fix for Time::Local
  Built under MSWin32
  Compiled at May 13 2008 16:52:49
  %ENV:
    PERL5_CPANPLUS_IS_RUNNING="3596"
    PERL5_CPAN_IS_RUNNING="3596"
    PERL5_CPAN_IS_RUNNING_IN_RECURSION="2384,3596"
    PERL_MM_USE_DEFAULT="1"
  @INC:
    C:/CPANTesters/Perl5.10.0/site/lib
    C:/CPANTesters/Perl5.10.0/lib
    .