Report for Bio_AssemblyImprovement-1.160490

Back
From: metabase:user:314402c4-2aae-11df-837a-5e0a49663a4f
Subject: PASS Bio_AssemblyImprovement-1.160490 v5.10.1 GNU/Linux
Date: 2016-05-09T21:28:13Z

This distribution has been tested as part of the CPAN Testers
project, supporting the Perl programming language.  See
http://wiki.cpantesters.org/ for more information or email
questions to cpan-testers-discuss@perl.org


--
Dear Andrew Page,

This is a computer-generated report for Bio_AssemblyImprovement-1.160490
on perl 5.10.1, created by CPAN-Reporter-1.2017.

Thank you for uploading your work to CPAN.  Congratulations!
All tests were successful.

Sections of this report:

    * Tester comments
    * Program output
    * Prerequisites
    * Environment and other context

------------------------------
TESTER COMMENTS
------------------------------

Additional comments from tester:

none provided

------------------------------
PROGRAM OUTPUT
------------------------------

Output from '/usr/bin/make test':

PERL_DL_NONLAZY=1 "/bbbike/perl-5.10.1/bin/perl" "-MExtUtils::Command::MM" "-MTest::Harness" "-e" "undef *Test::Harness::Switches; test_harness(0, 'blib/lib', 'blib/arch')" t/*.t t/Abacas/*.t t/AdapterRemoval/Trimmomatic/*.t t/Assemble/SGA/*.t t/Circlator/*.t t/DigitalNormalisation/Khmer/*.t t/FillGaps/*.t t/IvaQC/*.t t/Overall/*.t t/PrepareForSubmission/*.t t/PrimerRemoval/*.t t/Quiver/*.t t/Scaffold/*.t t/Util/*.t t/Validate/*.t
t/Abacas/Iterative.t .................... ok
t/Abacas/Main.t ......................... ok
t/AdapterRemoval/Trimmomatic/Main.t ..... ok
t/Assemble/SGA/IndexAndCorrectReads.t ... ok
t/Assemble/SGA/Main.t ................... ok
t/Assemble/SGA/PreprocessReads.t ........ ok
t/Circlator/Main.t ...................... ok
t/DigitalNormalisation/Khmer/Main.t ..... ok
t/FillGaps/GapFillerConfig.t ............ ok
t/FillGaps/Iterative.t .................. ok
Traceback (most recent call last):
  File "/tmpfs/.cpan-build-cpansand/2016050921/Bio_AssemblyImprovement-1.160490-t3qVTA/t/dummy_iva_qc_script_raise_error.py", line 7, in <module>
    raise Error ('Could not run iva_qc check - ignore error message')
__main__.Error: Could not run iva_qc check - ignore error message
Error running iva_qc with: /tmpfs/.cpan-build-cpansand/2016050921/Bio_AssemblyImprovement-1.160490-t3qVTA/t/dummy_iva_qc_script_raise_error.py -f /tmpfs/.cpan-build-cpansand/2016050921/Bio_AssemblyImprovement-1.160490-t3qVTA/t/data/forward.fastq -r /tmpfs/.cpan-build-cpansand/2016050921/Bio_AssemblyImprovement-1.160490-t3qVTA/t/data/reverse.fastq --ref_db /tmpfs/.cpan-build-cpansand/2016050921/Bio_AssemblyImprovement-1.160490-t3qVTA/t/data/database /tmpfs/.cpan-build-cpansand/2016050921/Bio_AssemblyImprovement-1.160490-t3qVTA/t/data/contigs.fa test_iva_qc 
t/IvaQC/Main.t .......................... ok
t/Overall/CheckAllModulesCompile.t ...... ok
t/PrepareForSubmission/RenameContigs.t .. ok
t/PrimerRemoval/Main.t .................. ok
t/Quiver/Main.t ......................... ok
t/requires_external.t ................... ok
t/Scaffold/Descaffold.t ................. ok
t/Scaffold/Iterative.t .................. ok
t/Scaffold/PreprocessInputFiles.t ....... ok
t/Scaffold/SSpaceConfig.t ............... ok
t/Util/FastaTools.t ..................... ok
t/Util/FastqTools.t ..................... ok
t/Util/OrderContigsByLength.t ........... ok
/tmpfs/.cpan-build-cpansand/2016050921/Bio_AssemblyImprovement-1.160490-t3qVTA/t/does_not_exist.pl does not exist. Using default: /tmpfs/.cpan-build-cpansand/2016050921/Bio_AssemblyImprovement-1.160490-t3qVTA/t/dummy_gap_filler_script.pl at lib/Bio/AssemblyImprovement/Validate/Executable.pm line 29.
t/Validate/Executable.t ................. ok
All tests successful.
Files=24, Tests=246, 11 wallclock secs ( 0.04 usr  0.09 sys +  4.56 cusr  1.24 csys =  5.93 CPU)
Result: PASS

------------------------------
PREREQUISITES
------------------------------

Prerequisite modules loaded:

requires:

    Module                 Need Have   
    ---------------------- ---- -------
    Bio::SeqIO             0    0      
    Cwd                    0    3.62   
    File::Basename         0    2.77   
    File::Copy             0    2.14   
    File::Path             2.07 2.12   
    File::Spec             0    3.62   
    File::Temp             0    0.2304 
    File::Which            0    1.21   
    Getopt::Long           0    2.48   
    Getopt::Std            0    1.06   
    IO::Compress::Gzip     0    2.069  
    IO::Uncompress::Gunzip 0    2.069  
    lib                    0    0.62   
    Moose                  0    2.1801 
    Moose::Role            0    2.1801 
    POSIX                  0    1.17   
    Statistics::Lite       0    3.62   
    strict                 0    1.04   
    Switch                 0    2.14   
    warnings               0    1.06   

build_requires:

    Module                 Need Have   
    ---------------------- ---- -------
    Env::Path              0    0.19   
    ExtUtils::MakeMaker    0    7.16   
    File::Slurp            0    9999.19
    Test::File::Contents   0    0.23   
    Test::Most             0    0.34   

configure_requires:

    Module                 Need Have   
    ---------------------- ---- -------
    ExtUtils::MakeMaker    0    7.16   


------------------------------
ENVIRONMENT AND OTHER CONTEXT
------------------------------

Environment variables:

    LANG = C
    PATH = /usr/local/bin:/usr/bin:/bin:/usr/local/sbin:/usr/sbin:/sbin:/home/cpansand/bin/linux-gnu:/home/cpansand/bin/sh:/home/cpansand/bin:/usr/games:/home/cpansand/devel:/home/eserte/src/srezic-misc/scripts
    PERL5LIB = /home/cpansand/.cpan/build/2016050921/BioPerl-1.6.924-58JRbt/blib/arch:/home/cpansand/.cpan/build/2016050921/BioPerl-1.6.924-58JRbt/blib/lib:/home/cpansand/.cpan/build/2016050921/Data-Stag-0.14-cGBLjz/blib/arch:/home/cpansand/.cpan/build/2016050921/Data-Stag-0.14-cGBLjz/blib/lib:/home/cpansand/.cpan/build/2016050921/Env-Path-0.19-Url51q/blib/arch:/home/cpansand/.cpan/build/2016050921/Env-Path-0.19-Url51q/blib/lib:/home/cpansand/.cpan/build/2016050921/Statistics-Lite-3.62-D8XWtB/blib/arch:/home/cpansand/.cpan/build/2016050921/Statistics-Lite-3.62-D8XWtB/blib/lib
    PERL5OPT = 
    PERL5_CPANPLUS_IS_RUNNING = 13656
    PERL5_CPAN_IS_RUNNING = 13656
    PERL5_CPAN_IS_RUNNING_IN_RECURSION = 7023,13656
    PERLDOC = -MPod::Perldoc::ToTextOverstrike
    PERL_BATCH = yes
    PERL_CANARY_STABILITY_NOPROMPT = 1
    PERL_CPAN_REPORTER_CONFIG = /run/user/1023/cpansmoker/2016050918/cpanreporter_000_config.ini
    PERL_EXTUTILS_AUTOINSTALL = --defaultdeps
    SHELL = /bin/zsh
    TERM = screen
    TMPDIR = /run/user/1023/cpansmoker/2016050918

Perl special variables (and OS-specific diagnostics, for MSWin32):

    $^X = /bbbike/perl-5.10.1/bin/perl
    $UID/$EUID = 1023 / 1023
    $GID = 1023 1023
    $EGID = 1023 1023

Perl module toolchain versions installed:

    Module              Have    
    ------------------- --------
    CPAN                1.9402  
    CPAN::Meta          2.143240
    Cwd                 3.62    
    ExtUtils::CBuilder  0.280224
    ExtUtils::Command   7.16    
    ExtUtils::Install   1.54    
    ExtUtils::MakeMaker 7.16    
    ExtUtils::Manifest  1.70    
    ExtUtils::ParseXS   3.30    
    File::Spec          3.62    
    JSON                2.90    
    JSON::PP            2.27400 
    Module::Build       0.4218  
    Module::Signature   n/a     
    Parse::CPAN::Meta   1.4414  
    Test::Harness       3.36    
    Test::More          1.001014
    YAML                1.15    
    YAML::Syck          1.29    
    version             0.9916  


--

Summary of my perl5 (revision 5 version 10 subversion 1) configuration:
   
  Platform:
    osname=linux, osvers=3.16.0-4-amd64, archname=x86_64-linux
    uname='linux eserte 3.16.0-4-amd64 #1 smp debian 3.16.7-ckt25-2 (2016-04-08) x86_64 gnulinux '
    config_args='-ds -e -Dprefix=/opt/perl-5.10.1 -Dcf_email=srezic@cpan.org'
    hint=recommended, useposix=true, d_sigaction=define
    useithreads=undef, usemultiplicity=undef
    useperlio=define, d_sfio=undef, uselargefiles=define, usesocks=undef
    use64bitint=define, use64bitall=define, uselongdouble=undef
    usemymalloc=n, bincompat5005=undef
  Compiler:
    cc='cc', ccflags ='-fno-strict-aliasing -pipe -fstack-protector -I/usr/local/include -D_LARGEFILE_SOURCE -D_FILE_OFFSET_BITS=64',
    optimize='-O2',
    cppflags='-fno-strict-aliasing -pipe -fstack-protector -I/usr/local/include'
    ccversion='', gccversion='4.9.2', gccosandvers=''
    intsize=4, longsize=8, ptrsize=8, doublesize=8, byteorder=12345678
    d_longlong=define, longlongsize=8, d_longdbl=define, longdblsize=16
    ivtype='long', ivsize=8, nvtype='double', nvsize=8, Off_t='off_t', lseeksize=8
    alignbytes=8, prototype=define
  Linker and Libraries:
    ld='cc', ldflags =' -fstack-protector -L/usr/local/lib'
    libpth=/usr/local/lib /lib/x86_64-linux-gnu /lib/../lib /usr/lib/x86_64-linux-gnu /usr/lib/../lib /lib /usr/lib
    libs=-lnsl -ldl -lm -lcrypt -lutil -lc
    perllibs=-lnsl -ldl -lm -lcrypt -lutil -lc
    libc=libc-2.19.so, so=so, useshrplib=false, libperl=libperl.a
    gnulibc_version='2.19'
  Dynamic Linking:
    dlsrc=dl_dlopen.xs, dlext=so, d_dlsymun=undef, ccdlflags='-Wl,-E'
    cccdlflags='-fPIC', lddlflags='-shared -O2 -L/usr/local/lib -fstack-protector'


Characteristics of this binary (from libperl): 
  Compile-time options: PERL_DONT_CREATE_GVSV PERL_MALLOC_WRAP USE_64_BIT_ALL
                        USE_64_BIT_INT USE_LARGE_FILES USE_PERLIO
  Locally applied patches:
	Devel::PatchPerl 1.42
  Built under linux
  Compiled at May  7 2016 09:04:56
  %ENV:
    PERL5LIB="/home/cpansand/.cpan/build/2016050921/BioPerl-1.6.924-58JRbt/blib/arch:/home/cpansand/.cpan/build/2016050921/BioPerl-1.6.924-58JRbt/blib/lib:/home/cpansand/.cpan/build/2016050921/Data-Stag-0.14-cGBLjz/blib/arch:/home/cpansand/.cpan/build/2016050921/Data-Stag-0.14-cGBLjz/blib/lib:/home/cpansand/.cpan/build/2016050921/Env-Path-0.19-Url51q/blib/arch:/home/cpansand/.cpan/build/2016050921/Env-Path-0.19-Url51q/blib/lib:/home/cpansand/.cpan/build/2016050921/Statistics-Lite-3.62-D8XWtB/blib/arch:/home/cpansand/.cpan/build/2016050921/Statistics-Lite-3.62-D8XWtB/blib/lib"
    PERL5OPT=""
    PERL5_CPANPLUS_IS_RUNNING="13656"
    PERL5_CPAN_IS_RUNNING="13656"
    PERL5_CPAN_IS_RUNNING_IN_RECURSION="7023,13656"
    PERLDOC="-MPod::Perldoc::ToTextOverstrike"
    PERL_BATCH="yes"
    PERL_CANARY_STABILITY_NOPROMPT="1"
    PERL_CPAN_REPORTER_CONFIG="/run/user/1023/cpansmoker/2016050918/cpanreporter_000_config.ini"
    PERL_EXTUTILS_AUTOINSTALL="--defaultdeps"
  @INC:
    /home/cpansand/.cpan/build/2016050921/BioPerl-1.6.924-58JRbt/blib/arch
    /home/cpansand/.cpan/build/2016050921/BioPerl-1.6.924-58JRbt/blib/lib
    /home/cpansand/.cpan/build/2016050921/Data-Stag-0.14-cGBLjz/blib/arch
    /home/cpansand/.cpan/build/2016050921/Data-Stag-0.14-cGBLjz/blib/lib
    /home/cpansand/.cpan/build/2016050921/Env-Path-0.19-Url51q/blib/arch
    /home/cpansand/.cpan/build/2016050921/Env-Path-0.19-Url51q/blib/lib
    /home/cpansand/.cpan/build/2016050921/Statistics-Lite-3.62-D8XWtB/blib/arch
    /home/cpansand/.cpan/build/2016050921/Statistics-Lite-3.62-D8XWtB/blib/lib
    /opt/perl-5.10.1/lib/5.10.1/x86_64-linux
    /opt/perl-5.10.1/lib/5.10.1
    /opt/perl-5.10.1/lib/site_perl/5.10.1/x86_64-linux
    /opt/perl-5.10.1/lib/site_perl/5.10.1
    .