Test-LeakTrace v0.17 Perl 5 v5.35.9 x86_64-linux-thread-multi
- Status
- Pass
- From
- Carlos Guevara
- Dist
-
Test-LeakTrace v0.17
- Platform
- Perl 5 v5.35.9 x86_64-linux-thread-multi
- Date
- 2022-02-19T21:57:31
- ID
- ef9352f4-91ce-11ec-9cf0-59ecaddd42c7
This distribution has been tested as part of the CPAN Testers
project, supporting the Perl programming language. See
http://wiki.cpantesters.org/ for more information or email
questions to cpan-testers-discuss@perl.org
--
Dear Lee Johnson,
This is a computer-generated report for Test-LeakTrace-0.17
on perl 5.35.9, created by CPAN-Reporter-1.2018.
Thank you for uploading your work to CPAN. Congratulations!
All tests were successful.
Sections of this report:
* Tester comments
* Program output
* Prerequisites
* Environment and other context
------------------------------
TESTER COMMENTS
------------------------------
Additional comments from tester:
this report is from an automated smoke testing program
and was not reviewed by a human for accuracy
------------------------------
PROGRAM OUTPUT
------------------------------
Output from '/usr/bin/make test':
"/home/cpan/bin/perl-blead/bin/perl5.35.9" -MExtUtils::Command::MM -e 'cp_nonempty' -- LeakTrace.bs blib/arch/auto/Test/LeakTrace/LeakTrace.bs 644
PERL_DL_NONLAZY=1 "/home/cpan/bin/perl-blead/bin/perl5.35.9" "-MExtUtils::Command::MM" "-MTest::Harness" "-e" "undef *Test::Harness::Switches; test_harness(0, 'blib/lib', 'blib/arch')" t/*.t
# Testing Test::LeakTrace/0.17
t/00_compile.t ..... ok
t/01_info.t ........ ok
t/02_refs.t ........ ok
t/03_count.t ....... ok
t/04_test_funcs.t .. ok
leaked REF(0x560ff361c4b8) from /home/cpan/bin/perl-blead/lib/5.35.9/Test2/Util/HashBase.pm line 153.
leaked REF(0x560ff3646988) from /home/cpan/bin/perl-blead/lib/5.35.9/Test2/Util/HashBase.pm line 153.
leaked SCALAR(0x560ff3d00088) from /home/cpan/bin/perl-blead/lib/5.35.9/Test2/API/Context.pm line 223.
leaked GLOB(0x560ff3d06140) from /home/cpan/bin/perl-blead/lib/5.35.9/Test2/Hub.pm line 280.
leaked GLOB(0x560ff3d06128) from /home/cpan/bin/perl-blead/lib/5.35.9/Test/Builder.pm line 64.
leaked GLOB(0x560ff3d9c628) from /home/cpan/bin/perl-blead/lib/5.35.9/Test2/API/Context.pm line 232.
leaked GLOB(0x560ff3d9c3a0) from /home/cpan/bin/perl-blead/lib/5.35.9/Test2/Formatter/TAP.pm line 195.
leaked GLOB(0x560ff3d9c388) from /home/cpan/bin/perl-blead/lib/5.35.9/Test2/Event/V2.pm line 69.
leaked SCALAR(0x560ff3d9c370) from /home/cpan/bin/perl-blead/lib/5.35.9/Test/Builder.pm line 64.
leaked GLOB(0x560ff3d9c310) from /home/cpan/bin/perl-blead/lib/5.35.9/Test2/Hub.pm line 293.
leaked ARRAY(0x560ff3d9c250) from /home/cpan/bin/perl-blead/lib/5.35.9/Test2/Event/V2.pm line 42.
leaked SCALAR(0x560ff3d9c208) from /home/cpan/bin/perl-blead/lib/5.35.9/Test2/Event/V2.pm line 42.
leaked SCALAR(0x560ff3d9c1f0) from /home/cpan/bin/perl-blead/lib/5.35.9/Test2/Event/V2.pm line 42.
leaked SCALAR(0x560ff3d9c1d8) from /home/cpan/bin/perl-blead/lib/5.35.9/Test2/Event/V2.pm line 42.
leaked SCALAR(0x560ff3d9c1c0) from /home/cpan/bin/perl-blead/lib/5.35.9/Test2/Event/V2.pm line 42.
leaked SCALAR(0x560ff3d9c1a8) from /home/cpan/bin/perl-blead/lib/5.35.9/Test2/Event/V2.pm line 42.
leaked SCALAR(0x560ff3d9c190) from /home/cpan/bin/perl-blead/lib/5.35.9/Test2/Event/V2.pm line 42.
leaked SCALAR(0x560ff3d9c178) from /home/cpan/bin/perl-blead/lib/5.35.9/Test2/Event/V2.pm line 42.
leaked SCALAR(0x560ff3d9c160) from /home/cpan/bin/perl-blead/lib/5.35.9/Test2/Event/V2.pm line 42.
leaked SCALAR(0x560ff3d9c148) from /home/cpan/bin/perl-blead/lib/5.35.9/Test2/Event/V2.pm line 42.
leaked SCALAR(0x560ff3d9c130) from /home/cpan/bin/perl-blead/lib/5.35.9/Test2/Event/V2.pm line 42.
leaked HASH(0x560ff3d9c118) from /home/cpan/bin/perl-blead/lib/5.35.9/Test2/Event/V2.pm line 42.
leaked ARRAY(0x560ff3d9c100) from /home/cpan/bin/perl-blead/lib/5.35.9/Test2/Event/V2.pm line 42.
leaked SCALAR(0x560ff3d9c0e8) from /home/cpan/bin/perl-blead/lib/5.35.9/Test2/Event/V2.pm line 42.
leaked SCALAR(0x560ff3d9c0d0) from /home/cpan/bin/perl-blead/lib/5.35.9/Test2/Event/V2.pm line 42.
leaked SCALAR(0x560ff3d9c0b8) from /home/cpan/bin/perl-blead/lib/5.35.9/Test2/Event/V2.pm line 42.
leaked SCALAR(0x560ff3d9c0a0) from /home/cpan/bin/perl-blead/lib/5.35.9/Test2/Event/V2.pm line 42.
leaked SCALAR(0x560ff3d9c088) from /home/cpan/bin/perl-blead/lib/5.35.9/Test2/Event/V2.pm line 42.
leaked SCALAR(0x560ff3d9c070) from /home/cpan/bin/perl-blead/lib/5.35.9/Test2/Event/V2.pm line 42.
leaked SCALAR(0x560ff3d9c058) from /home/cpan/bin/perl-blead/lib/5.35.9/Test2/Event/V2.pm line 42.
leaked SCALAR(0x560ff3d9c040) from /home/cpan/bin/perl-blead/lib/5.35.9/Test2/Event/V2.pm line 42.
leaked SCALAR(0x560ff3d9c028) from /home/cpan/bin/perl-blead/lib/5.35.9/Test2/Event/V2.pm line 42.
leaked SCALAR(0x560ff3d9c010) from /home/cpan/bin/perl-blead/lib/5.35.9/Test2/Event/V2.pm line 42.
leaked SCALAR(0x560ff3d9bff8) from /home/cpan/bin/perl-blead/lib/5.35.9/Test2/Event/V2.pm line 42.
leaked ARRAY(0x560ff3d9bfe0) from /home/cpan/bin/perl-blead/lib/5.35.9/Test2/Event/V2.pm line 42.
leaked REF(0x560ff3d9bf98) from /home/cpan/bin/perl-blead/lib/5.35.9/Test2/Util/HashBase.pm line 153.
t/05_script.t ...... ok
t/06_threads.t ..... ok
t/07_eval.t ........ ok
t/08_leaktrace.t ... ok
t/09_info_more.t ... ok
t/10_bad_use.t ..... ok
t/11_logfp.t ....... ok
t/12_padstale.t .... ok
t/13_do.t .......... ok
All tests successful.
Files=14, Tests=132, 2 wallclock secs ( 0.08 usr 0.02 sys + 1.72 cusr 0.15 csys = 1.97 CPU)
Result: PASS
------------------------------
PREREQUISITES
------------------------------
Prerequisite modules loaded:
requires:
Module Need Have
------------------- ---- --------
Exporter 5.57 5.77
build_requires:
Module Need Have
------------------- ---- --------
ExtUtils::MakeMaker 0 7.64
Test::More 0.62 1.302188
configure_requires:
Module Need Have
------------------- ---- --------
ExtUtils::MakeMaker 0 7.64
------------------------------
ENVIRONMENT AND OTHER CONTEXT
------------------------------
Environment variables:
AUTOMATED_TESTING = 1
DATE_MANIP_TEST_DM5 = 1
LANG = C.UTF-8
LC_ALL = C
NONINTERACTIVE_TESTING = 1
PATH = /home/cpan/bin/perl-blead/bin:/home/cpan/bin:/home/cpan/bin:/home/cpan/bin:/usr/local/sbin:/usr/local/bin:/usr/sbin:/usr/bin:/sbin:/bin:/usr/games:/usr/local/games:/snap/bin
PERL5LIB =
PERL5OPT =
PERL5_CPANPLUS_IS_RUNNING = 1044298
PERL5_CPAN_IS_RUNNING = 1044298
PERL_MM_USE_DEFAULT = 1
PERL_USE_UNSAFE_INC = 1
PERL_VERSION = blead
SHELL = /bin/bash
TERM = screen
TMPDIR = /home/cpan/tmp
Perl special variables (and OS-specific diagnostics, for MSWin32):
$^X = /home/cpan/bin/perl-blead/bin/perl5.35.9
$UID/$EUID = 1002 / 1002
$GID = 1002 1002
$EGID = 1002 1002
Perl module toolchain versions installed:
Module Have
------------------- --------
CPAN 2.33
CPAN::Meta 2.150010
Cwd 3.83
ExtUtils::CBuilder 0.280236
ExtUtils::Command 7.64
ExtUtils::Install 2.20
ExtUtils::MakeMaker 7.64
ExtUtils::Manifest 1.73
ExtUtils::ParseXS 3.44
File::Spec 3.83
JSON 4.05
JSON::PP 4.07
Module::Build 0.4231
Module::Signature n/a
Parse::CPAN::Meta 2.150010
Test::Harness 3.43
Test::More 1.302188
YAML 1.30
YAML::Syck 1.34
version 0.9929
--
Summary of my perl5 (revision 5 version 35 subversion 9) configuration:
Commit id: 6e38c9eb016f51e8b8ce02e143d60b6a9d45d42e
Platform:
osname=linux
osvers=5.4.0-99-generic
archname=x86_64-linux-thread-multi
uname='linux cjg-focal 5.4.0-99-generic #112-ubuntu smp thu feb 3 13:50:55 utc 2022 x86_64 x86_64 x86_64 gnulinux '
config_args='-des -Dprefix=~/bin/perl-blead -Dscriptdir=~/bin/perl-blead/bin -Dusedevel -Duse64bitall -Duseithreads'
hint=recommended
useposix=true
d_sigaction=define
useithreads=define
usemultiplicity=define
use64bitint=define
use64bitall=define
uselongdouble=undef
usemymalloc=n
default_inc_excludes_dot=define
Compiler:
cc='cc'
ccflags ='-D_REENTRANT -D_GNU_SOURCE -fwrapv -fno-strict-aliasing -pipe -fstack-protector-strong -I/usr/local/include -D_LARGEFILE_SOURCE -D_FILE_OFFSET_BITS=64'
optimize='-O2'
cppflags='-D_REENTRANT -D_GNU_SOURCE -fwrapv -fno-strict-aliasing -pipe -fstack-protector-strong -I/usr/local/include'
ccversion=''
gccversion='9.3.0'
gccosandvers=''
intsize=4
longsize=8
ptrsize=8
doublesize=8
byteorder=12345678
doublekind=3
d_longlong=define
longlongsize=8
d_longdbl=define
longdblsize=16
longdblkind=3
ivtype='long'
ivsize=8
nvtype='double'
nvsize=8
Off_t='off_t'
lseeksize=8
alignbytes=8
prototype=define
Linker and Libraries:
ld='cc'
ldflags =' -fstack-protector-strong -L/usr/local/lib'
libpth=/usr/local/lib /usr/lib/x86_64-linux-gnu /usr/lib /usr/lib64
libs=-lpthread -lnsl -ldb -ldl -lm -lcrypt -lutil -lc
perllibs=-lpthread -lnsl -ldl -lm -lcrypt -lutil -lc
libc=libc-2.31.so
so=so
useshrplib=false
libperl=libperl.a
gnulibc_version='2.31'
Dynamic Linking:
dlsrc=dl_dlopen.xs
dlext=so
d_dlsymun=undef
ccdlflags='-Wl,-E'
cccdlflags='-fPIC'
lddlflags='-shared -O2 -L/usr/local/lib -fstack-protector-strong'
Characteristics of this binary (from libperl):
Compile-time options:
HAS_TIMES
MULTIPLICITY
PERLIO_LAYERS
PERL_COPY_ON_WRITE
PERL_DONT_CREATE_GVSV
PERL_MALLOC_WRAP
PERL_OP_PARENT
PERL_PRESERVE_IVUV
PERL_USE_DEVEL
USE_64_BIT_ALL
USE_64_BIT_INT
USE_ITHREADS
USE_LARGE_FILES
USE_LOCALE
USE_LOCALE_COLLATE
USE_LOCALE_CTYPE
USE_LOCALE_NUMERIC
USE_LOCALE_TIME
USE_PERLIO
USE_PERL_ATOF
USE_REENTRANT_API
USE_THREAD_SAFE_LOCALE
Built under linux
Compiled at Feb 18 2022 12:04:23
%ENV:
PERL5LIB=""
PERL5OPT=""
PERL5_CPANPLUS_IS_RUNNING="1044298"
PERL5_CPAN_IS_RUNNING="1044298"
PERL_MM_USE_DEFAULT="1"
PERL_USE_UNSAFE_INC="1"
PERL_VERSION="blead"
@INC:
/home/cpan/bin/perl-blead/lib/site_perl/5.35.9/x86_64-linux-thread-multi
/home/cpan/bin/perl-blead/lib/site_perl/5.35.9
/home/cpan/bin/perl-blead/lib/5.35.9/x86_64-linux-thread-multi
/home/cpan/bin/perl-blead/lib/5.35.9
.