KiokuDB v0.57 Perl 5 v5.26.1 amd64-freebsd

Status
Pass
From
Slaven Rezić (SREZIC)
Dist
KiokuDB v0.57
Platform
Perl 5 v5.26.1 amd64-freebsd
Date
2018-03-24 11:24:34
ID
ee1231be-2f55-11e8-bb8c-fe0242b72246
This distribution has been tested as part of the CPAN Testers
project, supporting the Perl programming language.  See
http://wiki.cpantesters.org/ for more information or email
questions to cpan-testers-discuss@perl.org


--
Dear Jesse Luehrs,

This is a computer-generated report for KiokuDB-0.57
on perl 5.26.1, created by CPAN-Reporter-1.2018.

Thank you for uploading your work to CPAN.  Congratulations!
All tests were successful.

Sections of this report:

    * Tester comments
    * Program output
    * Prerequisites
    * Environment and other context

------------------------------
TESTER COMMENTS
------------------------------

Additional comments from tester:

none provided

------------------------------
PROGRAM OUTPUT
------------------------------

Output from '/usr/bin/make test':

PERL_DL_NONLAZY=1 "/usr/perl5.26.1p/bin/perl5.26.1" "-MExtUtils::Command::MM" "-MTest::Harness" "-e" "undef *Test::Harness::Switches; test_harness(0, 'blib/lib', 'blib/arch')" t/*.t
t/00-compile.t ................. ok
t/coderefs.t ................... ok
t/collapser.t .................. ok
t/digest.t ..................... ok
t/directory.t .................. ok
t/entry.t ...................... ok
t/gc_naive.t ................... ok
Attempt to free unreferenced scalar: SV 0x4c0997f8 at /home/cpansand/.cpan/build/2018032418/KiokuDB-0.57-5/blib/lib/KiokuDB/Test/Fixture/Sets.pm line 150.
t/gin.t ........................ ok
Attempt to free unreferenced scalar: SV 0x4c870678 at /home/cpansand/.cpan/build/2018032418/KiokuDB-0.57-5/blib/lib/KiokuDB/Test/Fixture/Sets.pm line 150.
Attempt to free unreferenced scalar: SV 0x4d505810 at /home/cpansand/.cpan/build/2018032418/KiokuDB-0.57-5/blib/lib/KiokuDB/Test/Fixture/Sets.pm line 150.
Attempt to free unreferenced scalar: SV 0x4d79de88 at /home/cpansand/.cpan/build/2018032418/KiokuDB-0.57-5/blib/lib/KiokuDB/Test/Fixture/Sets.pm line 150.
Attempt to free unreferenced scalar: SV 0x4d514918 at /home/cpansand/.cpan/build/2018032418/KiokuDB-0.57-5/blib/lib/KiokuDB/Test/Fixture/Sets.pm line 150.
Attempt to free unreferenced scalar: SV 0x4d476930 at /home/cpansand/.cpan/build/2018032418/KiokuDB-0.57-5/blib/lib/KiokuDB/Test/Fixture/Sets.pm line 150.
Attempt to free unreferenced scalar: SV 0x4d424fd8 at /home/cpansand/.cpan/build/2018032418/KiokuDB-0.57-5/blib/lib/KiokuDB/Test/Fixture/Sets.pm line 150.
Attempt to free unreferenced scalar: SV 0x4ddd9af8 at /home/cpansand/.cpan/build/2018032418/KiokuDB-0.57-5/blib/lib/KiokuDB/Test/Fixture/Sets.pm line 150.
Attempt to free unreferenced scalar: SV 0x4db5a948 at /home/cpansand/.cpan/build/2018032418/KiokuDB-0.57-5/blib/lib/KiokuDB/Test/Fixture/Sets.pm line 150.
Attempt to free unreferenced scalar: SV 0x4d62f480 at /home/cpansand/.cpan/build/2018032418/KiokuDB-0.57-5/blib/lib/KiokuDB/Test/Fixture/Sets.pm line 150.
Attempt to free unreferenced scalar: SV 0x4ddf2090 at /home/cpansand/.cpan/build/2018032418/KiokuDB-0.57-5/blib/lib/KiokuDB/Test/Fixture/Sets.pm line 150.
Attempt to free unreferenced scalar: SV 0x4df53858 at /home/cpansand/.cpan/build/2018032418/KiokuDB-0.57-5/blib/lib/KiokuDB/Test/Fixture/Sets.pm line 150.
Attempt to free unreferenced scalar: SV 0x4de1dac8 at /home/cpansand/.cpan/build/2018032418/KiokuDB-0.57-5/blib/lib/KiokuDB/Test/Fixture/Sets.pm line 150.
Attempt to free unreferenced scalar: SV 0x4db3a0c0 at /home/cpansand/.cpan/build/2018032418/KiokuDB-0.57-5/blib/lib/KiokuDB/Test/Fixture/Sets.pm line 150.
Attempt to free unreferenced scalar: SV 0x4d824180 at /home/cpansand/.cpan/build/2018032418/KiokuDB-0.57-5/blib/lib/KiokuDB/Test/Fixture/Sets.pm line 150.
Attempt to free unreferenced scalar: SV 0x4e0fb408 at /home/cpansand/.cpan/build/2018032418/KiokuDB-0.57-5/blib/lib/KiokuDB/Test/Fixture/Sets.pm line 150.
Attempt to free unreferenced scalar: SV 0x4e11a1f8 at /home/cpansand/.cpan/build/2018032418/KiokuDB-0.57-5/blib/lib/KiokuDB/Test/Fixture/Sets.pm line 150.
Attempt to free unreferenced scalar: SV 0x4dafd630 at /home/cpansand/.cpan/build/2018032418/KiokuDB-0.57-5/blib/lib/KiokuDB/Test/Fixture/Sets.pm line 150.
Attempt to free unreferenced scalar: SV 0x4e640690 at /home/cpansand/.cpan/build/2018032418/KiokuDB-0.57-5/blib/lib/KiokuDB/Test/Fixture/Sets.pm line 150.
Attempt to free unreferenced scalar: SV 0x4eea4450 at /home/cpansand/.cpan/build/2018032418/KiokuDB-0.57-5/blib/lib/KiokuDB/Test/Fixture/Sets.pm line 150.
Attempt to free unreferenced scalar: SV 0x4eef0d38 at /home/cpansand/.cpan/build/2018032418/KiokuDB-0.57-5/blib/lib/KiokuDB/Test/Fixture/Sets.pm line 150.
Attempt to free unreferenced scalar: SV 0x4e5271e0 at /home/cpansand/.cpan/build/2018032418/KiokuDB-0.57-5/blib/lib/KiokuDB/Test/Fixture/Sets.pm line 150.
Attempt to free unreferenced scalar: SV 0x4eea3900 at /home/cpansand/.cpan/build/2018032418/KiokuDB-0.57-5/blib/lib/KiokuDB/Test/Fixture/Sets.pm line 150.
Attempt to free unreferenced scalar: SV 0x4f171828 at /home/cpansand/.cpan/build/2018032418/KiokuDB-0.57-5/blib/lib/KiokuDB/Test/Fixture/Sets.pm line 150.
Attempt to free unreferenced scalar: SV 0x4e5a31c8 at /home/cpansand/.cpan/build/2018032418/KiokuDB-0.57-5/blib/lib/KiokuDB/Test/Fixture/Sets.pm line 150.
Attempt to free unreferenced scalar: SV 0x4ee8ef60 at /home/cpansand/.cpan/build/2018032418/KiokuDB-0.57-5/blib/lib/KiokuDB/Test/Fixture/Sets.pm line 150.
Attempt to free unreferenced scalar: SV 0x4e7d2378 at /home/cpansand/.cpan/build/2018032418/KiokuDB-0.57-5/blib/lib/KiokuDB/Test/Fixture/Sets.pm line 150.
Attempt to free unreferenced scalar: SV 0x4f17eee8 at /home/cpansand/.cpan/build/2018032418/KiokuDB-0.57-5/blib/lib/KiokuDB/Test/Fixture/Sets.pm line 150.
Attempt to free unreferenced scalar: SV 0x4f5fd6a8 at /home/cpansand/.cpan/build/2018032418/KiokuDB-0.57-5/blib/lib/KiokuDB/Test/Fixture/Sets.pm line 150.
Attempt to free unreferenced scalar: SV 0x4f5abee8 at /home/cpansand/.cpan/build/2018032418/KiokuDB-0.57-5/blib/lib/KiokuDB/Test/Fixture/Sets.pm line 150.
Attempt to free unreferenced scalar: SV 0x4f27d0f0 at /home/cpansand/.cpan/build/2018032418/KiokuDB-0.57-5/blib/lib/KiokuDB/Test/Fixture/Sets.pm line 150.
Attempt to free unreferenced scalar: SV 0x4f65d018 at /home/cpansand/.cpan/build/2018032418/KiokuDB-0.57-5/blib/lib/KiokuDB/Test/Fixture/Sets.pm line 150.
Attempt to free unreferenced scalar: SV 0x4ee5a198 at /home/cpansand/.cpan/build/2018032418/KiokuDB-0.57-5/blib/lib/KiokuDB/Test/Fixture/Sets.pm line 150.
t/hash.t ....................... ok
t/hash_backend.t ............... ok
t/jspon_serialization.t ........ ok
t/kiokudb_class_native.t ....... ok
t/lazy.t ....................... ok
t/link_checker.t ............... ok
t/link_checker_real.t .......... ok
t/live_objs.t .................. ok
t/moose_triggers.t ............. ok
t/ref.t ........................ ok
t/scaling.t .................... ok
t/serializer.t ................. ok
t/stream.t ..................... ok
t/tied.t ....................... ok
t/typemap.t .................... ok
t/typemap_default_json.t ....... ok
t/typemap_default_storable.t ... ok
t/typemap_entry_callback.t ..... ok
t/typemap_entry_mop.t .......... ok
t/typemap_entry_naive.t ........ ok
t/typemap_entry_passthrough.t .. ok
t/typemap_entry_storable.t ..... ok
t/typemap_extra.t .............. ok
t/typemap_resolver.t ........... ok
t/typemap_values.t ............. ok
t/uuid.t ....................... ok
t/versioning.t ................. ok
All tests successful.
Files=35, Tests=23695, 123 wallclock secs ( 2.70 usr  0.71 sys + 105.84 cusr 13.59 csys = 122.84 CPU)
Result: PASS

------------------------------
PREREQUISITES
------------------------------

Prerequisite modules loaded:

requires:

    Module                                         Need   Have    
    ---------------------------------------------- ------ --------
    B                                              0      1.68    
    B::Deparse                                     0      1.40    
    Cache::Ref                                     0.02   0.04    
    Carp                                           0      1.42    
    Class::Load                                    0      0.24    
    constant                                       0      1.33    
    Data::Stream::Bulk                             0.08   0.11    
    Data::Stream::Bulk::Util                       0      0.11    
    Data::Swap                                     0      0.08    
    Data::UUID                                     1.203  1.221   
    Data::Visitor                                  0.24   0.30    
    Digest::SHA                                    0      5.98    
    Encode                                         0      2.93    
    Hash::Util::FieldHash::Compat                  0      0.11    
    IO::Handle                                     0      1.36    
    JSON                                           2.12   2.94    
    JSON::XS                                       2.231  3.04    
    List::Util                                     0      1.49    
    Module::Pluggable::Object                      0      5.2     
    Moose                                          2.0000 2.2006  
    Moose::Exporter                                0      2.2006  
    Moose::Role                                    0      2.2006  
    Moose::Util                                    0      2.2006  
    Moose::Util::MetaRole                          0      2.2006  
    Moose::Util::TypeConstraints                   0      2.2006  
    MooseX::Clone                                  0.04   0.06    
    MooseX::Clone::Meta::Attribute::Trait::NoClone 0      0.06    
    MooseX::Role::Parameterized                    0.10   1.10    
    MooseX::YAML                                   0.04   0.04    
    namespace::clean                               0.08   0.27    
    overload                                       0      1.28    
    PadWalker                                      1.9    2.3     
    Path::Class                                    0      0.37    
    POSIX                                          0      1.76    
    Scalar::Util                                   0      1.49    
    Scope::Guard                                   0      0.21    
    Search::GIN::Driver                            0      0.11    
    Search::GIN::Extract                           0      0.11    
    Search::GIN::Query::Class                      0.03   0.11    
    Set::Object                                    1.26   1.35    
    Storable                                       0      2.62    
    strict                                         0      1.11    
    Sub::Exporter                                  0      0.987   
    Symbol                                         0      1.08    
    Test::Exception                                0      0.43    
    Test::Moose                                    0      2.2006  
    Test::More                                     0.88   1.302121
    Throwable                                      0      0.200013
    Tie::RefHash                                   0      1.39    
    Tie::ToObject                                  0      0.03    
    Try::Tiny                                      0      0.28    
    utf8                                           0      1.19    
    warnings                                       0      1.37    
    YAML::XS                                       0.30   0.68    

build_requires:

    Module                                         Need   Have    
    ---------------------------------------------- ------ --------
    base                                           0      2.26    
    Cache::Ref::CART                               0      0.04    
    Cache::Ref::CLOCK                              0      0.04    
    Data::Dumper                                   0      2.167   
    Data::Stream::Bulk::Callback                   0      0.11    
    File::Spec                                     0      3.67    
    if                                             0      0.0606  
    IO::Handle                                     0      1.36    
    IPC::Open3                                     0      1.20    
    Search::GIN::Driver::Hash                      0      0.11    
    Search::GIN::Extract::Class                    0      0.11    
    Search::GIN::Extract::Delegate                 0      0.11    
    Test::More                                     0.88   1.302121

configure_requires:

    Module                                         Need   Have    
    ---------------------------------------------- ------ --------
    ExtUtils::MakeMaker                            6.30   7.30    


------------------------------
ENVIRONMENT AND OTHER CONTEXT
------------------------------

Environment variables:

    PATH = /usr/local/bin:/usr/bin:/bin:/usr/local/sbin:/usr/sbin:/sbin:/home/cpansand/bin/freebsd11.0:/home/cpansand/bin/sh:/home/cpansand/bin:/usr/games:/home/cpansand/devel:/home/eserte/src/srezic-misc/scripts
    PERL5LIB = /home/cpansand/.cpan/build/2018032418/Search-GIN-0.11-1/blib/arch:/home/cpansand/.cpan/build/2018032418/Search-GIN-0.11-1/blib/lib:/home/cpansand/.cpan/build/2018032418/MooseX-Types-Set-Object-0.05-1/blib/arch:/home/cpansand/.cpan/build/2018032418/MooseX-Types-Set-Object-0.05-1/blib/lib:/home/cpansand/.cpan/build/2018032418/MooseX-YAML-0.04-1/blib/arch:/home/cpansand/.cpan/build/2018032418/MooseX-YAML-0.04-1/blib/lib:/home/cpansand/.cpan/build/2018032418/MooseX-Blessed-Reconstruct-1.00-1/blib/arch:/home/cpansand/.cpan/build/2018032418/MooseX-Blessed-Reconstruct-1.00-1/blib/lib:/home/cpansand/.cpan/build/2018032418/Data-Swap-0.08-1/blib/arch:/home/cpansand/.cpan/build/2018032418/Data-Swap-0.08-1/blib/lib:/home/cpansand/.cpan/build/2018032418/Cache-Ref-0.04-1/blib/arch:/home/cpansand/.cpan/build/2018032418/Cache-Ref-0.04-1/blib/lib:/home/cpansand/.cpan/build/2018032418/BerkeleyDB-Manager-0.12-6/blib/arch:/home/cpansand/.cpan/build/2018032418/BerkeleyDB-Manager-0.12-6/blib/lib:/home/cpansand/.cpan/build/2018032418/Test-TempDir-0.10-2/blib/arch:/home/cpansand/.cpan/build/2018032418/Test-TempDir-0.10-2/blib/lib:/home/cpansand/.cpan/build/2018032418/File-NFSLock-1.27-2/blib/arch:/home/cpansand/.cpan/build/2018032418/File-NFSLock-1.27-2/blib/lib:/home/cpansand/.cpan/build/2018032418/Data-Stream-Bulk-0.11-2/blib/arch:/home/cpansand/.cpan/build/2018032418/Data-Stream-Bulk-0.11-2/blib/lib
    PERL5OPT = -MDevel::Hide
    PERL5_CPANPLUS_IS_RUNNING = 94156
    PERL5_CPAN_IS_RUNNING = 94156
    PERL5_CPAN_IS_RUNNING_IN_RECURSION = 88179,94156
    PERLDOC = -MPod::Perldoc::ToTextOverstrike
    PERL_BATCH = yes
    PERL_CANARY_STABILITY_NOPROMPT = 1
    PERL_CPAN_REPORTER_CONFIG = /var/tmp/cpansmoker-1023/2018032418/cpanreporter_000_config.ini
    PERL_EXTUTILS_AUTOINSTALL = --defaultdeps
    PERL_USE_UNSAFE_INC = 1
    SHELL = /usr/local/bin/zsh
    TERM = screen
    TMPDIR = /var/tmp/cpansmoker-1023/2018032418

Perl special variables (and OS-specific diagnostics, for MSWin32):

    $^X = /usr/perl5.26.1p/bin/perl5.26.1
    $UID/$EUID = 1023 / 1023
    $GID = 1023 1023
    $EGID = 1023 1023

Perl module toolchain versions installed:

    Module              Have    
    ------------------- --------
    CPAN                2.18    
    CPAN::Meta          2.150010
    Cwd                 3.67    
    ExtUtils::CBuilder  0.280230
    ExtUtils::Command   7.30    
    ExtUtils::Install   2.06    
    ExtUtils::MakeMaker 7.30    
    ExtUtils::Manifest  1.70    
    ExtUtils::ParseXS   3.34    
    File::Spec          3.67    
    JSON                2.94    
    JSON::PP            2.94    
    Module::Build       0.4224  
    Module::Signature   0.81    
    Parse::CPAN::Meta   2.150010
    Test::Harness       3.39    
    Test::More          1.302121
    YAML                1.23    
    YAML::Syck          1.30    
    version             0.9917  


--

Summary of my perl5 (revision 5 version 26 subversion 1) configuration:
   
  Platform:
    osname=freebsd
    osvers=11.1-stable
    archname=amd64-freebsd
    uname='freebsd ali3.bbbike.org 11.1-stable freebsd 11.1-stable #1 21e3b2eb0af(stable11): thu oct 19 19:30:51 utc 2017 root@ali3.bbbike.org:usrobjhomeprojectsfreebsdsysgeneric amd64 '
    config_args='-ds -e -Dprefix=/usr/perl5.26.1p -Dcf_email=srezic@cpan.org -Doptimize=-O2 -pipe'
    hint=recommended
    useposix=true
    d_sigaction=define
    useithreads=undef
    usemultiplicity=undef
    use64bitint=define
    use64bitall=define
    uselongdouble=undef
    usemymalloc=n
    default_inc_excludes_dot=define
    bincompat5005=undef
  Compiler:
    cc='cc'
    ccflags ='-DHAS_FPSETMASK -DHAS_FLOATINGPOINT_H -fno-strict-aliasing -pipe -fstack-protector-strong -I/usr/local/include -D_FORTIFY_SOURCE=2'
    optimize='-O2 -pipe'
    cppflags='-DHAS_FPSETMASK -DHAS_FLOATINGPOINT_H -fno-strict-aliasing -pipe -fstack-protector-strong -I/usr/local/include'
    ccversion=''
    gccversion='4.2.1 Compatible FreeBSD Clang 5.0.0 (tags/RELEASE_500/final 312559)'
    gccosandvers=''
    intsize=4
    longsize=8
    ptrsize=8
    doublesize=8
    byteorder=12345678
    doublekind=3
    d_longlong=define
    longlongsize=8
    d_longdbl=define
    longdblsize=16
    longdblkind=3
    ivtype='long'
    ivsize=8
    nvtype='double'
    nvsize=8
    Off_t='off_t'
    lseeksize=8
    alignbytes=8
    prototype=define
  Linker and Libraries:
    ld='cc'
    ldflags ='-pthread -Wl,-E  -fstack-protector-strong -L/usr/local/lib'
    libpth=/usr/lib /usr/local/lib /usr/lib/clang/5.0.0/lib /usr/lib
    libs=-lpthread -lgdbm -lm -lcrypt -lutil -lc
    perllibs=-lpthread -lm -lcrypt -lutil -lc
    libc=
    so=so
    useshrplib=false
    libperl=libperl.a
    gnulibc_version=''
  Dynamic Linking:
    dlsrc=dl_dlopen.xs
    dlext=so
    d_dlsymun=undef
    ccdlflags=' '
    cccdlflags='-DPIC -fPIC'
    lddlflags='-shared  -L/usr/local/lib -fstack-protector-strong'


Characteristics of this binary (from libperl): 
  Compile-time options:
    HAS_TIMES
    PERLIO_LAYERS
    PERL_COPY_ON_WRITE
    PERL_DONT_CREATE_GVSV
    PERL_MALLOC_WRAP
    PERL_OP_PARENT
    PERL_PRESERVE_IVUV
    USE_64_BIT_ALL
    USE_64_BIT_INT
    USE_LARGE_FILES
    USE_LOCALE
    USE_LOCALE_COLLATE
    USE_LOCALE_CTYPE
    USE_LOCALE_NUMERIC
    USE_LOCALE_TIME
    USE_PERLIO
    USE_PERL_ATOF
  Built under freebsd
  Compiled at Oct 31 2017 01:02:57
  %ENV:
    PERL5LIB="/home/cpansand/.cpan/build/2018032418/Search-GIN-0.11-1/blib/arch:/home/cpansand/.cpan/build/2018032418/Search-GIN-0.11-1/blib/lib:/home/cpansand/.cpan/build/2018032418/MooseX-Types-Set-Object-0.05-1/blib/arch:/home/cpansand/.cpan/build/2018032418/MooseX-Types-Set-Object-0.05-1/blib/lib:/home/cpansand/.cpan/build/2018032418/MooseX-YAML-0.04-1/blib/arch:/home/cpansand/.cpan/build/2018032418/MooseX-YAML-0.04-1/blib/lib:/home/cpansand/.cpan/build/2018032418/MooseX-Blessed-Reconstruct-1.00-1/blib/arch:/home/cpansand/.cpan/build/2018032418/MooseX-Blessed-Reconstruct-1.00-1/blib/lib:/home/cpansand/.cpan/build/2018032418/Data-Swap-0.08-1/blib/arch:/home/cpansand/.cpan/build/2018032418/Data-Swap-0.08-1/blib/lib:/home/cpansand/.cpan/build/2018032418/Cache-Ref-0.04-1/blib/arch:/home/cpansand/.cpan/build/2018032418/Cache-Ref-0.04-1/blib/lib:/home/cpansand/.cpan/build/2018032418/BerkeleyDB-Manager-0.12-6/blib/arch:/home/cpansand/.cpan/build/2018032418/BerkeleyDB-Manager-0.12-6/blib/lib:/home/cpansand/.cpan/build/2018032418/Test-TempDir-0.10-2/blib/arch:/home/cpansand/.cpan/build/2018032418/Test-TempDir-0.10-2/blib/lib:/home/cpansand/.cpan/build/2018032418/File-NFSLock-1.27-2/blib/arch:/home/cpansand/.cpan/build/2018032418/File-NFSLock-1.27-2/blib/lib:/home/cpansand/.cpan/build/2018032418/Data-Stream-Bulk-0.11-2/blib/arch:/home/cpansand/.cpan/build/2018032418/Data-Stream-Bulk-0.11-2/blib/lib"
    PERL5OPT="-MDevel::Hide"
    PERL5_CPANPLUS_IS_RUNNING="94156"
    PERL5_CPAN_IS_RUNNING="94156"
    PERL5_CPAN_IS_RUNNING_IN_RECURSION="88179,94156"
    PERLDOC="-MPod::Perldoc::ToTextOverstrike"
    PERL_BATCH="yes"
    PERL_CANARY_STABILITY_NOPROMPT="1"
    PERL_CPAN_REPORTER_CONFIG="/var/tmp/cpansmoker-1023/2018032418/cpanreporter_000_config.ini"
    PERL_EXTUTILS_AUTOINSTALL="--defaultdeps"
    PERL_USE_UNSAFE_INC="1"
  @INC:
    CODE(0x41ae2cf0)
    /home/cpansand/.cpan/build/2018032418/Search-GIN-0.11-1/blib/arch
    /home/cpansand/.cpan/build/2018032418/Search-GIN-0.11-1/blib/lib
    /home/cpansand/.cpan/build/2018032418/MooseX-Types-Set-Object-0.05-1/blib/arch
    /home/cpansand/.cpan/build/2018032418/MooseX-Types-Set-Object-0.05-1/blib/lib
    /home/cpansand/.cpan/build/2018032418/MooseX-YAML-0.04-1/blib/arch
    /home/cpansand/.cpan/build/2018032418/MooseX-YAML-0.04-1/blib/lib
    /home/cpansand/.cpan/build/2018032418/MooseX-Blessed-Reconstruct-1.00-1/blib/arch
    /home/cpansand/.cpan/build/2018032418/MooseX-Blessed-Reconstruct-1.00-1/blib/lib
    /home/cpansand/.cpan/build/2018032418/Data-Swap-0.08-1/blib/arch
    /home/cpansand/.cpan/build/2018032418/Data-Swap-0.08-1/blib/lib
    /home/cpansand/.cpan/build/2018032418/Cache-Ref-0.04-1/blib/arch
    /home/cpansand/.cpan/build/2018032418/Cache-Ref-0.04-1/blib/lib
    /home/cpansand/.cpan/build/2018032418/BerkeleyDB-Manager-0.12-6/blib/arch
    /home/cpansand/.cpan/build/2018032418/BerkeleyDB-Manager-0.12-6/blib/lib
    /home/cpansand/.cpan/build/2018032418/Test-TempDir-0.10-2/blib/arch
    /home/cpansand/.cpan/build/2018032418/Test-TempDir-0.10-2/blib/lib
    /home/cpansand/.cpan/build/2018032418/File-NFSLock-1.27-2/blib/arch
    /home/cpansand/.cpan/build/2018032418/File-NFSLock-1.27-2/blib/lib
    /home/cpansand/.cpan/build/2018032418/Data-Stream-Bulk-0.11-2/blib/arch
    /home/cpansand/.cpan/build/2018032418/Data-Stream-Bulk-0.11-2/blib/lib
    /usr/perl5.26.1p/lib/site_perl/5.26.1/amd64-freebsd
    /usr/perl5.26.1p/lib/site_perl/5.26.1
    /usr/perl5.26.1p/lib/5.26.1/amd64-freebsd
    /usr/perl5.26.1p/lib/5.26.1
    .