Archive-Tar-Wrapper v0.33 Perl 5 v5.22.2 x86_64-linux

Status
Pass
From
Slaven Rezić (SREZIC)
Dist
Archive-Tar-Wrapper v0.33
Platform
Perl 5 v5.22.2 x86_64-linux
Date
2018-07-10 13:48:29
ID
ed2cb4e4-8447-11e8-95b3-ada28adb6061
This distribution has been tested as part of the CPAN Testers
project, supporting the Perl programming language.  See
http://wiki.cpantesters.org/ for more information or email
questions to cpan-testers-discuss@perl.org


--
Dear Alceu Rodrigues de Freitas Junior,

This is a computer-generated report for Archive-Tar-Wrapper-0.33
on perl 5.22.2, created by CPAN-Reporter-1.2018.

Thank you for uploading your work to CPAN.  Congratulations!
All tests were successful.

Sections of this report:

    * Tester comments
    * Program output
    * Prerequisites
    * Environment and other context

------------------------------
TESTER COMMENTS
------------------------------

Additional comments from tester:

none provided

------------------------------
PROGRAM OUTPUT
------------------------------

Output from '/usr/bin/make test':

PERL_DL_NONLAZY=1 "/opt/perl-5.22.2/bin/perl" "-MExtUtils::Command::MM" "-MTest::Harness" "-e" "undef *Test::Harness::Switches; test_harness(0, 'blib/lib', 'blib/arch')" t/*.t
t/001Basic.t .............. ok
t/002Mult.t ............... ok
t/003Dirs.t ............... ok
t/004Utf8.t ............... ok
t/005Cwd.t ................ ok
t/006DirPerms.t ........... ok
t/007bzip.t ............... ok
# with grep: Ran 1337 iterations (337 outliers).
# with grep: Rounded run time per iteration: 0.000923 +/- 0.000001 (0.1%)
# with grep and compiled regex: Ran 1337 iterations (317 outliers).
# with grep and compiled regex: Rounded run time per iteration: 0.001244 +/- 0.000001 (0.1%)
# with eq: Ran 1214 iterations (176 outliers).
# with eq: Rounded run time per iteration: 0.000831 +/- 0.000001 (0.1%)
# with enhanced eq: Ran 1274 iterations (269 outliers).
# with enhanced eq: Rounded run time per iteration: 0.000802 +/- 0.000001 (0.1%)
# with enhanced eq mark2: Ran 1473 iterations (459 outliers).
# with enhanced eq mark2: Rounded run time per iteration: 0.000687 +/- 0.000001 (0.1%)
# with enhanced eq mark3: Ran 1403 iterations (377 outliers).
# with enhanced eq mark3: Rounded run time per iteration: 0.000372 +/- 0.000000 (0.1%)
# sort and shift: Ran 1403 iterations (392 outliers).
# sort and shift: Rounded run time per iteration: 0.000548 +/- 0.000000 (0.0%)
t/008performance.t ........ ok
# with grep: Ran 1214 iterations (205 outliers).
# with grep: Rounded run time per iteration: 0.000009 +/- 0.000000 (0.1%)
# with grep and compiled regex: Ran 1214 iterations (193 outliers).
# with grep and compiled regex: Rounded run time per iteration: 0.000011 +/- 0.000000 (0.1%)
# with eq: Ran 1214 iterations (177 outliers).
# with eq: Rounded run time per iteration: 0.000008 +/- 0.000000 (0.1%)
# with enhanced eq: Ran 1274 iterations (248 outliers).
# with enhanced eq: Rounded run time per iteration: 0.000008 +/- 0.000000 (0.1%)
# with enhanced eq mark2: Ran 1274 iterations (269 outliers).
# with enhanced eq mark2: Rounded run time per iteration: 0.000008 +/- 0.000000 (0.1%)
# with enhanced eq mark3: Ran 1274 iterations (247 outliers).
# with enhanced eq mark3: Rounded run time per iteration: 0.000008 +/- 0.000000 (0.1%)
# sort and shift: Ran 1274 iterations (226 outliers).
# sort and shift: Rounded run time per iteration: 0.000007 +/- 0.000000 (0.1%)
t/009performance-small.t .. ok
All tests successful.

Test Summary Report
-------------------
t/008performance.t      (Wstat: 0 Tests: 1 Failed: 0)
  TODO passed:   1
t/009performance-small.t (Wstat: 0 Tests: 1 Failed: 0)
  TODO passed:   1
Files=9, Tests=54, 592 wallclock secs ( 0.03 usr  0.02 sys + 380.97 cusr 188.37 csys = 569.39 CPU)
Result: PASS

------------------------------
PREREQUISITES
------------------------------

Prerequisite modules loaded:

requires:

    Module              Need     Have    
    ------------------- -------- --------
    Cwd                 0        3.62    
    File::Temp          0        0.2304  
    File::Which         0        1.21    
    IPC::Run            0        0.94    
    Log::Log4perl       0        1.47    
    perl                5.008001 5.022002

build_requires:

    Module              Need     Have    
    ------------------- -------- --------
    Dumbbench           0.111    0.111   
    ExtUtils::MakeMaker 0        7.24    
    Test::Simple        1.302073 1.302136

configure_requires:

    Module              Need     Have    
    ------------------- -------- --------
    ExtUtils::MakeMaker 0        7.24    
    File::Which         0        1.21    


------------------------------
ENVIRONMENT AND OTHER CONTEXT
------------------------------

Environment variables:

    LANG = en_US.UTF-8
    LANGUAGE = en_US:en
    LC_ALL = en_US.UTF-8
    PATH = /usr/local/bin:/usr/bin:/bin:/usr/local/sbin:/usr/sbin:/sbin:/home/cpansand/bin/linux-gnu:/home/cpansand/bin/sh:/home/cpansand/bin:/usr/games:/home/cpansand/devel:/home/eserte/src/srezic-misc/scripts
    PERL5LIB = /home/cpansand/.cpan/build/2018071015/Test-Simple-1.302136-1/blib/arch:/home/cpansand/.cpan/build/2018071015/Test-Simple-1.302136-1/blib/lib:/home/cpansand/.cpan/build/2018071015/Dumbbench-0.111-1/blib/arch:/home/cpansand/.cpan/build/2018071015/Dumbbench-0.111-1/blib/lib
    PERL5OPT = 
    PERL5_CPANPLUS_IS_RUNNING = 19316
    PERL5_CPAN_IS_RUNNING = 19316
    PERL5_CPAN_IS_RUNNING_IN_RECURSION = 16412,19316
    PERLDOC = -MPod::Perldoc::ToTextOverstrike
    PERL_BATCH = yes
    PERL_CANARY_STABILITY_NOPROMPT = 1
    PERL_CPAN_REPORTER_CONFIG = /var/tmp/cpansmoker-1023/2018071015/cpanreporter_000_config.ini
    PERL_EXTUTILS_AUTOINSTALL = --defaultdeps
    PERL_PARALLEL_SMOKER = yes
    PERL_USE_UNSAFE_INC = 1
    SHELL = /bin/zsh
    TERM = screen
    TMPDIR = /var/tmp/cpansmoker-1023/2018071015

Perl special variables (and OS-specific diagnostics, for MSWin32):

    $^X = /opt/perl-5.22.2/bin/perl
    $UID/$EUID = 1023 / 1023
    $GID = 1023 1023
    $EGID = 1023 1023

Perl module toolchain versions installed:

    Module              Have    
    ------------------- --------
    CPAN                2.16    
    CPAN::Meta          2.150010
    Cwd                 3.62    
    ExtUtils::CBuilder  0.280221
    ExtUtils::Command   7.24    
    ExtUtils::Install   2.04    
    ExtUtils::MakeMaker 7.24    
    ExtUtils::Manifest  1.70    
    ExtUtils::ParseXS   3.28    
    File::Spec          3.62    
    JSON                2.90    
    JSON::PP            2.27300 
    Module::Build       0.4220  
    Module::Signature   0.81    
    Parse::CPAN::Meta   2.150010
    Test::Harness       3.35    
    Test::More          1.302136
    YAML                1.17    
    YAML::Syck          1.29    
    version             0.9917  


--

Summary of my perl5 (revision 5 version 22 subversion 2) configuration:
   
  Platform:
    osname=linux, osvers=3.2.0-4-amd64, archname=x86_64-linux
    uname='linux cvrsnica-wheezy 3.2.0-4-amd64 #1 smp debian 3.2.54-2 x86_64 gnulinux '
    config_args='-ds -e -Dprefix=/opt/perl-5.22.2 -Dcf_email=srezic@cpan.org'
    hint=recommended, useposix=true, d_sigaction=define
    useithreads=undef, usemultiplicity=undef
    use64bitint=define, use64bitall=define, uselongdouble=undef
    usemymalloc=n, bincompat5005=undef
  Compiler:
    cc='cc', ccflags ='-fwrapv -fno-strict-aliasing -pipe -fstack-protector -I/usr/local/include -D_LARGEFILE_SOURCE -D_FILE_OFFSET_BITS=64 -D_FORTIFY_SOURCE=2',
    optimize='-O2',
    cppflags='-fwrapv -fno-strict-aliasing -pipe -fstack-protector -I/usr/local/include'
    ccversion='', gccversion='4.7.2', gccosandvers=''
    intsize=4, longsize=8, ptrsize=8, doublesize=8, byteorder=12345678, doublekind=3
    d_longlong=define, longlongsize=8, d_longdbl=define, longdblsize=16, longdblkind=3
    ivtype='long', ivsize=8, nvtype='double', nvsize=8, Off_t='off_t', lseeksize=8
    alignbytes=8, prototype=define
  Linker and Libraries:
    ld='cc', ldflags =' -fstack-protector -L/usr/local/lib'
    libpth=/usr/local/lib /usr/lib/gcc/x86_64-linux-gnu/4.7/include-fixed /usr/include/x86_64-linux-gnu /usr/lib /lib/x86_64-linux-gnu /lib/../lib /usr/lib/x86_64-linux-gnu /usr/lib/../lib /lib
    libs=-lpthread -lnsl -ldb -ldl -lm -lcrypt -lutil -lc
    perllibs=-lpthread -lnsl -ldl -lm -lcrypt -lutil -lc
    libc=libc-2.13.so, so=so, useshrplib=false, libperl=libperl.a
    gnulibc_version='2.13'
  Dynamic Linking:
    dlsrc=dl_dlopen.xs, dlext=so, d_dlsymun=undef, ccdlflags='-Wl,-E'
    cccdlflags='-fPIC', lddlflags='-shared -O2 -L/usr/local/lib -fstack-protector'


Characteristics of this binary (from libperl): 
  Compile-time options: HAS_TIMES PERLIO_LAYERS PERL_DONT_CREATE_GVSV
                        PERL_HASH_FUNC_ONE_AT_A_TIME_HARD PERL_MALLOC_WRAP
                        PERL_NEW_COPY_ON_WRITE PERL_PRESERVE_IVUV
                        USE_64_BIT_ALL USE_64_BIT_INT USE_LARGE_FILES
                        USE_LOCALE USE_LOCALE_COLLATE USE_LOCALE_CTYPE
                        USE_LOCALE_NUMERIC USE_LOCALE_TIME USE_PERLIO
                        USE_PERL_ATOF
  Built under linux
  Compiled at May 29 2016 23:41:57
  %ENV:
    PERL5LIB="/home/cpansand/.cpan/build/2018071015/Test-Simple-1.302136-1/blib/arch:/home/cpansand/.cpan/build/2018071015/Test-Simple-1.302136-1/blib/lib:/home/cpansand/.cpan/build/2018071015/Dumbbench-0.111-1/blib/arch:/home/cpansand/.cpan/build/2018071015/Dumbbench-0.111-1/blib/lib"
    PERL5OPT=""
    PERL5_CPANPLUS_IS_RUNNING="19316"
    PERL5_CPAN_IS_RUNNING="19316"
    PERL5_CPAN_IS_RUNNING_IN_RECURSION="16412,19316"
    PERLDOC="-MPod::Perldoc::ToTextOverstrike"
    PERL_BATCH="yes"
    PERL_CANARY_STABILITY_NOPROMPT="1"
    PERL_CPAN_REPORTER_CONFIG="/var/tmp/cpansmoker-1023/2018071015/cpanreporter_000_config.ini"
    PERL_EXTUTILS_AUTOINSTALL="--defaultdeps"
    PERL_PARALLEL_SMOKER="yes"
    PERL_USE_UNSAFE_INC="1"
  @INC:
    /home/cpansand/.cpan/build/2018071015/Test-Simple-1.302136-1/blib/arch
    /home/cpansand/.cpan/build/2018071015/Test-Simple-1.302136-1/blib/lib
    /home/cpansand/.cpan/build/2018071015/Dumbbench-0.111-1/blib/arch
    /home/cpansand/.cpan/build/2018071015/Dumbbench-0.111-1/blib/lib
    /opt/perl-5.22.2/lib/site_perl/5.22.2/x86_64-linux
    /opt/perl-5.22.2/lib/site_perl/5.22.2
    /opt/perl-5.22.2/lib/5.22.2/x86_64-linux
    /opt/perl-5.22.2/lib/5.22.2
    .