YAML v1.27 Perl 5 v5.28.1 darwin-thread-multi-2level
- Status
- Pass
- From
- Stanislaw Pusep
- Dist
-
YAML v1.27
- Platform
- Perl 5 v5.28.1 darwin-thread-multi-2level
- Date
- 2018-12-30 16:35:31
- ID
- ec50f7ce-0c50-11e9-b2fc-4ec6980eb343
This distribution has been tested as part of the CPAN Testers
project, supporting the Perl programming language. See
http://wiki.cpantesters.org/ for more information or email
questions to cpan-testers-discuss@perl.org
--
Dear TINITA,
This is a computer-generated report for YAML-1.27
on perl 5.28.1, created by App::cpanminus::reporter 0.17 (1.9018).
Thank you for uploading your work to CPAN. Congratulations!
All tests were successful.
Sections of this report:
* Tester comments
* Program output
* Prerequisites
* Environment and other context
------------------------------
TESTER COMMENTS
------------------------------
Additional comments from tester:
none provided
------------------------------
PROGRAM OUTPUT
------------------------------
Output from '':
Building and testing YAML-1.27
cp lib/YAML/Node.pod blib/lib/YAML/Node.pod
cp lib/YAML/Types.pod blib/lib/YAML/Types.pod
cp lib/YAML/Tag.pod blib/lib/YAML/Tag.pod
cp lib/YAML/Error.pod blib/lib/YAML/Error.pod
cp lib/YAML/Loader.pm blib/lib/YAML/Loader.pm
cp lib/YAML/Tag.pm blib/lib/YAML/Tag.pm
cp lib/YAML/Dumper/Base.pod blib/lib/YAML/Dumper/Base.pod
cp lib/YAML/Dumper.pod blib/lib/YAML/Dumper.pod
cp lib/YAML/Marshall.pm blib/lib/YAML/Marshall.pm
cp lib/YAML/Mo.pm blib/lib/YAML/Mo.pm
cp lib/YAML/Any.pod blib/lib/YAML/Any.pod
cp lib/YAML/Dumper.pm blib/lib/YAML/Dumper.pm
cp lib/YAML/Any.pm blib/lib/YAML/Any.pm
cp lib/YAML/Loader.pod blib/lib/YAML/Loader.pod
cp lib/YAML/Loader/Base.pod blib/lib/YAML/Loader/Base.pod
cp lib/YAML.pod blib/lib/YAML.pod
cp lib/YAML/Loader/Base.pm blib/lib/YAML/Loader/Base.pm
cp lib/YAML/Marshall.pod blib/lib/YAML/Marshall.pod
cp lib/YAML/Types.pm blib/lib/YAML/Types.pm
cp lib/YAML/Error.pm blib/lib/YAML/Error.pm
cp lib/YAML.pm blib/lib/YAML.pm
cp lib/YAML/Dumper/Base.pm blib/lib/YAML/Dumper/Base.pm
cp lib/YAML/Node.pm blib/lib/YAML/Node.pm
Manifying 11 pod documents
PERL_DL_NONLAZY=1 "/usr/local/Cellar/perl/5.28.1/bin/perl" "-MExtUtils::Command::MM" "-MTest::Harness" "-e" "undef *Test::Harness::Switches; test_harness(0, 'blib/lib', 'blib/arch')" t/*.t
t/000-compile-modules.t ............ ok
t/2-scalars.t ...................... ok
t/author-pod-syntax.t .............. skipped: these tests are for testing by the author
t/basic-tests.t .................... ok
t/bugs-emailed.t ................... ok
t/bugs-rt.t ........................ ok
t/changes.t ........................ ok
t/dump-basics.t .................... ok
t/dump-blessed-glob.t .............. ok
t/dump-blessed.t ................... ok
t/dump-code.t ...................... ok
t/dump-file-utf8.t ................. ok
t/dump-file.t ...................... ok
t/dump-nested.t .................... ok
t/dump-opts.t ...................... ok
t/dump-perl-types-512.t ............ skipped: test only for perls before v5.13.5-11-gfb85c04
t/dump-perl-types-514.t ............ ok
t/dump-perl-types.t ................ ok
t/dump-stringify.t ................. ok
t/dump-stringy-numbers.t ........... ok
t/dump-synopsis.t .................. ok
t/dump-tests-512.t ................. skipped: test only for perls before v5.13.5-11-gfb85c04
t/dump-tests-514.t ................. ok
t/dump-tests.t ..................... ok
t/dump-works.t ..................... ok
t/errors.t ......................... ok
t/export.t ......................... ok
t/freeze-thaw.t .................... ok
t/global-api.t ..................... ok
t/inbox.t .......................... ok
t/io-handle.t ...................... ok
t/issue-149.t ...................... ok
t/issue-69.t ....................... ok
t/load-code.t ...................... ok
t/load-fails.t ..................... ok
t/load-passes.t .................... ok
t/load-slides.t .................... ok
t/load-spec.t ...................... ok
t/load-tests.t ..................... ok
t/load-works.t ..................... ok
t/marshall.t ....................... ok
t/no-load-blessed.t ................ ok
t/node-info.t ...................... ok
t/numify.t ......................... ok
t/preserve.t ....................... ok
t/pugs-objects.t ................... ok
t/references.t ..................... ok
t/regexp.t ......................... ok
t/roundtrip.t ...................... ok
t/rt-90593.t ....................... ok
t/svk.t ............................ ok
t/test.t ........................... ok
t/trailing-comments-content.t ...... ok
t/trailing-comments-non-content.t .. ok
All tests successful.
Files=54, Tests=541, 7 wallclock secs ( 0.14 usr 0.08 sys + 6.52 cusr 0.67 csys = 7.41 CPU)
Result: PASS
------------------------------
PREREQUISITES
------------------------------
Prerequisite modules loaded:
runtime:
Module Need Have
------------------- ------ --------
perl v5.8.1 5.028001
configure:
Module Need Have
------------------- ------ --------
ExtUtils::MakeMaker 0 7.34
------------------------------
ENVIRONMENT AND OTHER CONTEXT
------------------------------
Environment variables:
LANG = en_US.UTF-8
LC_ALL = en_US.UTF-8
LC_CTYPE = UTF-8
LDFLAGS = -L/usr/local/opt/curl/lib
PATH = /Users/stan/.vim/bin:/Users/stan/bin:/Users/stan/node_modules/.bin:/usr/local/opt/curl/bin:/usr/local/bin:/usr/bin:/bin:/usr/sbin:/sbin:/opt/X11/bin:/Users/stan/.vim/bin:/Users/stan/bin:/Users/stan/node_modules/.bin:/usr/local/opt/curl/bin:/Users/stan/perl5/bin
PERL5LIB = /Users/stan/perl5/lib/perl5
PERL_LOCAL_LIB_ROOT = /Users/stan/perl5
PERL_MB_OPT = --install_base "/Users/stan/perl5"
PERL_MM_OPT = INSTALL_BASE=/Users/stan/perl5
PERL_MM_USE_DEFAULT = 1
SHELL = /bin/zsh
TERM = screen
TMPDIR = /var/folders/1m/0mbn7h096b361dk2y6kwjfn00000gn/T/
Perl special variables (and OS-specific diagnostics, for MSWin32):
EGID = 20 20 501 12 61 79 80 81 98 702 33 100 204 250 395 398 399
EUID = 501
EXECUTABLE_NAME = /usr/local/Cellar/perl/5.28.1/bin/perl
GID = 20 20 501 12 61 79 80 81 98 702 33 100 204 250 395 398 399
UID = 501
Perl module toolchain versions installed:
Module Have
------------------- --------
CPAN 2.20
CPAN::Meta 2.150010
Cwd 3.75
ExtUtils::CBuilder 0.280230
ExtUtils::Command 7.34
ExtUtils::Install 2.14
ExtUtils::MakeMaker 7.34
ExtUtils::Manifest 1.70
ExtUtils::ParseXS 3.39
File::Spec 3.75
JSON n/a
JSON::PP 4.00
Module::Build 0.4224
Module::Signature n/a
Parse::CPAN::Meta 2.150010
Test::Harness 3.42
Test::More 1.302141
YAML n/a
YAML::Syck n/a
version 0.9923
--
Summary of my perl5 (revision 5 version 28 subversion 1) configuration:
Platform:
osname=darwin
osvers=18.2.0
archname=darwin-thread-multi-2level
uname='darwin mojave.local 18.2.0 darwin kernel version 18.2.0: mon nov 12 20:24:46 pst 2018; root:xnu-4903.231.4~2release_x86_64 x86_64 '
config_args='-des -Dprefix=/usr/local/Cellar/perl/5.28.1 -Dprivlib=/usr/local/Cellar/perl/5.28.1/lib/perl5/5.28.1 -Dsitelib=/usr/local/Cellar/perl/5.28.1/lib/perl5/site_perl/5.28.1 -Dotherlibdirs=/usr/local/lib/perl5/site_perl/5.28.1 -Dperlpath=/usr/local/opt/perl/bin/perl -Dstartperl=#!/usr/local/opt/perl/bin/perl -Dman1dir=/usr/local/Cellar/perl/5.28.1/share/man/man1 -Dman3dir=/usr/local/Cellar/perl/5.28.1/share/man/man3 -Duseshrplib -Duselargefiles -Dusethreads'
hint=recommended
useposix=true
d_sigaction=define
useithreads=define
usemultiplicity=define
use64bitint=define
use64bitall=define
uselongdouble=undef
usemymalloc=n
default_inc_excludes_dot=define
bincompat5005=undef
Compiler:
cc='cc'
ccflags ='-fno-common -DPERL_DARWIN -mmacosx-version-min=10.14 -fno-strict-aliasing -pipe -fstack-protector-strong -I/usr/local/include -DPERL_USE_SAFE_PUTENV'
optimize='-O3'
cppflags='-fno-common -DPERL_DARWIN -mmacosx-version-min=10.14 -fno-strict-aliasing -pipe -fstack-protector-strong -I/usr/local/include'
ccversion=''
gccversion='4.2.1 Compatible Apple LLVM 10.0.0 (clang-1000.11.45.5)'
gccosandvers=''
intsize=4
longsize=8
ptrsize=8
doublesize=8
byteorder=12345678
doublekind=3
d_longlong=define
longlongsize=8
d_longdbl=define
longdblsize=16
longdblkind=3
ivtype='long'
ivsize=8
nvtype='double'
nvsize=8
Off_t='off_t'
lseeksize=8
alignbytes=8
prototype=define
Linker and Libraries:
ld='cc'
ldflags =' -mmacosx-version-min=10.14 -fstack-protector-strong -L/usr/local/lib'
libpth=/usr/local/lib /Applications/Xcode.app/Contents/Developer/Platforms/MacOSX.platform/Developer/SDKs/MacOSX10.14.sdk/usr/include/libxml2 /Applications/Xcode.app/Contents/Developer/Toolchains/XcodeDefault.xctoolchain/usr/lib/clang/10.0.0/lib /Applications/Xcode.app/Contents/Developer/Toolchains/XcodeDefault.xctoolchain/usr/lib /Applications/Xcode.app/Contents/Developer/Platforms/MacOSX.platform/Developer/SDKs/MacOSX10.14.sdk/usr/lib /usr/lib
libs=-lpthread -ldbm -ldl -lm -lutil -lc
perllibs=-lpthread -ldl -lm -lutil -lc
libc=
so=dylib
useshrplib=true
libperl=libperl.dylib
gnulibc_version=''
Dynamic Linking:
dlsrc=dl_dlopen.xs
dlext=bundle
d_dlsymun=undef
ccdlflags=' '
cccdlflags=' '
lddlflags=' -mmacosx-version-min=10.14 -bundle -undefined dynamic_lookup -L/usr/local/lib -fstack-protector-strong'
Characteristics of this binary (from libperl):
Compile-time options:
HAS_TIMES
MULTIPLICITY
PERLIO_LAYERS
PERL_COPY_ON_WRITE
PERL_DONT_CREATE_GVSV
PERL_IMPLICIT_CONTEXT
PERL_MALLOC_WRAP
PERL_OP_PARENT
PERL_PRESERVE_IVUV
PERL_USE_SAFE_PUTENV
USE_64_BIT_ALL
USE_64_BIT_INT
USE_ITHREADS
USE_LARGE_FILES
USE_LOCALE
USE_LOCALE_COLLATE
USE_LOCALE_CTYPE
USE_LOCALE_NUMERIC
USE_LOCALE_TIME
USE_PERLIO
USE_PERL_ATOF
USE_REENTRANT_API
Built under darwin
Compiled at Dec 27 2018 13:39:06
%ENV:
PERL5LIB="/Users/stan/perl5/lib/perl5"
PERL_LOCAL_LIB_ROOT="/Users/stan/perl5"
PERL_MB_OPT="--install_base "/Users/stan/perl5""
PERL_MM_OPT="INSTALL_BASE=/Users/stan/perl5"
PERL_MM_USE_DEFAULT="1"
@INC:
/Users/stan/perl5/lib/perl5/5.28.1/darwin-thread-multi-2level
/Users/stan/perl5/lib/perl5/5.28.1
/Users/stan/perl5/lib/perl5/darwin-thread-multi-2level
/Users/stan/perl5/lib/perl5
/usr/local/Cellar/perl/5.28.1/lib/perl5/site_perl/5.28.1/darwin-thread-multi-2level
/usr/local/Cellar/perl/5.28.1/lib/perl5/site_perl/5.28.1
/usr/local/Cellar/perl/5.28.1/lib/perl5/5.28.1/darwin-thread-multi-2level
/usr/local/Cellar/perl/5.28.1/lib/perl5/5.28.1
/usr/local/lib/perl5/site_perl/5.28.1/darwin-thread-multi-2level
/usr/local/lib/perl5/site_perl/5.28.1