Back
From: metabase:user:e7b34f46-36ca-11e0-a826-945c7ca43f85
Subject: PASS MooseX-WithCache-0.01002 v5.12.4 FreeBSD
Date: 2012-08-11T08:16:59Z
This distribution has been tested as part of the CPAN Testers
project, supporting the Perl programming language. See
http://wiki.cpantesters.org/ for more information or email
questions to cpan-testers-discuss@perl.org
--
Dear Daisuke Maki,
This is a computer-generated report for MooseX-WithCache-0.01002
on perl 5.12.4, created by CPAN-Reporter-1.2006.
Thank you for uploading your work to CPAN. Congratulations!
All tests were successful.
Sections of this report:
* Tester comments
* Program output
* Prerequisites
* Environment and other context
------------------------------
TESTER COMMENTS
------------------------------
Additional comments from tester:
this report is from an automated smoke testing program
and was not reviewed by a human for accuracy
------------------------------
PROGRAM OUTPUT
------------------------------
Output from '/usr/bin/make test':
PERL_DL_NONLAZY=1 /usr/local/bin/perl "-MExtUtils::Command::MM" "-e" "test_harness(0, 'inc', 'blib/lib', 'blib/arch')" t/*.t t/*/*.t
t/00_compile.t ............... ok
t/02_memcached.t ............. skipped: no memcached server found
must specify either 'datastore' hashref or 'global' flag at /home/cpan/perl5/lib/perl5/CHI/Driver/Memory.pm line 37.
CHI::Driver::Memory::BUILD('Moose::Meta::Class::__ANON__::SERIAL::4=HASH(0x804b7c258)', 'HASH(0x806050c78)') called at /home/cpan/perl5/lib/perl5/amd64-freebsd/Class/MOP/Method.pm line 125
Class::MOP::Method::execute('Moose::Meta::Method=HASH(0x80604e738)', 'Moose::Meta::Class::__ANON__::SERIAL::4=HASH(0x804b7c258)', 'HASH(0x806050c78)') called at /home/cpan/perl5/lib/perl5/amd64-freebsd/Moose/Object.pm line 59
Moose::Object::BUILDALL('Moose::Meta::Class::__ANON__::SERIAL::4=HASH(0x804b7c258)', 'HASH(0x806050c78)') called at /home/cpan/perl5/lib/perl5/amd64-freebsd/Moose/Meta/Class.pm line 278
Moose::Meta::Class::new_object('Moose::Meta::Class=HASH(0x804b58e88)', 'HASH(0x806050c78)') called at /home/cpan/perl5/lib/perl5/amd64-freebsd/Moose/Object.pm line 28
Moose::Object::new('Moose::Meta::Class::__ANON__::SERIAL::4', 'chi_root_class', 'CHI', 'driver_class', 'CHI::Driver::Memory') called at constructor CHI::Driver::Memory::new (defined at /home/cpan/perl5/lib/perl5/CHI/Driver/Memory.pm line 18) line 4
CHI::Driver::Memory::new('Moose::Meta::Class::__ANON__::SERIAL::4', 'chi_root_class', 'CHI', 'driver_class', 'CHI::Driver::Memory') called at /home/cpan/perl5/lib/perl5/CHI.pm line 156
CHI::new('CHI', 'driver', 'Memory') called at t/03_chi.t line 29
t/03_chi.t ................... ok
t/04_fastmmap.t .............. ok
t/deprecated/00_compile.t .... ok
t/deprecated/02_memcached.t .. skipped: no memcached server found
must specify either 'datastore' hashref or 'global' flag at /home/cpan/perl5/lib/perl5/CHI/Driver/Memory.pm line 37.
CHI::Driver::Memory::BUILD('Moose::Meta::Class::__ANON__::SERIAL::4=HASH(0x80537d390)', 'HASH(0x805c53db0)') called at /home/cpan/perl5/lib/perl5/amd64-freebsd/Class/MOP/Method.pm line 125
Class::MOP::Method::execute('Moose::Meta::Method=HASH(0x805c51870)', 'Moose::Meta::Class::__ANON__::SERIAL::4=HASH(0x80537d390)', 'HASH(0x805c53db0)') called at /home/cpan/perl5/lib/perl5/amd64-freebsd/Moose/Object.pm line 59
Moose::Object::BUILDALL('Moose::Meta::Class::__ANON__::SERIAL::4=HASH(0x80537d390)', 'HASH(0x805c53db0)') called at /home/cpan/perl5/lib/perl5/amd64-freebsd/Moose/Meta/Class.pm line 278
Moose::Meta::Class::new_object('Moose::Meta::Class=HASH(0x805357fc0)', 'HASH(0x805c53db0)') called at /home/cpan/perl5/lib/perl5/amd64-freebsd/Moose/Object.pm line 28
Moose::Object::new('Moose::Meta::Class::__ANON__::SERIAL::4', 'chi_root_class', 'CHI', 'driver_class', 'CHI::Driver::Memory') called at constructor CHI::Driver::Memory::new (defined at /home/cpan/perl5/lib/perl5/CHI/Driver/Memory.pm line 18) line 4
CHI::Driver::Memory::new('Moose::Meta::Class::__ANON__::SERIAL::4', 'chi_root_class', 'CHI', 'driver_class', 'CHI::Driver::Memory') called at /home/cpan/perl5/lib/perl5/CHI.pm line 156
CHI::new('CHI', 'driver', 'Memory') called at t/deprecated/03_chi.t line 30
t/deprecated/03_chi.t ........ ok
t/deprecated/04_fastmmap.t ... ok
All tests successful.
Files=8, Tests=62, 3 wallclock secs ( 0.05 usr 0.06 sys + 2.41 cusr 0.33 csys = 2.84 CPU)
Result: PASS
------------------------------
PREREQUISITES
------------------------------
Prerequisite modules loaded:
requires:
Module Need Have
--------------------------- ----- --------
Cache::Memcached 0 1.30
Data::Dumper 0 2.135_07
Digest::MD5 0 2.52
Moose 0.59 2.0603
MooseX::Role::Parameterized 0 1.00
perl 5.008 5.012004
build_requires:
Module Need Have
--------------------------- ----- --------
ExtUtils::MakeMaker 6.42 6.62
IO::Socket::INET 0 1.31
Test::Exception 0 0.31
Test::More 0 0.98_03
configure_requires:
Module Need Have
--------------------------- ----- --------
ExtUtils::MakeMaker 6.42 6.62
------------------------------
ENVIRONMENT AND OTHER CONTEXT
------------------------------
Environment variables:
AUTOMATED_TESTING = 1
PATH = /home/cpan/perl5/bin:/sbin:/bin:/usr/sbin:/usr/bin:/usr/games:/usr/local/sbin:/usr/local/bin:/home/cpan/bin
PERL5LIB = /home/cpan/perl5/lib/perl5/amd64-freebsd:/home/cpan/perl5/lib/perl5
PERL5OPT =
PERL5_CPANPLUS_IS_RUNNING = 95421
PERL5_CPAN_IS_RUNNING = 95421
PERL5_CPAN_IS_RUNNING_IN_RECURSION = 1410,95421
PERL_CR_SMOKER_CURRENT = Google-Directions-0.09
PERL_EXTUTILS_AUTOINSTALL = --defaultdeps
PERL_LOCAL_LIB_ROOT = /home/cpan/perl5
PERL_MB_OPT = --install_base /home/cpan/perl5
PERL_MM_OPT = INSTALL_BASE=/home/cpan/perl5
PERL_MM_USE_DEFAULT = 1
SHELL = /usr/local/bin/bash
TERM = screen
Perl special variables (and OS-specific diagnostics, for MSWin32):
$^X = /usr/local/bin/perl
$UID/$EUID = 1001 / 1001
$GID = 1001 1001 0 5 20 80
$EGID = 1001 1001 0 5 20 80
Perl module toolchain versions installed:
Module Have
------------------- --------
CPAN 1.9800
CPAN::Meta 2.120921
Cwd 3.33
ExtUtils::CBuilder 0.280205
ExtUtils::Command 1.16
ExtUtils::Install 1.54
ExtUtils::MakeMaker 6.62
ExtUtils::Manifest 1.58
ExtUtils::ParseXS 3.15
File::Spec 3.33
JSON 2.53
JSON::PP 2.27200
Module::Build 0.4002
Module::Signature 0.68
Parse::CPAN::Meta 1.4404
Test::Harness 3.25
Test::More 0.98_03
YAML 0.84
YAML::Syck 1.20
version 0.99
--
Summary of my perl5 (revision 5 version 12 subversion 4) configuration:
Platform:
osname=freebsd, osvers=9.0-rc2, archname=amd64-freebsd
uname='freebsd freebsd.org 9.0-rc2 freebsd 9.0-rc2 #0: mon dec 5 15:11:44 utc 2011 kris@freebsd.org:usrsrcsysmagickernelpath amd64 '
config_args='-sde -Dprefix=/usr/local -Darchlib=/usr/local/lib/perl5/5.12.4/mach -Dprivlib=/usr/local/lib/perl5/5.12.4 -Dman3dir=/usr/local/lib/perl5/5.12.4/perl/man/man3 -Dman1dir=/usr/local/man/man1 -Dsitearch=/usr/local/lib/perl5/site_perl/5.12.4/mach -Dsitelib=/usr/local/lib/perl5/site_perl/5.12.4 -Dscriptdir=/usr/local/bin -Dsiteman3dir=/usr/local/lib/perl5/5.12.4/man/man3 -Dsiteman1dir=/usr/local/man/man1 -Ui_malloc -Ui_iconv -Uinstallusrbinperl -Dcc=cc -Duseshrplib -Dinc_version_list=none -Dccflags=-DAPPLLIB_EXP="/usr/local/lib/perl5/5.12.4/BSDPAN" -Doptimize=-O2 -pipe -fno-strict-aliasing -Ui_gdbm -Dusethreads=n -Dusemymalloc=n -Duse64bitint'
hint=recommended, useposix=true, d_sigaction=define
useithreads=undef, usemultiplicity=undef
useperlio=define, d_sfio=undef, uselargefiles=define, usesocks=undef
use64bitint=define, use64bitall=define, uselongdouble=undef
usemymalloc=n, bincompat5005=undef
Compiler:
cc='cc', ccflags ='-DAPPLLIB_EXP="/usr/local/lib/perl5/5.12.4/BSDPAN" -DHAS_FPSETMASK -DHAS_FLOATINGPOINT_H -fno-strict-aliasing -pipe -fstack-protector -I/usr/local/include',
optimize='-O2 -pipe -fno-strict-aliasing',
cppflags='-DAPPLLIB_EXP="/usr/local/lib/perl5/5.12.4/BSDPAN" -DHAS_FPSETMASK -DHAS_FLOATINGPOINT_H -fno-strict-aliasing -pipe -fstack-protector -I/usr/local/include'
ccversion='', gccversion='4.2.1 20070831 patched [FreeBSD]', gccosandvers=''
intsize=4, longsize=8, ptrsize=8, doublesize=8, byteorder=12345678
d_longlong=define, longlongsize=8, d_longdbl=define, longdblsize=16
ivtype='long', ivsize=8, nvtype='double', nvsize=8, Off_t='off_t', lseeksize=8
alignbytes=8, prototype=define
Linker and Libraries:
ld='cc', ldflags =' -Wl,-E -fstack-protector -L/usr/local/lib'
libpth=/usr/lib /usr/local/lib
libs=-lm -lcrypt -lutil
perllibs=-lm -lcrypt -lutil
libc=, so=so, useshrplib=true, libperl=libperl.so
gnulibc_version=''
Dynamic Linking:
dlsrc=dl_dlopen.xs, dlext=so, d_dlsymun=undef, ccdlflags=' -Wl,-R/usr/local/lib/perl5/5.12.4/mach/CORE'
cccdlflags='-DPIC -fPIC', lddlflags='-shared -L/usr/local/lib -fstack-protector'
Characteristics of this binary (from libperl):
Compile-time options: PERL_DONT_CREATE_GVSV PERL_MALLOC_WRAP USE_64_BIT_ALL
USE_64_BIT_INT USE_LARGE_FILES USE_PERLIO
USE_PERL_ATOF
Built under freebsd
Compiled at Dec 5 2011 15:24:07
%ENV:
PERL5LIB="/home/cpan/perl5/lib/perl5/amd64-freebsd:/home/cpan/perl5/lib/perl5"
PERL5OPT=""
PERL5_CPANPLUS_IS_RUNNING="95421"
PERL5_CPAN_IS_RUNNING="95421"
PERL5_CPAN_IS_RUNNING_IN_RECURSION="1410,95421"
PERL_CR_SMOKER_CURRENT="Google-Directions-0.09"
PERL_EXTUTILS_AUTOINSTALL="--defaultdeps"
PERL_LOCAL_LIB_ROOT="/home/cpan/perl5"
PERL_MB_OPT="--install_base /home/cpan/perl5"
PERL_MM_OPT="INSTALL_BASE=/home/cpan/perl5"
PERL_MM_USE_DEFAULT="1"
@INC:
/home/cpan/perl5/lib/perl5/amd64-freebsd
/home/cpan/perl5/lib/perl5/amd64-freebsd
/home/cpan/perl5/lib/perl5
/usr/local/lib/perl5/5.12.4/BSDPAN
/usr/local/lib/perl5/site_perl/5.12.4/mach
/usr/local/lib/perl5/site_perl/5.12.4
/usr/local/lib/perl5/5.12.4/mach
/usr/local/lib/perl5/5.12.4
.