Parse-Eyapp v1.21 Perl 5 v5.26.2 MSWin32-x86-multi-thread-64int
- Status
- Pass
- From
- gregor herrmann
- Dist
-
Parse-Eyapp v1.21
- Platform
- Perl 5 v5.26.2 MSWin32-x86-multi-thread-64int
- Date
- 2018-05-21 02:52:16
- ID
- ebf1cc75-6c04-1014-92ed-a2a58038f308
This distribution has been tested as part of the CPAN Testers
project, supporting the Perl programming language. See
http://wiki.cpantesters.org/ for more information or email
questions to cpan-testers-discuss@perl.org
--
Dear William N. Braswell, Jr.,
This is a computer-generated report for Parse-Eyapp-1.21
on perl 5.26.2, created by CPAN-Reporter-1.2018.
Thank you for uploading your work to CPAN. Congratulations!
All tests were successful.
Sections of this report:
* Tester comments
* Program output
* Prerequisites
* Environment and other context
------------------------------
TESTER COMMENTS
------------------------------
Additional comments from tester:
this report is from an automated smoke testing program
and was not reviewed by a human for accuracy
------------------------------
PROGRAM OUTPUT
------------------------------
Output from 'C:\strawberry\c\bin\gmake.EXE test':
"C:\Strawberry\perl\bin\perl.exe" "-MExtUtils::Command::MM" "-MTest::Harness" "-e" "undef *Test::Harness::Switches; test_harness(0, 'blib\lib', 'blib\arch')" t/*.t
t/01calc.t .................................. ok
t/03newgrammar.t ............................ ok
t/04foldandzero.t ........................... ok
t/05treewithvars.t .......................... ok
t/06meta.t .................................. ok
t/07translationschemetype.t ................. ok
t/08tschemetypestar.t ....................... ok
t/09ts_with_defaultaction.t ................. ok
t/10ts_with_treereg.t ....................... ok
Possible precedence issue with control flow operator at t/11ts_simplify_codes.t line 74.
t/11ts_simplify_codes.t ..................... ok
t/12ts_simplify_with_s.t .................... ok
t/13ts_simplify_with_delete.t ............... ok
t/14ts_simplify_with_trreereg.t ............. ok
t/15treeregswith2arrays.t ................... ok
t/16treeregswitharrayattheend.t ............. ok
t/17fatherisscalar.t ........................ ok
t/18fatherpatternwitharrays.t ............... ok
t/19treeregswitharrays2transf.t ............. ok
t/20treeregswitharrays2transf.t ............. ok
t/21fatherisdot.t ........................... ok
t/22treeregswithregexpwithid.t .............. ok
t/23treeregswitharraysandregexps.t .......... ok
t/24prefixes.t .............................. ok
t/25foldwithnew.t ........................... ok
t/26foldwithnewwithvars.t ................... ok
t/27unshiftinmyself.t ....................... ok
t/28unshifttwoitems.t ....................... ok
t/29foldinglistsofexpressions.t ............. ok
t/30complextreereg.t ........................ ok
t/31optional.t .............................. ok
t/32deletenodewithwarn.t .................... ok
t/33moveinvariantoutofloop.t ................ ok
t/34moveinvariantoutofloopcomplexformula.t .. ok
t/35match.t ................................. ok
t/36tswithmultipledefact.t .................. ok
t/37tsplus.t ................................ ok
t/38tspostfix.t ............................. ok
t/38tspostfix_resultisarray.t ............... ok
t/39tspostfix.t ............................. ok
t/40wrongoptionforTreeregexp_new.t .......... ok
t/41indexbug.t .............................. ok
t/42pod.t ................................... skipped: Developer test
t/43dotandscalar.t .......................... ok
t/44repeatedarray.t ......................... ok
t/45starandarray.t .......................... ok
t/46starandstar.t ........................... ok
t/47ruleindex.t ............................. ok
t/48yyprefix.t .............................. ok
t/49conflicts.t ............................. ok
t/50SimpleChalfscope.t ...................... ok
t/52accesors.t .............................. ok
t/53accessorsskip.t ......................... ok
t/54alias_and_yyprefix.t .................... ok
t/55builder.t ............................... ok
t/56equal.t ................................. ok
t/57testequal.t ............................. ok
t/58standalone.t ............................ ok
t/59newgrammarerrors.t ...................... ok
t/60dynamicyyprefix_and_alias.t ............. ok
t/61standalonegift.t ........................ ok
t/62docinsideeyapp.t ........................ ok
t/63docwithdoublecut.t ...................... ok
t/64standalonegiftandeyapp.t ................ ok
t/65yydebugandpod.t ......................... ok
t/66yydebugstandaloneandpod.t ............... ok
t/67outputfile.t ............................ ok
t/70dos2unix.t .............................. ok
t/71dynamicconflictresolution.t ............. ok
t/72mixedstandaloneanddynamicload.t ......... ok
t/73dynamicshiftreduceconflictresolution.t .. ok
t/74lalrdependanttest.t ..................... ok
t/75tokenandvariablewiththesamename.t ....... ok
t/76minusvoption.t .......................... ok
t/77lexicalanalyzergeneration.t ............. ok
t/78twolexers.t ............................. ok
t/79syntactictokenwithdef.t ................. ok
t/80ppcr.t .................................. ok
t/81tokendirectiveandsubstitution.t ......... ok
t/82expectandPLI.t .......................... ok
t/83parsingstringsandtrees.t ................ ok
t/84graphics.t .............................. ok
t/85minusSoption.t .......................... ok
t/86recycle.t ............................... ok
t/87namingSchemes.t ......................... ok
t/88explorer.t .............................. ok
t/98nopm.t .................................. ok
t/99Cplusplusgrammar.t ...................... skipped: Developer test
All tests successful.
Files=87, Tests=881, 63 wallclock secs ( 0.59 usr + 0.12 sys = 0.72 CPU)
Result: PASS
------------------------------
PREREQUISITES
------------------------------
Prerequisite modules loaded:
requires:
Module Need Have
------------------- ---- -----
Data::Dumper 1.0 2.167
List::Util 1.0 1.50
Parse::Yapp 1.2 1.21
Pod::Usage 1.0 1.69
build_requires:
Module Need Have
------------------- ---- -----
ExtUtils::MakeMaker 0 7.34
configure_requires:
Module Need Have
------------------- ---- -----
ExtUtils::MakeMaker 0 7.34
------------------------------
ENVIRONMENT AND OTHER CONTEXT
------------------------------
Environment variables:
AUTOMATED_TESTING = 1
COMSPEC = C:\WINDOWS.0\system32\cmd.exe
NONINTERACTIVE_TESTING = 1
NUMBER_OF_PROCESSORS = 1
PATH = C:\WINDOWS.0\system32;C:\strawberry\c\bin;C:\strawberry\perl\site\bin;C:\strawberry\perl\bin
PERL5LIB = C:\cpan\build\Parse-Yapp-1.21-0/blib/arch;C:\cpan\build\Parse-Yapp-1.21-0/blib/lib;C:\cpan\build\Exceptions-0.102-0/blib/arch;C:\cpan\build\Exceptions-0.102-0/blib/lib
PERL5OPT =
PERL5_CPANPLUS_IS_RUNNING = 976
PERL5_CPAN_IS_RUNNING = 976
PERL5_CPAN_IS_RUNNING_IN_RECURSION = 2912,976
PERL_CR_SMOKER_CURRENT = QBit-Application-Model-DBManager-0.020
PERL_EXTUTILS_AUTOINSTALL = --defaultdeps
PERL_MM_USE_DEFAULT = 1
PERL_USE_UNSAFE_INC = 1
PROCESSOR_IDENTIFIER = x86 Family 6 Model 14 Stepping 8, GenuineIntel
TEMP = C:\DOKUME~1\smoker\LOKALE~1\Temp
TERM = dumb
Perl special variables (and OS-specific diagnostics, for MSWin32):
$^X = C:\Strawberry\perl\bin\perl.exe
$UID/$EUID = 0 / 0
$GID = 0
$EGID = 0
Win32::GetOSName = WinXP/.Net
Win32::GetOSVersion = Service Pack 3, 5, 1, 2600, 2, 3, 0, 256, 1
Win32::FsType = NTFS
Win32::IsAdminUser = 1
Perl module toolchain versions installed:
Module Have
------------------- --------
CPAN 2.18
CPAN::Meta 2.150010
Cwd 3.74
ExtUtils::CBuilder 0.280230
ExtUtils::Command 7.34
ExtUtils::Install 2.14
ExtUtils::MakeMaker 7.34
ExtUtils::Manifest 1.71
ExtUtils::ParseXS 3.35
File::Spec 3.74
JSON 2.97001
JSON::PP 2.97001
Module::Build 0.4224
Module::Signature 0.81
Parse::CPAN::Meta 2.150010
Test::Harness 3.42
Test::More 1.302136
YAML 1.24
YAML::Syck n/a
version 0.9924
--
Summary of my perl5 (revision 5 version 26 subversion 2) configuration:
Platform:
osname=MSWin32
osvers=10.0.16299.371
archname=MSWin32-x86-multi-thread-64int
uname='Win32 strawberry-perl 5.26.2.1 #1 Sun Apr 15 11:47:13 2018 i386'
config_args='undef'
hint=recommended
useposix=true
d_sigaction=undef
useithreads=define
usemultiplicity=define
use64bitint=define
use64bitall=undef
uselongdouble=undef
usemymalloc=n
default_inc_excludes_dot=define
bincompat5005=undef
Compiler:
cc='gcc'
ccflags =' -s -O2 -DWIN32 -D__USE_MINGW_ANSI_STDIO -DPERL_TEXTMODE_SCRIPTS -DPERL_IMPLICIT_CONTEXT -DPERL_IMPLICIT_SYS -DUSE_PERLIO -fwrapv -fno-strict-aliasing -mms-bitfields'
optimize='-s -O2'
cppflags='-DWIN32'
ccversion=''
gccversion='7.1.0'
gccosandvers=''
intsize=4
longsize=4
ptrsize=4
doublesize=8
byteorder=12345678
doublekind=3
d_longlong=define
longlongsize=8
d_longdbl=define
longdblsize=12
longdblkind=3
ivtype='long long'
ivsize=8
nvtype='double'
nvsize=8
Off_t='long long'
lseeksize=8
alignbytes=8
prototype=define
Linker and Libraries:
ld='g++'
ldflags ='-s -L"C:\STRAWB~1\perl\lib\CORE" -L"C:\STRAWB~1\c\lib"'
libpth=C:\STRAWB~1\c\lib C:\STRAWB~1\c\i686-w64-mingw32\lib C:\STRAWB~1\c\lib\gcc\i686-w64-mingw32\7.1.0
libs= -lmoldname -lkernel32 -luser32 -lgdi32 -lwinspool -lcomdlg32 -ladvapi32 -lshell32 -lole32 -loleaut32 -lnetapi32 -luuid -lws2_32 -lmpr -lwinmm -lversion -lodbc32 -lodbccp32 -lcomctl32
perllibs= -lmoldname -lkernel32 -luser32 -lgdi32 -lwinspool -lcomdlg32 -ladvapi32 -lshell32 -lole32 -loleaut32 -lnetapi32 -luuid -lws2_32 -lmpr -lwinmm -lversion -lodbc32 -lodbccp32 -lcomctl32
libc=
so=dll
useshrplib=true
libperl=libperl526.a
gnulibc_version=''
Dynamic Linking:
dlsrc=dl_win32.xs
dlext=xs.dll
d_dlsymun=undef
ccdlflags=' '
cccdlflags=' '
lddlflags='-mdll -s -L"C:\STRAWB~1\perl\lib\CORE" -L"C:\STRAWB~1\c\lib"'
Characteristics of this binary (from libperl):
Compile-time options:
HAS_TIMES
HAVE_INTERP_INTERN
MULTIPLICITY
PERLIO_LAYERS
PERL_COPY_ON_WRITE
PERL_DONT_CREATE_GVSV
PERL_IMPLICIT_CONTEXT
PERL_IMPLICIT_SYS
PERL_MALLOC_WRAP
PERL_OP_PARENT
PERL_PRESERVE_IVUV
USE_64_BIT_INT
USE_ITHREADS
USE_LARGE_FILES
USE_LOCALE
USE_LOCALE_COLLATE
USE_LOCALE_CTYPE
USE_LOCALE_NUMERIC
USE_LOCALE_TIME
USE_PERLIO
USE_PERL_ATOF
Built under MSWin32
Compiled at Apr 15 2018 11:51:03
%ENV:
PERL5LIB="C:\cpan\build\Parse-Yapp-1.21-0/blib/arch;C:\cpan\build\Parse-Yapp-1.21-0/blib/lib;C:\cpan\build\Exceptions-0.102-0/blib/arch;C:\cpan\build\Exceptions-0.102-0/blib/lib"
PERL5_CPANPLUS_IS_RUNNING="976"
PERL5_CPAN_IS_RUNNING="976"
PERL5_CPAN_IS_RUNNING_IN_RECURSION="2912,976"
PERL_CR_SMOKER_CURRENT="QBit-Application-Model-DBManager-0.020"
PERL_EXTUTILS_AUTOINSTALL="--defaultdeps"
PERL_MM_USE_DEFAULT="1"
PERL_USE_UNSAFE_INC="1"
@INC:
C:\cpan\build\Parse-Yapp-1.21-0/blib/arch
C:\cpan\build\Parse-Yapp-1.21-0/blib/lib
C:\cpan\build\Exceptions-0.102-0/blib/arch
C:\cpan\build\Exceptions-0.102-0/blib/lib
C:/Strawberry/perl/site/lib/MSWin32-x86-multi-thread-64int
C:/Strawberry/perl/site/lib
C:/Strawberry/perl/vendor/lib
C:/Strawberry/perl/lib
.