Report for Math-Random-ISAAC-1.004

Back
From: metabase:user:323dcade-2aae-11df-837a-5e0a49663a4f
Subject: PASS Math-Random-ISAAC-1.004 v5.24.2 GNU/Linux
Date: 2017-03-13T15:51:28Z

This distribution has been tested as part of the CPAN Testers
project, supporting the Perl programming language.  See
http://wiki.cpantesters.org/ for more information or email
questions to cpan-testers-discuss@perl.org


--
Dear Jonathan Yu,

This is a computer-generated report for Math-Random-ISAAC-1.004
on perl 5.24.2, created by CPAN-Reporter-1.2018.

Thank you for uploading your work to CPAN.  Congratulations!
All tests were successful.

Sections of this report:

    * Tester comments
    * Program output
    * Prerequisites
    * Environment and other context

------------------------------
TESTER COMMENTS
------------------------------

Additional comments from tester:

none provided

------------------------------
PROGRAM OUTPUT
------------------------------

Output from '/usr/bin/make test':

PERL_DL_NONLAZY=1 PERL_USE_UNSAFE_INC=1 "/usr/local/bin/cperl5.24.2-nt" "-MExtUtils::Command::MM" "-MTest::Harness" "-e" "undef *Test::Harness::Switches; test_harness(0, 'blib/lib', 'blib/arch')" t/*.t
t/01compile.t .............. ok
t/02sequence.t ............. ok
t/03memory.t ............... ok
t/04uniform.t .............. skipped: Author tests not required for installation
t/05fallback.t ............. skipped: Test::Without::Module and Math::Random::ISAAC::XS required to test fallback ability
t/06exceptions.t ........... ok
t/release-dist-manifest.t .. skipped: these tests are for release candidate testing
t/release-kwalitee.t ....... skipped: these tests are for release candidate testing
t/release-pod-coverage.t ... skipped: these tests are for release candidate testing
t/release-pod-syntax.t ..... skipped: these tests are for release candidate testing
t/release-portability.t .... skipped: these tests are for release candidate testing
All tests successful.
Files=11, Tests=609,  0 wallclock secs ( 0.06 usr  0.01 sys +  0.23 cusr  0.01 csys =  0.31 CPU)
Result: PASS

------------------------------
PREREQUISITES
------------------------------

Prerequisite modules loaded:

build_requires:

    Module              Need  Have     
    ------------------- ----- ---------
    Test::More          0.62  1.401014c
    Test::NoWarnings    0.084 1.04     

configure_requires:

    Module              Need  Have     
    ------------------- ----- ---------
    ExtUtils::MakeMaker 6.31  8.04_04  


------------------------------
ENVIRONMENT AND OTHER CONTEXT
------------------------------

Environment variables:

    LANG = en_US.UTF-8
    NONINTERACTIVE_TESTING = 1
    PATH = /home/rurban/bin:/usr/local/bin:/usr/bin:/bin:/usr/local/games:/usr/games:/home/rurban/go/bin
    PERL5LIB = 
    PERL5OPT = 
    PERL5_CPANPLUS_IS_RUNNING = 28245
    PERL5_CPAN_IS_RUNNING = 28245
    PERL_MM_USE_DEFAULT = 1
    PERL_USE_UNSAFE_INC = 1
    SHELL = /bin/bash
    TERM = xterm-256color

Perl special variables (and OS-specific diagnostics, for MSWin32):

    $^X = /usr/local/bin/cperl5.24.2-nt
    $UID/$EUID = 1000 / 1000
    $GID = 1000 27 124 157 1000 1001
    $EGID = 1000 27 124 157 1000 1001

Perl module toolchain versions installed:

    Module              Have      
    ------------------- ----------
    CPAN                2.14c     
    CPAN::Meta          2.150010  
    Cwd                 4.64c     
    ExtUtils::CBuilder  0.280225  
    ExtUtils::Command   7.10      
    ExtUtils::Install   2.04      
    ExtUtils::MakeMaker 8.04_04   
    ExtUtils::Manifest  1.70      
    ExtUtils::ParseXS   3.32      
    File::Spec          4.64c     
    JSON                2.90      
    JSON::PP            2.27400_02
    Module::Build       0.4220    
    Module::Signature   0.81      
    Parse::CPAN::Meta   2.150010  
    Test::Harness       3.36      
    Test::More          1.401014c 
    YAML                1.23      
    YAML::Syck          1.29      
    version             0.9917_02c


--

Summary of my cperl (revision 5 version 24 subversion 2) configuration:
  Commit id: b72530782b435f8b5cd9fa23d9561a3352055d61
  Platform:
    osname=linux, osvers=4.8.0-1-amd64, archname=x86_64-linux
    uname='linux reini 4.8.0-1-amd64 #1 smp debian 4.8.7-1 (2016-11-13) x86_64 gnulinux '
    config_args='-sder -Dusedevel -Dcc=ccache gcc-6 -Accflags=-msse4.2 -march=native -DPERL_FAKE_SIGNATURE -Dinstallman1dir=none -Dinstallman3dir=none -Dinstallsiteman1dir=none -Dinstallsiteman3dir=none -Darchname=x86_64-linux -Darchlib=/usr/local/lib/cperl/5.24.2/x86_64-linux -Dsitearch=/usr/local/lib/cperl/site_cperl/5.24.2/x86_64-linux -Dperlpath=/usr/local/bin/cperl5.24.2-nt -Dstartperl=#!/usr/local/bin/cperl5.24.2-nt -Dcf_email=rurban@cpanel.net -Doptimize=-O3 -g'
    hint=recommended, useposix=true, d_sigaction=define
    useithreads=undef, usemultiplicity=undef
    use64bitint=define, use64bitall=define, uselongdouble=undef
    usemymalloc=n, bincompat5005=undef
  Compiler:
    cc='ccache gcc-6', ccflags ='-msse4.2 -march=native -DPERL_FAKE_SIGNATURE -fwrapv -fno-strict-aliasing -pipe -fstack-protector -I/usr/local/include -D_LARGEFILE_SOURCE -D_FILE_OFFSET_BITS=64 -D_FORTIFY_SOURCE=2',
    optimize='-O3 -g',
    cppflags='-msse4.2 -march=native -DPERL_FAKE_SIGNATURE -fwrapv -fno-strict-aliasing -pipe -fstack-protector -I/usr/local/include'
    ccversion='', gccversion='6.2.0 20161109', gccosandvers=''
    intsize=4, longsize=8, ptrsize=8, doublesize=8, byteorder=12345678, doublekind=3
    d_longlong=define, longlongsize=8, d_longdbl=define, longdblsize=16, longdblkind=3
    ivtype='long', ivsize=8, nvtype='double', nvsize=8, Off_t='off_t', lseeksize=8
    alignbytes=8, prototype=define
  Linker and Libraries:
    ld='ccache gcc-6', ldflags =' -fstack-protector -L/usr/local/lib -L/opt/local/lib'
    libpth=/usr/local/lib /usr/lib/gcc/x86_64-linux-gnu/6/include-fixed /usr/include/x86_64-linux-gnu /usr/lib /opt/local/lib /lib/x86_64-linux-gnu /lib/../lib /usr/lib/x86_64-linux-gnu /usr/lib/../lib /lib /lib64 /usr/lib64 /usr/local/lib64
    libs=-lpthread -lnsl -ldl -lm -lcrypt -lutil -lc
    perllibs=-lpthread -lnsl -ldl -lm -lcrypt -lutil -lc
    libc=libc-2.24.so, so=so, useshrplib=false, libperl=libperl.a
    gnulibc_version='2.24'
  Dynamic Linking:
    dlsrc=dl_dlopen.xs, dlext=so, d_dlsymun=undef, ccdlflags='-Wl,-E'
    cccdlflags='-fPIC', lddlflags='-shared -O3 -g -L/usr/local/lib -L/opt/local/lib -fstack-protector'


Characteristics of this binary (from libperl): 
  Compile-time options: HAS_TIMES PERLIO_LAYERS PERL_COPY_ON_WRITE
                        PERL_DONT_CREATE_GVSV PERL_HASH_FUNC_FNV1A
                        PERL_MALLOC_WRAP PERL_PERTURB_KEYS_TOP
                        PERL_PRESERVE_IVUV PERL_USE_DEVEL USE_64_BIT_ALL
                        USE_64_BIT_INT USE_CPERL USE_LARGE_FILES USE_LOCALE
                        USE_LOCALE_COLLATE USE_LOCALE_CTYPE
                        USE_LOCALE_NUMERIC USE_LOCALE_TIME USE_PERLIO
                        USE_PERL_ATOF
  Built under linux
  Compiled at Dec 15 2016 12:39:09
  %ENV:
    PERL5LIB=""
    PERL5OPT=""
    PERL5_CPANPLUS_IS_RUNNING="28245"
    PERL5_CPAN_IS_RUNNING="28245"
    PERL_MM_USE_DEFAULT="1"
    PERL_USE_UNSAFE_INC="1"
  @INC:
    /usr/local/lib/cperl/site_cperl/5.24.2/x86_64-linux
    /usr/local/lib/cperl/site_cperl/5.24.2
    /usr/local/lib/cperl/5.24.2/x86_64-linux
    /usr/local/lib/cperl/5.24.2
    /usr/local/lib/cperl/site_cperl
    .