Beekeeper v0.10 Perl 5 v5.26.0 x86_64-linux-thread-multi
- Status
- Pass
- From
- Andreas J. König (ANDK)
- Dist
-
Beekeeper v0.10
- Platform
- Perl 5 v5.26.0 x86_64-linux-thread-multi
- Date
- 2023-09-10 17:10:19
- ID
- eb40c6bc-4ffc-11ee-a5d8-0a6808ea1619
This distribution has been tested as part of the CPAN Testers
project, supporting the Perl programming language. See
http://wiki.cpantesters.org/ for more information or email
questions to cpan-testers-discuss@perl.org
--
Dear Jose Mico,
This is a computer-generated report for Beekeeper-0.10
on perl 5.26.0, created by CPAN-Reporter-1.2018.
Thank you for uploading your work to CPAN. Congratulations!
All tests were successful.
Sections of this report:
* Tester comments
* Program output
* Prerequisites
* Environment and other context
------------------------------
TESTER COMMENTS
------------------------------
Additional comments from tester:
this report is from an automated smoke testing program
and was not reviewed by a human for accuracy
------------------------------
PROGRAM OUTPUT
------------------------------
Output from '/usr/bin/make test':
Skip blib/lib/auto/share/dist/Beekeeper/chat/flood.pl (unchanged)
Skip blib/lib/auto/share/dist/Beekeeper/basic/config/pool.config.json (unchanged)
Skip blib/lib/auto/share/dist/Beekeeper/chat/lib/MyApp/Bot.pm (unchanged)
Skip blib/lib/auto/share/dist/Beekeeper/chat/chat.pl (unchanged)
Skip blib/lib/auto/share/dist/Beekeeper/chat/lib/MyApp/Service/Auth.pm (unchanged)
Skip blib/lib/auto/share/dist/Beekeeper/basic/config/toybroker.config.json (unchanged)
Skip blib/lib/auto/share/dist/Beekeeper/chat/js/beekeeper.js (unchanged)
Skip blib/lib/auto/share/dist/Beekeeper/basic/client.pl (unchanged)
Skip blib/lib/auto/share/dist/Beekeeper/chat/chat.html (unchanged)
Skip blib/lib/auto/share/dist/Beekeeper/chat/lib/MyApp/Client.pm (unchanged)
Skip blib/lib/auto/share/dist/Beekeeper/basic/run.sh (unchanged)
Skip blib/lib/auto/share/dist/Beekeeper/chat/js/config.js (unchanged)
Skip blib/lib/auto/share/dist/Beekeeper/chat/config/client.config.json (unchanged)
Skip blib/lib/auto/share/dist/Beekeeper/basic/README.md (unchanged)
Skip blib/lib/auto/share/dist/Beekeeper/chat/config/pool.config.json (unchanged)
Skip blib/lib/auto/share/dist/Beekeeper/chat/README.md (unchanged)
Skip blib/lib/auto/share/dist/Beekeeper/basic/setup.sh (unchanged)
Skip blib/lib/auto/share/dist/Beekeeper/chat/js/chat.js (unchanged)
Skip blib/lib/auto/share/dist/Beekeeper/chat/lib/MyApp/Service/Auth/Worker.pm (unchanged)
Skip blib/lib/auto/share/dist/Beekeeper/chat/config/toybroker.config.json (unchanged)
Skip blib/lib/auto/share/dist/Beekeeper/chat/config/bus.config.json (unchanged)
Skip blib/lib/auto/share/dist/Beekeeper/basic/config/bus.config.json (unchanged)
Skip blib/lib/auto/share/dist/Beekeeper/basic/lib/MyWorker.pm (unchanged)
Skip blib/lib/auto/share/dist/Beekeeper/chat/lib/MyApp/Service/Base.pm (unchanged)
Skip blib/lib/auto/share/dist/Beekeeper/chat/lib/MyApp/Service/Chat.pm (unchanged)
Skip blib/lib/auto/share/dist/Beekeeper/basic/lib/MyClient.pm (unchanged)
Skip blib/lib/auto/share/dist/Beekeeper/flood/lib/MyApp/Service/Flood.pm (unchanged)
Skip blib/lib/auto/share/dist/Beekeeper/dashboard/README.md (unchanged)
Skip blib/lib/auto/share/dist/Beekeeper/flood/run.sh (unchanged)
Skip blib/lib/auto/share/dist/Beekeeper/dashboard/config/dashboard.config.json (unchanged)
Skip blib/lib/auto/share/dist/Beekeeper/chat/setup.sh (unchanged)
Skip blib/lib/auto/share/dist/Beekeeper/chat/run.sh (unchanged)
Skip blib/lib/auto/share/dist/Beekeeper/flood/flood.pl (unchanged)
Skip blib/lib/auto/share/dist/Beekeeper/flood/config/bus.config.json (unchanged)
Skip blib/lib/auto/share/dist/Beekeeper/scraper/client.pl (unchanged)
Skip blib/lib/auto/share/dist/Beekeeper/dashboard/dashboard.html (unchanged)
Skip blib/lib/auto/share/dist/Beekeeper/dashboard/js/config.js (unchanged)
Skip blib/lib/auto/share/dist/Beekeeper/dashboard/config/bus.config.json (unchanged)
Skip blib/lib/auto/share/dist/Beekeeper/flood/README.md (unchanged)
Skip blib/lib/auto/share/dist/Beekeeper/dashboard/lib/Beekeeper/Service/Dashboard/Worker.pm (unchanged)
Skip blib/lib/auto/share/dist/Beekeeper/flood/config/pool.config.json (unchanged)
Skip blib/lib/auto/share/dist/Beekeeper/dashboard/js/dashboard.js (unchanged)
Skip blib/lib/auto/share/dist/Beekeeper/flood/lib/MyApp/Service/Flood/Worker.pm (unchanged)
Skip blib/lib/auto/share/dist/Beekeeper/dashboard/css/dashboard.css (unchanged)
Skip blib/lib/auto/share/dist/Beekeeper/dashboard/setup.sh (unchanged)
Skip blib/lib/auto/share/dist/Beekeeper/dashboard/config/pool.config.json (unchanged)
Skip blib/lib/auto/share/dist/Beekeeper/scraper/README.md (unchanged)
Skip blib/lib/auto/share/dist/Beekeeper/flood/setup.sh (unchanged)
Skip blib/lib/auto/share/dist/Beekeeper/dashboard/run.sh (unchanged)
Skip blib/lib/auto/share/dist/Beekeeper/flood/config/toybroker.config.json (unchanged)
Skip blib/lib/auto/share/dist/Beekeeper/chat/lib/MyApp/Service/Chat/Worker.pm (unchanged)
Skip blib/lib/auto/share/dist/Beekeeper/scraper/lib/MyApp/Service/Scraper/Worker.pm (unchanged)
Skip blib/lib/auto/share/dist/Beekeeper/scraper/config/pool.config.json (unchanged)
Skip blib/lib/auto/share/dist/Beekeeper/websocket/js/beekeeper.js (unchanged)
Skip blib/lib/auto/share/dist/Beekeeper/websocket/lib/MyApp/Service/Calculator/Worker.pm (unchanged)
Skip blib/lib/auto/share/dist/Beekeeper/websocket/setup.sh (unchanged)
Skip blib/lib/auto/share/dist/Beekeeper/scraper/config/bus.config.json (unchanged)
Skip blib/lib/auto/share/dist/Beekeeper/scraper/lib/MyApp/Service/Scraper.pm (unchanged)
Skip blib/lib/auto/share/dist/Beekeeper/scraper/config/toybroker.config.json (unchanged)
Skip blib/lib/auto/share/dist/Beekeeper/websocket/config/bus.config.json (unchanged)
Skip blib/lib/auto/share/dist/Beekeeper/websocket/client.pl (unchanged)
Skip blib/lib/auto/share/dist/Beekeeper/websocket/js/calculator.js (unchanged)
Skip blib/lib/auto/share/dist/Beekeeper/websocket/config/toybroker.config.json (unchanged)
Skip blib/lib/auto/share/dist/Beekeeper/websocket/config/client.config.json (unchanged)
Skip blib/lib/auto/share/dist/Beekeeper/scraper/run.sh (unchanged)
Skip blib/lib/auto/share/dist/Beekeeper/scraper/setup.sh (unchanged)
Skip blib/lib/auto/share/dist/Beekeeper/websocket/run.sh (unchanged)
Skip blib/lib/auto/share/dist/Beekeeper/websocket/config/pool.config.json (unchanged)
Skip blib/lib/auto/share/dist/Beekeeper/websocket/README.md (unchanged)
Skip blib/lib/auto/share/dist/Beekeeper/websocket/js/config.js (unchanged)
Skip blib/lib/auto/share/dist/Beekeeper/websocket/client.html (unchanged)
Skip blib/lib/auto/share/dist/Beekeeper/websocket/lib/MyApp/Service/Calculator.pm (unchanged)
PERL_DL_NONLAZY=1 "/home/sand/src/perl/repoperls/installed-perls/host/k93msid/v5.26.0/29fb/bin/perl" "-MExtUtils::Command::MM" "-MTest::Harness" "-e" "undef *Test::Harness::Switches; test_harness(0, 'blib/lib', 'blib/arch')" t/*.t
# Testing Beekeeper 0.10, Perl 5.026000
t/00-compile.t ....... ok
t/01-test_base.t ..... ok
t/02-basic.t ......... ok
t/03-supervisor.t .... ok
t/04-log_tail.t ...... ok
t/05-recursion.t ..... ok
t/06-shared_cache.t .. ok
t/07-load_balance.t .. ok
t/08-term_signal.t ... ok
t/09-int_signal.t .... ok
t/10-mqtt.t .......... ok
t/11-examples.t ...... ok
All tests successful.
Files=12, Tests=309, 230 wallclock secs ( 0.09 usr 0.02 sys + 1.94 cusr 0.52 csys = 2.57 CPU)
Result: PASS
------------------------------
PREREQUISITES
------------------------------
Prerequisite modules loaded:
requires:
Module Need Have
----------------------- -------- --------
AnyEvent 0 7.17
JSON::XS 0 4.03
perl 5.008009 5.026000
Term::ReadKey 0 2.38
build_requires:
Module Need Have
----------------------- -------- --------
ExtUtils::MakeMaker 0 7.70
Test::Class 0 0.52
Test::More 0 1.302194
configure_requires:
Module Need Have
----------------------- -------- --------
ExtUtils::MakeMaker 0 7.70
File::ShareDir::Install 0.06 0.14
------------------------------
ENVIRONMENT AND OTHER CONTEXT
------------------------------
Environment variables:
AUTOMATED_TESTING = 1
LANG = en_US.UTF-8
LANGUAGE = en_US:en
PATH = /home/sand/bin:/usr/local/bin:/usr/bin:/bin:/usr/games:/usr/local/perl/bin:/usr/X11/bin:/sbin:/usr/sbin
PERL5LIB =
PERL5OPT =
PERL5_CPANPLUS_IS_RUNNING = 4018962
PERL5_CPAN_IS_RUNNING = 4018962
PERL_CANARY_STABILITY_NOPROMPT = 1
PERL_MM_USE_DEFAULT = 1
PERL_USE_UNSAFE_INC = 1
SHELL = /usr/bin/zsh
TERM = screen
Perl special variables (and OS-specific diagnostics, for MSWin32):
$^X = /home/sand/src/perl/repoperls/installed-perls/host/k93msid/v5.26.0/29fb/bin/perl
$UID/$EUID = 1005 / 1005
$GID = 1005 1005
$EGID = 1005 1005
Perl module toolchain versions installed:
Module Have
------------------- --------
CPAN 2.34
CPAN::Meta 2.150010
Cwd 3.75
ExtUtils::CBuilder 0.280236
ExtUtils::Command 7.70
ExtUtils::Install 2.06
ExtUtils::MakeMaker 7.70
ExtUtils::Manifest 1.70
ExtUtils::ParseXS 3.44
File::Spec 3.75
JSON 4.07
JSON::PP 4.11
Module::Build 0.4231
Module::Signature 0.88
Parse::CPAN::Meta 2.150010
Test::Harness 3.44
Test::More 1.302194
YAML 1.30
YAML::Syck 1.34
version 0.9929
--
Summary of my perl5 (revision 5 version 26 subversion 0) configuration:
Derived from: 95388f2eb27e74cdbfb715c0097f16aeba4e6e4e
Platform:
osname=linux
osvers=5.10.0-14-amd64
archname=x86_64-linux-thread-multi
uname='linux k93msid 5.10.0-14-amd64 #1 smp debian 5.10.113-1 (2022-04-29) x86_64 gnulinux '
config_args='-Dprefix=/home/sand/src/perl/repoperls/installed-perls/host/k93msid/v5.26.0/29fb -Dmyhostname=k93msid -Dinstallusrbinperl=n -Uversiononly -Dusedevel -des -Ui_db -Dlibswanted=cl pthread socket inet nsl gdbm dbm malloc dl ld sun m crypt sec util c cposix posix ucb BSD gdbm_compat -Duseithreads -Uuselongdouble -DEBUGGING=both'
hint=recommended
useposix=true
d_sigaction=define
useithreads=define
usemultiplicity=define
use64bitint=define
use64bitall=define
uselongdouble=undef
usemymalloc=n
default_inc_excludes_dot=define
bincompat5005=undef
Compiler:
cc='cc'
ccflags ='-D_REENTRANT -D_GNU_SOURCE -fwrapv -DDEBUGGING -fno-strict-aliasing -pipe -fstack-protector-strong -I/usr/local/include -D_LARGEFILE_SOURCE -D_FILE_OFFSET_BITS=64 -D_FORTIFY_SOURCE=2'
optimize='-O2 -g'
cppflags='-D_REENTRANT -D_GNU_SOURCE -fwrapv -DDEBUGGING -fno-strict-aliasing -pipe -fstack-protector-strong -I/usr/local/include'
ccversion=''
gccversion='11.3.0'
gccosandvers=''
intsize=4
longsize=8
ptrsize=8
doublesize=8
byteorder=12345678
doublekind=3
d_longlong=define
longlongsize=8
d_longdbl=define
longdblsize=16
longdblkind=3
ivtype='long'
ivsize=8
nvtype='double'
nvsize=8
Off_t='off_t'
lseeksize=8
alignbytes=8
prototype=define
Linker and Libraries:
ld='cc'
ldflags =' -fstack-protector-strong -L/usr/local/lib'
libpth=/usr/local/lib /usr/include/x86_64-linux-gnu /usr/lib /lib/x86_64-linux-gnu /lib/../lib /usr/lib/x86_64-linux-gnu /usr/lib/../lib /lib /lib64 /usr/lib64
libs=-lpthread -lnsl -ldl -lm -lcrypt -lutil -lc
perllibs=-lpthread -lnsl -ldl -lm -lcrypt -lutil -lc
libc=libc-2.33.so
so=so
useshrplib=false
libperl=libperl.a
gnulibc_version='2.33'
Dynamic Linking:
dlsrc=dl_dlopen.xs
dlext=so
d_dlsymun=undef
ccdlflags='-Wl,-E'
cccdlflags='-fPIC'
lddlflags='-shared -O2 -g -L/usr/local/lib -fstack-protector-strong'
Characteristics of this binary (from libperl):
Compile-time options:
DEBUGGING
HAS_TIMES
MULTIPLICITY
PERLIO_LAYERS
PERL_COPY_ON_WRITE
PERL_DONT_CREATE_GVSV
PERL_IMPLICIT_CONTEXT
PERL_MALLOC_WRAP
PERL_OP_PARENT
PERL_PRESERVE_IVUV
PERL_TRACK_MEMPOOL
PERL_USE_DEVEL
USE_64_BIT_ALL
USE_64_BIT_INT
USE_ITHREADS
USE_LARGE_FILES
USE_LOCALE
USE_LOCALE_COLLATE
USE_LOCALE_CTYPE
USE_LOCALE_NUMERIC
USE_LOCALE_TIME
USE_PERLIO
USE_PERL_ATOF
USE_REENTRANT_API
Locally applied patches:
uncommitted-changes
Built under linux
Compiled at Jul 7 2022 15:02:24
%ENV:
PERL5LIB=""
PERL5OPT=""
PERL5_CPANPLUS_IS_RUNNING="4018962"
PERL5_CPAN_IS_RUNNING="4018962"
PERL_CANARY_STABILITY_NOPROMPT="1"
PERL_MM_USE_DEFAULT="1"
PERL_USE_UNSAFE_INC="1"
@INC:
/home/sand/src/perl/repoperls/installed-perls/host/k93msid/v5.26.0/29fb/lib/site_perl/5.26.0/x86_64-linux-thread-multi
/home/sand/src/perl/repoperls/installed-perls/host/k93msid/v5.26.0/29fb/lib/site_perl/5.26.0
/home/sand/src/perl/repoperls/installed-perls/host/k93msid/v5.26.0/29fb/lib/5.26.0/x86_64-linux-thread-multi
/home/sand/src/perl/repoperls/installed-perls/host/k93msid/v5.26.0/29fb/lib/5.26.0
.