Report for Encode-JP-Mobile-0.30

Back
From: metabase:user:7298ebcc-b357-11e4-8d18-8eca7e4756b9
Subject: PASS Encode-JP-Mobile-0.30 v5.10.1 GNU/Linux
Date: 2015-12-25T10:54:48Z

This distribution has been tested as part of the CPAN Testers
project, supporting the Perl programming language.  See
http://wiki.cpantesters.org/ for more information or email
questions to cpan-testers-discuss@perl.org


--
Dear MIYAGAWA,

This is a computer-generated report for Encode-JP-Mobile-0.30
on perl 5.10.1, created by App::cpanminus::reporter 0.12 (1.7027).

Thank you for uploading your work to CPAN.  Congratulations!
All tests were successful.

Sections of this report:

    * Tester comments
    * Program output
    * Prerequisites
    * Environment and other context

------------------------------
TESTER COMMENTS
------------------------------

Additional comments from tester:

none provided

------------------------------
PROGRAM OUTPUT
------------------------------

Output from '':

Building and testing Encode-JP-Mobile-0.30
Installing blib/lib/auto/Encode/JP/Mobile/softbank-table.pl
Installing blib/lib/auto/Encode/JP/Mobile/convert-map-utf8.yaml
Installing blib/lib/auto/Encode/JP/Mobile/softbank-table.yaml
Installing blib/lib/auto/Encode/JP/Mobile/docomo-table.pl
Installing blib/lib/auto/Encode/JP/Mobile/softbank-unicode2sjis_auto.yaml
Installing blib/lib/auto/Encode/JP/Mobile/kddi-table.yaml
Installing blib/lib/auto/Encode/JP/Mobile/kddi-table.pl
Installing blib/lib/auto/Encode/JP/Mobile/convert-map-utf8.pl
Installing blib/lib/auto/Encode/JP/Mobile/docomo-table.yaml
cp lib/Encode/JP/Mobile/MIME/SoftBank.pm blib/lib/Encode/JP/Mobile/MIME/SoftBank.pm
cp lib/Encode/JP/Mobile/ConvertPictogramSJIS.pm blib/lib/Encode/JP/Mobile/ConvertPictogramSJIS.pm
cp lib/Encode/JP/Mobile.pm blib/lib/Encode/JP/Mobile.pm
cp lib/Encode/JP/Mobile/Vodafone.pm blib/lib/Encode/JP/Mobile/Vodafone.pm
cp lib/Encode/JP/Mobile/MIME/KDDI.pm blib/lib/Encode/JP/Mobile/MIME/KDDI.pm
cp lib/Encode/JP/Mobile/Fallback.pm blib/lib/Encode/JP/Mobile/Fallback.pm
cp lib/Encode/JP/Mobile/KDDIJIS.pm blib/lib/Encode/JP/Mobile/KDDIJIS.pm
cp lib/Encode/JP/Mobile/MIME.pm blib/lib/Encode/JP/Mobile/MIME.pm
cp lib/Encode/JP/Mobile/MIME/AirH.pm blib/lib/Encode/JP/Mobile/MIME/AirH.pm
cp lib/Encode/JP/Mobile/AirHJIS.pm blib/lib/Encode/JP/Mobile/AirHJIS.pm
cp lib/Encode/JP/Mobile/Charnames.pm blib/lib/Encode/JP/Mobile/Charnames.pm
cp lib/Encode/JP/Mobile/MIME/DoCoMo.pm blib/lib/Encode/JP/Mobile/MIME/DoCoMo.pm
cp lib/Encode/JP/Mobile/Character.pm blib/lib/Encode/JP/Mobile/Character.pm
cp lib/Encode/JP/Mobile/Cookbook.pod blib/lib/Encode/JP/Mobile/Cookbook.pod
Running Mkbootstrap for Mobile ()
chmod 644 "Mobile.bs"
"/home/mojolicious/perl5/perlbrew/perls/perl-5.10.1/bin/perl" -MExtUtils::Command::MM -e 'cp_nonempty' -- Mobile.bs blib/arch/auto/Encode/JP/Mobile/Mobile.bs 644
"/home/mojolicious/perl5/perlbrew/perls/perl-5.10.1/bin/perl"  /home/mojolicious/perl5/perlbrew/perls/perl-5.10.1/bin/enc2xs -"Q" -o Mobile_t.c -f Mobile_t.fnm
Writing compiled form
64233 bytes in string tables
16335 bytes (20.3%) saved spotting duplicates
Reading x-sjis-airh-raw (x-sjis-airh-raw)
Reading x-sjis-docomo-raw (x-sjis-docomo-raw)
Reading x-sjis-kddi-auto-raw (x-sjis-kddi-auto-raw)
Reading x-sjis-kddi-cp932-raw (x-sjis-kddi-cp932-raw)
Reading x-sjis-softbank-auto-raw (x-sjis-softbank-auto-raw)
Reading x-utf8-docomo (x-utf8-docomo)
Reading x-utf8-kddi (x-utf8-kddi)
Reading x-utf8-softbank (x-utf8-softbank)
"/home/mojolicious/perl5/perlbrew/perls/perl-5.10.1/bin/perl" "/home/mojolicious/catalystlib/5.10.1/5.90100/lib/perl5/ExtUtils/xsubpp"  -nolinenumbers -typemap '/home/mojolicious/perl5/perlbrew/perls/perl-5.10.1/lib/5.10.1/ExtUtils/typemap'  Mobile.xs > Mobile.xsc
mv Mobile.xsc Mobile.c
cc -c  -I/home/mojolicious/catalystlib/5.10.1/5.90100/lib/perl5/x86_64-linux/Encode -fno-strict-aliasing -pipe -fstack-protector -I/usr/local/include -D_LARGEFILE_SOURCE -D_FILE_OFFSET_BITS=64 -O2   -DVERSION=\"0.30\" -DXS_VERSION=\"0.30\" -fPIC "-I/home/mojolicious/perl5/perlbrew/perls/perl-5.10.1/lib/5.10.1/x86_64-linux/CORE"   Mobile.c -o Mobile.o
cc -c  -I/home/mojolicious/catalystlib/5.10.1/5.90100/lib/perl5/x86_64-linux/Encode -fno-strict-aliasing -pipe -fstack-protector -I/usr/local/include -D_LARGEFILE_SOURCE -D_FILE_OFFSET_BITS=64 -O2   -DVERSION=\"0.30\" -DXS_VERSION=\"0.30\" -fPIC "-I/home/mojolicious/perl5/perlbrew/perls/perl-5.10.1/lib/5.10.1/x86_64-linux/CORE"   Mobile_t.c -o Mobile_t.o
rm -f blib/arch/auto/Encode/JP/Mobile/Mobile.so
cc  -shared -O2 -L/usr/local/lib -fstack-protector -o blib/arch/auto/Encode/JP/Mobile/Mobile.so  Mobile.o Mobile_t.o  \
	      \
	  
chmod 755 blib/arch/auto/Encode/JP/Mobile/Mobile.so
"/home/mojolicious/perl5/perlbrew/perls/perl-5.10.1/bin/perl" -MExtUtils::Command::MM -e 'cp_nonempty' -- Mobile.bs blib/arch/auto/Encode/JP/Mobile/Mobile.bs 644
PERL_DL_NONLAZY=1 "/home/mojolicious/perl5/perlbrew/perls/perl-5.10.1/bin/perl" "-MExtUtils::Command::MM" "-MTest::Harness" "-e" "undef *Test::Harness::Switches; test_harness(0, 'blib/lib', 'blib/arch')" t/*.t
Use of uninitialized value in subroutine entry at /home/mojolicious/catalystlib/5.10.1/5.90100/lib/perl5/File/ShareDir.pm line 329.
t/airh-jis.t ......................... ok
Use of uninitialized value in subroutine entry at /home/mojolicious/catalystlib/5.10.1/5.90100/lib/perl5/File/ShareDir.pm line 329.
Use of uninitialized value in subroutine entry at /home/mojolicious/catalystlib/5.10.1/5.90100/lib/perl5/File/ShareDir.pm line 329.
Use of uninitialized value in subroutine entry at /home/mojolicious/catalystlib/5.10.1/5.90100/lib/perl5/File/ShareDir.pm line 329.
Use of uninitialized value in subroutine entry at /home/mojolicious/catalystlib/5.10.1/5.90100/lib/perl5/File/ShareDir.pm line 329.
t/character.t ........................ ok
Use of uninitialized value in subroutine entry at /home/mojolicious/catalystlib/5.10.1/5.90100/lib/perl5/File/ShareDir.pm line 329.
t/charnames-clobber-it.t ............. ok
t/charnames.t ........................ ok
Use of uninitialized value in subroutine entry at /home/mojolicious/catalystlib/5.10.1/5.90100/lib/perl5/File/ShareDir.pm line 329.
t/convert-bruteforce.t ............... ok
Use of uninitialized value in subroutine entry at /home/mojolicious/catalystlib/5.10.1/5.90100/lib/perl5/File/ShareDir.pm line 329.
t/convert-sjis-fallback-leave_src.t .. ok
Use of uninitialized value in subroutine entry at /home/mojolicious/catalystlib/5.10.1/5.90100/lib/perl5/File/ShareDir.pm line 329.
t/docomo-bruteforce.t ................ ok
Use of uninitialized value in subroutine entry at /home/mojolicious/catalystlib/5.10.1/5.90100/lib/perl5/File/ShareDir.pm line 329.
t/emoji_convert_sjis.t ............... ok
Use of uninitialized value in subroutine entry at /home/mojolicious/catalystlib/5.10.1/5.90100/lib/perl5/File/ShareDir.pm line 329.
t/emoji_convert_utf8.t ............... ok
Use of uninitialized value in subroutine entry at /home/mojolicious/catalystlib/5.10.1/5.90100/lib/perl5/File/ShareDir.pm line 329.
t/emoji_convert_utf8_fb.t ............ ok
Use of uninitialized value in subroutine entry at /home/mojolicious/catalystlib/5.10.1/5.90100/lib/perl5/File/ShareDir.pm line 329.
t/fallback.t ......................... ok
Use of uninitialized value in subroutine entry at /home/mojolicious/catalystlib/5.10.1/5.90100/lib/perl5/File/ShareDir.pm line 329.
t/fullwidth_tilde.t .................. ok
Use of uninitialized value in subroutine entry at /home/mojolicious/catalystlib/5.10.1/5.90100/lib/perl5/File/ShareDir.pm line 329.
t/kddi-bruteforce.t .................. ok
Use of uninitialized value in subroutine entry at /home/mojolicious/catalystlib/5.10.1/5.90100/lib/perl5/File/ShareDir.pm line 329.
t/kddi-jis.t ......................... ok
Use of uninitialized value in subroutine entry at /home/mojolicious/catalystlib/5.10.1/5.90100/lib/perl5/File/ShareDir.pm line 329.
t/kddi-trans.t ....................... ok
Use of uninitialized value in subroutine entry at /home/mojolicious/catalystlib/5.10.1/5.90100/lib/perl5/File/ShareDir.pm line 329.
t/mime_encoding.t .................... ok
Use of uninitialized value in subroutine entry at /home/mojolicious/catalystlib/5.10.1/5.90100/lib/perl5/File/ShareDir.pm line 329.
t/mime_name.t ........................ ok
Use of uninitialized value in subroutine entry at /home/mojolicious/catalystlib/5.10.1/5.90100/lib/perl5/File/ShareDir.pm line 329.
t/Mobile.t ........................... ok
Use of uninitialized value in subroutine entry at /home/mojolicious/catalystlib/5.10.1/5.90100/lib/perl5/File/ShareDir.pm line 329.
t/props-bruteforce-yaml.t ............ ok
Use of uninitialized value in subroutine entry at /home/mojolicious/catalystlib/5.10.1/5.90100/lib/perl5/File/ShareDir.pm line 329.
t/props-bruteforce.t ................. ok
Use of uninitialized value in subroutine entry at /home/mojolicious/catalystlib/5.10.1/5.90100/lib/perl5/File/ShareDir.pm line 329.
t/props.t ............................ ok
Use of uninitialized value in subroutine entry at /home/mojolicious/catalystlib/5.10.1/5.90100/lib/perl5/File/ShareDir.pm line 329.
t/softbank-bruteforce.t .............. ok
Use of uninitialized value in subroutine entry at /home/mojolicious/catalystlib/5.10.1/5.90100/lib/perl5/File/ShareDir.pm line 329.
t/softbank-manychars.t ............... ok
Use of uninitialized value in subroutine entry at /home/mojolicious/catalystlib/5.10.1/5.90100/lib/perl5/File/ShareDir.pm line 329.
t/vodafone-fallback.t ................ ok
All tests successful.
Files=24, Tests=27835,  9 wallclock secs ( 2.62 usr  0.13 sys +  8.54 cusr  0.40 csys = 11.69 CPU)
Result: PASS

------------------------------
PREREQUISITES
------------------------------

Prerequisite modules loaded:

runtime:

    Module              Need  Have
    ------------------- ----- ----
    Encode              2.23  2.35
  ! File::ShareDir      0.05  n/a 
  ! MIME::Words         5.428 n/a 

build:

    Module              Need  Have
    ------------------- ----- ----
    ExtUtils::MakeMaker 0     7.04

configure:

    Module              Need  Have
    ------------------- ----- ----
    ExtUtils::MakeMaker 0     7.04


------------------------------
ENVIRONMENT AND OTHER CONTEXT
------------------------------

Environment variables:

    PATH = /home/mojolicious/perl5/perlbrew/bin:/home/mojolicious/perl5/perlbrew/perls/perl-5.20.1/bin:/usr/local/bin:/usr/bin:/bin:/usr/local/games:/usr/games:/home/mojolicious/catalystlib/5.10.1/5.90100/bin
    PERLBREW_BASHRC_VERSION = 0.73
    PERLBREW_HOME = /home/mojolicious/.perlbrew
    PERLBREW_MANPATH = /home/mojolicious/perl5/perlbrew/perls/perl-5.20.1/man
    PERLBREW_PATH = /home/mojolicious/perl5/perlbrew/bin:/home/mojolicious/perl5/perlbrew/perls/perl-5.20.1/bin
    PERLBREW_PERL = perl-5.20.1
    PERLBREW_ROOT = /home/mojolicious/perl5/perlbrew
    PERLBREW_VERSION = 0.73
    SHELL = /bin/bash
    TERM = xterm

Perl special variables (and OS-specific diagnostics, for MSWin32):

    EGID = 1003 1003
    EUID = 1003
    EXECUTABLE_NAME = /home/mojolicious/perl5/perlbrew/perls/perl-5.10.1/bin/perl
    GID = 1003 1003
    UID = 1003

Perl module toolchain versions installed:

    Module              Have    
    ------------------- --------
    CPAN                1.9402  
    CPAN::Meta          2.143240
    Cwd                 3.30    
    ExtUtils::CBuilder  0.280220
    ExtUtils::Command   1.16    
    ExtUtils::Install   1.54    
    ExtUtils::MakeMaker 7.04    
    ExtUtils::Manifest  1.65    
    ExtUtils::ParseXS   3.24    
    File::Spec          3.30    
    JSON                2.90    
    JSON::PP            2.27203 
    Module::Build       0.4211  
    Module::Signature   n/a     
    Parse::CPAN::Meta   1.4414  
    Test::Harness       3.17    
    Test::More          1.001014
    YAML                n/a     
    YAML::Syck          n/a     
    version             0.9912  


--

Summary of my perl5 (revision 5 version 10 subversion 1) configuration:
   
  Platform:
    osname=linux, osvers=3.13.0-042stab094.8, archname=x86_64-linux
    uname='linux lvps92-51-161-142.dedicated.hosteurope.de 3.13.0-042stab094.8 #1 smp tue dec 16 20:36:56 msk 2014 x86_64 x86_64 x86_64 gnulinux '
    config_args='-de -Dprefix=/home/mojolicious/perl5/perlbrew/perls/perl-5.10.1 -Aeval:scriptdir=/home/mojolicious/perl5/perlbrew/perls/perl-5.10.1/bin'
    hint=recommended, useposix=true, d_sigaction=define
    useithreads=undef, usemultiplicity=undef
    useperlio=define, d_sfio=undef, uselargefiles=define, usesocks=undef
    use64bitint=define, use64bitall=define, uselongdouble=undef
    usemymalloc=n, bincompat5005=undef
  Compiler:
    cc='cc', ccflags ='-fno-strict-aliasing -pipe -fstack-protector -I/usr/local/include -D_LARGEFILE_SOURCE -D_FILE_OFFSET_BITS=64',
    optimize='-O2',
    cppflags='-fno-strict-aliasing -pipe -fstack-protector -I/usr/local/include'
    ccversion='', gccversion='4.8.2', gccosandvers=''
    intsize=4, longsize=8, ptrsize=8, doublesize=8, byteorder=12345678
    d_longlong=define, longlongsize=8, d_longdbl=define, longdblsize=16
    ivtype='long', ivsize=8, nvtype='double', nvsize=8, Off_t='off_t', lseeksize=8
    alignbytes=8, prototype=define
  Linker and Libraries:
    ld='cc', ldflags =' -fstack-protector -L/usr/local/lib'
    libpth=/usr/local/lib /lib/x86_64-linux-gnu /lib/../lib /usr/lib/x86_64-linux-gnu /usr/lib/../lib /lib /usr/lib
    libs=-lnsl -ldl -lm -lcrypt -lutil -lc
    perllibs=-lnsl -ldl -lm -lcrypt -lutil -lc
    libc=libc-2.19.so, so=so, useshrplib=false, libperl=libperl.a
    gnulibc_version='2.19'
  Dynamic Linking:
    dlsrc=dl_dlopen.xs, dlext=so, d_dlsymun=undef, ccdlflags='-Wl,-E'
    cccdlflags='-fPIC', lddlflags='-shared -O2 -L/usr/local/lib -fstack-protector'


Characteristics of this binary (from libperl): 
  Compile-time options: PERL_DONT_CREATE_GVSV PERL_MALLOC_WRAP USE_64_BIT_ALL
                        USE_64_BIT_INT USE_LARGE_FILES USE_PERLIO
  Locally applied patches:
	Devel::PatchPerl 1.30
  Built under linux
  Compiled at Mar  5 2015 11:33:38
  %ENV:
    PERLBREW_BASHRC_VERSION="0.73"
    PERLBREW_HOME="/home/mojolicious/.perlbrew"
    PERLBREW_MANPATH="/home/mojolicious/perl5/perlbrew/perls/perl-5.20.1/man"
    PERLBREW_PATH="/home/mojolicious/perl5/perlbrew/bin:/home/mojolicious/perl5/perlbrew/perls/perl-5.20.1/bin"
    PERLBREW_PERL="perl-5.20.1"
    PERLBREW_ROOT="/home/mojolicious/perl5/perlbrew"
    PERLBREW_VERSION="0.73"
  @INC:
    /home/mojolicious/perl5/perlbrew/perls/perl-5.10.1/lib/5.10.1/x86_64-linux
    /home/mojolicious/perl5/perlbrew/perls/perl-5.10.1/lib/5.10.1
    /home/mojolicious/perl5/perlbrew/perls/perl-5.10.1/lib/site_perl/5.10.1/x86_64-linux
    /home/mojolicious/perl5/perlbrew/perls/perl-5.10.1/lib/site_perl/5.10.1
    .