MongoDBx-Queue v2.000 Perl 5 v5.20.3 x86_64-linux
        
            - Status
 
            - Pass
 
            - From
 
            - Slaven Rezić (SREZIC)
 
            - Dist
 
            - 
                MongoDBx-Queue v2.000
            
 
            - Platform
 
            - Perl 5 v5.20.3 x86_64-linux
 
            - Date
 
            - 2018-10-04 20:13:10
 
            - ID
 
            - ea247544-c811-11e8-9c70-d9bb54c7fe84
 
        
        This distribution has been tested as part of the CPAN Testers
project, supporting the Perl programming language.  See
http://wiki.cpantesters.org/ for more information or email
questions to cpan-testers-discuss@perl.org
--
Dear David Golden,
This is a computer-generated report for MongoDBx-Queue-2.000
on perl 5.20.3, created by CPAN-Reporter-1.2018.
Thank you for uploading your work to CPAN.  Congratulations!
All tests were successful.
Sections of this report:
    * Tester comments
    * Program output
    * Prerequisites
    * Environment and other context
------------------------------
TESTER COMMENTS
------------------------------
Additional comments from tester:
none provided
------------------------------
PROGRAM OUTPUT
------------------------------
Output from '/usr/bin/make test':
PERL_DL_NONLAZY=1 "/bbbike/perl-5.20.3/bin/perl" "-MExtUtils::Command::MM" "-MTest::Harness" "-e" "undef *Test::Harness::Switches; test_harness(0, 'blib/lib', 'blib/arch')" t/*.t
# 
# Versions for all modules listed in MYMETA.json (including optional ones):
# 
# === Configure Requires ===
# 
#     Module              Want Have
#     ------------------- ---- ----
#     ExtUtils::MakeMaker 6.17 7.34
# 
# === Build Requires ===
# 
#     Module              Want Have
#     ------------------- ---- ----
#     ExtUtils::MakeMaker  any 7.34
# 
# === Test Requires ===
# 
#     Module              Want     Have
#     ------------------- ---- --------
#     ExtUtils::MakeMaker  any     7.34
#     File::Spec           any     3.74
#     Test::Deep           any    1.128
#     Test::More          0.96 1.302136
# 
# === Test Recommends ===
# 
#     Module         Want     Have
#     ---------- -------- --------
#     CPAN::Meta 2.120900 2.150010
# 
# === Runtime Requires ===
# 
#     Module                     Want   Have
#     -------------------------- ---- ------
#     MongoDB                       2 v2.0.1
#     Moose                         2 2.2011
#     MooseX::AttributeShortcuts  any  0.028
#     MooseX::Role::Logger        any  0.005
#     MooseX::Role::MongoDB         1  1.000
#     MooseX::Types::Moose        any   0.49
#     Tie::IxHash                 any   1.23
#     boolean                     any   0.46
#     namespace::autoclean        any   0.28
#     strict                      any   1.08
#     warnings                    any   1.23
# 
t/00-report-prereqs.t .. ok
t/queue.t .............. skipped: No MongoDB on localhost
t/search.t ............. skipped: No MongoDB on localhost
All tests successful.
Files=3, Tests=1,  2 wallclock secs ( 0.02 usr  0.01 sys +  1.35 cusr  0.22 csys =  1.60 CPU)
Result: PASS
------------------------------
PREREQUISITES
------------------------------
Prerequisite modules loaded:
requires:
    Module                     Need  Have    
    -------------------------- ----- --------
    boolean                    0     0.46    
    MongoDB                    2     v2.0.1  
    Moose                      2     2.2011  
    MooseX::AttributeShortcuts 0     0.028   
    MooseX::Role::Logger       0     0.005   
    MooseX::Role::MongoDB      1     1.000   
    MooseX::Types::Moose       0     0.49    
    namespace::autoclean       0     0.28    
    perl                       5.010 5.020003
    strict                     0     1.08    
    Tie::IxHash                0     1.23    
    warnings                   0     1.23    
build_requires:
    Module                     Need  Have    
    -------------------------- ----- --------
    ExtUtils::MakeMaker        0     7.34    
    File::Spec                 0     3.74    
    Test::Deep                 0     1.128   
    Test::More                 0.96  1.302136
configure_requires:
    Module                     Need  Have    
    -------------------------- ----- --------
    ExtUtils::MakeMaker        6.17  7.34    
    perl                       5.010 5.020003
------------------------------
ENVIRONMENT AND OTHER CONTEXT
------------------------------
Environment variables:
    LANG = C
    LC_ALL = de_DE.UTF-8
    PATH = /usr/local/bin:/usr/bin:/bin:/usr/local/sbin:/usr/sbin:/sbin:/home/cpansand/bin/linux-gnu:/home/cpansand/bin/sh:/home/cpansand/bin:/usr/games:/home/cpansand/devel:/home/eserte/src/srezic-misc/scripts
    PERL5LIB = /home/cpansand/.cpan/build/2018100420/MooseX-Role-MongoDB-1.000-7/blib/arch:/home/cpansand/.cpan/build/2018100420/MooseX-Role-MongoDB-1.000-7/blib/lib:/home/cpansand/.cpan/build/2018100420/MongoDB-v2.0.1-7/blib/arch:/home/cpansand/.cpan/build/2018100420/MongoDB-v2.0.1-7/blib/lib:/home/cpansand/.cpan/build/2018100420/OpenStack-Client-1.0004_0001-7/blib/arch:/home/cpansand/.cpan/build/2018100420/OpenStack-Client-1.0004_0001-7/blib/lib
    PERL5OPT = 
    PERL5_CPANPLUS_IS_RUNNING = 26460
    PERL5_CPAN_IS_RUNNING = 26460
    PERL5_CPAN_IS_RUNNING_IN_RECURSION = 18208,26460
    PERLDOC = -MPod::Perldoc::ToTextOverstrike
    PERL_BATCH = yes
    PERL_CANARY_STABILITY_NOPROMPT = 1
    PERL_CPAN_REPORTER_CONFIG = /var/tmp/cpansmoker-1023/2018100419/cpanreporter_000_config.ini
    PERL_EXTUTILS_AUTOINSTALL = --defaultdeps
    PERL_PARALLEL_SMOKER = yes
    PERL_USE_UNSAFE_INC = 1
    SHELL = /bin/zsh
    TERM = screen
    TMPDIR = /var/tmp/cpansmoker-1023/2018100419
Perl special variables (and OS-specific diagnostics, for MSWin32):
    $^X = /bbbike/perl-5.20.3/bin/perl
    $UID/$EUID = 1023 / 1023
    $GID = 1023 1023
    $EGID = 1023 1023
Perl module toolchain versions installed:
    Module              Have    
    ------------------- --------
    CPAN                2.16    
    CPAN::Meta          2.150010
    Cwd                 3.74    
    ExtUtils::CBuilder  0.280230
    ExtUtils::Command   7.34    
    ExtUtils::Install   2.14    
    ExtUtils::MakeMaker 7.34    
    ExtUtils::Manifest  1.71    
    ExtUtils::ParseXS   3.35    
    File::Spec          3.74    
    JSON                2.97001 
    JSON::PP            2.96    
    Module::Build       0.4224  
    Module::Signature   0.81    
    Parse::CPAN::Meta   2.150010
    Test::Harness       3.42    
    Test::More          1.302136
    YAML                1.24    
    YAML::Syck          1.30    
    version             0.9917  
--
Summary of my perl5 (revision 5 version 20 subversion 3) configuration:
   
  Platform:
    osname=linux, osvers=3.16.0-4-amd64, archname=x86_64-linux
    uname='linux eserte 3.16.0-4-amd64 #1 smp debian 3.16.7-ckt25-2 (2016-04-08) x86_64 gnulinux '
    config_args='-ds -e -Dprefix=/opt/perl-5.20.3 -Dcf_email=srezic@cpan.org'
    hint=recommended, useposix=true, d_sigaction=define
    useithreads=undef, usemultiplicity=undef
    use64bitint=define, use64bitall=define, uselongdouble=undef
    usemymalloc=n, bincompat5005=undef
  Compiler:
    cc='cc', ccflags ='-fwrapv -fno-strict-aliasing -pipe -fstack-protector -I/usr/local/include -D_LARGEFILE_SOURCE -D_FILE_OFFSET_BITS=64',
    optimize='-O2',
    cppflags='-fwrapv -fno-strict-aliasing -pipe -fstack-protector -I/usr/local/include'
    ccversion='', gccversion='4.9.2', gccosandvers=''
    intsize=4, longsize=8, ptrsize=8, doublesize=8, byteorder=12345678
    d_longlong=define, longlongsize=8, d_longdbl=define, longdblsize=16
    ivtype='long', ivsize=8, nvtype='double', nvsize=8, Off_t='off_t', lseeksize=8
    alignbytes=8, prototype=define
  Linker and Libraries:
    ld='cc', ldflags =' -fstack-protector -L/usr/local/lib'
    libpth=/usr/local/lib /usr/lib/gcc/x86_64-linux-gnu/4.9/include-fixed /usr/include/x86_64-linux-gnu /usr/lib /lib/x86_64-linux-gnu /lib/../lib /usr/lib/x86_64-linux-gnu /usr/lib/../lib /lib
    libs=-lpthread -lnsl -lgdbm -ldb -ldl -lm -lcrypt -lutil -lc -lgdbm_compat
    perllibs=-lpthread -lnsl -ldl -lm -lcrypt -lutil -lc
    libc=libc-2.19.so, so=so, useshrplib=false, libperl=libperl.a
    gnulibc_version='2.19'
  Dynamic Linking:
    dlsrc=dl_dlopen.xs, dlext=so, d_dlsymun=undef, ccdlflags='-Wl,-E'
    cccdlflags='-fPIC', lddlflags='-shared -O2 -L/usr/local/lib -fstack-protector'
Characteristics of this binary (from libperl): 
  Compile-time options: HAS_TIMES PERLIO_LAYERS PERL_DONT_CREATE_GVSV
                        PERL_HASH_FUNC_ONE_AT_A_TIME_HARD PERL_MALLOC_WRAP
                        PERL_NEW_COPY_ON_WRITE PERL_PRESERVE_IVUV
                        USE_64_BIT_ALL USE_64_BIT_INT USE_LARGE_FILES
                        USE_LOCALE USE_LOCALE_COLLATE USE_LOCALE_CTYPE
                        USE_LOCALE_NUMERIC USE_PERLIO USE_PERL_ATOF
  Locally applied patches:
	Devel::PatchPerl 1.42
  Built under linux
  Compiled at May  7 2016 12:07:58
  %ENV:
    PERL5LIB="/home/cpansand/.cpan/build/2018100420/MooseX-Role-MongoDB-1.000-7/blib/arch:/home/cpansand/.cpan/build/2018100420/MooseX-Role-MongoDB-1.000-7/blib/lib:/home/cpansand/.cpan/build/2018100420/MongoDB-v2.0.1-7/blib/arch:/home/cpansand/.cpan/build/2018100420/MongoDB-v2.0.1-7/blib/lib:/home/cpansand/.cpan/build/2018100420/OpenStack-Client-1.0004_0001-7/blib/arch:/home/cpansand/.cpan/build/2018100420/OpenStack-Client-1.0004_0001-7/blib/lib"
    PERL5OPT=""
    PERL5_CPANPLUS_IS_RUNNING="26460"
    PERL5_CPAN_IS_RUNNING="26460"
    PERL5_CPAN_IS_RUNNING_IN_RECURSION="18208,26460"
    PERLDOC="-MPod::Perldoc::ToTextOverstrike"
    PERL_BATCH="yes"
    PERL_CANARY_STABILITY_NOPROMPT="1"
    PERL_CPAN_REPORTER_CONFIG="/var/tmp/cpansmoker-1023/2018100419/cpanreporter_000_config.ini"
    PERL_EXTUTILS_AUTOINSTALL="--defaultdeps"
    PERL_PARALLEL_SMOKER="yes"
    PERL_USE_UNSAFE_INC="1"
  @INC:
    /home/cpansand/.cpan/build/2018100420/MooseX-Role-MongoDB-1.000-7/blib/arch
    /home/cpansand/.cpan/build/2018100420/MooseX-Role-MongoDB-1.000-7/blib/lib
    /home/cpansand/.cpan/build/2018100420/MongoDB-v2.0.1-7/blib/arch
    /home/cpansand/.cpan/build/2018100420/MongoDB-v2.0.1-7/blib/lib
    /home/cpansand/.cpan/build/2018100420/OpenStack-Client-1.0004_0001-7/blib/arch
    /home/cpansand/.cpan/build/2018100420/OpenStack-Client-1.0004_0001-7/blib/lib
    /opt/perl-5.20.3/lib/site_perl/5.20.3/x86_64-linux
    /opt/perl-5.20.3/lib/site_perl/5.20.3
    /opt/perl-5.20.3/lib/5.20.3/x86_64-linux
    /opt/perl-5.20.3/lib/5.20.3
    .