Plack-Test-Agent v1.5 Perl 5 v5.35.6 x86_64-linux

Status
Pass
From
Slaven Rezić
Dist
Plack-Test-Agent v1.5
Platform
Perl 5 v5.35.6 x86_64-linux
Date
2022-01-02 01:18:38
ID
e9e1e8ec-6b69-11ec-b4d7-a9331f24ea8f
This distribution has been tested as part of the CPAN Testers
project, supporting the Perl programming language.  See
http://wiki.cpantesters.org/ for more information or email
questions to cpan-testers-discuss@perl.org


--
Dear Olaf Alders,

This is a computer-generated report for Plack-Test-Agent-1.5
on perl 5.35.6, created by CPAN-Reporter-1.2018.

Thank you for uploading your work to CPAN.  Congratulations!
All tests were successful.

Sections of this report:

    * Tester comments
    * Program output
    * Prerequisites
    * Environment and other context

------------------------------
TESTER COMMENTS
------------------------------

Additional comments from tester:

none provided

------------------------------
PROGRAM OUTPUT
------------------------------

Output from '/usr/bin/make test':

PERL_DL_NONLAZY=1 "/opt/perl-5.35.6/bin/perl5.35.6" "-MExtUtils::Command::MM" "-MTest::Harness" "-e" "undef *Test::Harness::Switches; test_harness(0, 'blib/lib', 'blib/arch')" t/*.t
# 
# Versions for all modules listed in MYMETA.json (including optional ones):
# 
# === Configure Requires ===
# 
#     Module              Want Have
#     ------------------- ---- ----
#     ExtUtils::MakeMaker  any 7.64
# 
# === Build Requires ===
# 
#     Module              Want Have
#     ------------------- ---- ----
#     ExtUtils::MakeMaker  any 7.64
# 
# === Test Requires ===
# 
#     Module                     Want       Have
#     -------------------------- ---- ----------
#     ExtUtils::MakeMaker         any       7.64
#     File::Spec                  any       3.81
#     HTTP::Server::Simple::PSGI  any       0.16
#     Modern::Perl                any 1.20200211
#     Plack::Request              any     1.0048
#     Test::Memory::Cycle         any       1.06
#     Test::More                  any   1.302188
#     Test::Requires              any       0.11
#     open                        any       1.13
#     utf8                        any       1.24
# 
# === Test Recommends ===
# 
#     Module         Want     Have
#     ---------- -------- --------
#     CPAN::Meta 2.120900 2.150010
# 
# === Runtime Requires ===
# 
#     Module                Want  Have
#     --------------------- ---- -----
#     HTTP::Cookies          any  6.10
#     HTTP::Message::PSGI    any undef
#     HTTP::Request::Common  any  6.35
#     HTTP::Response         any  6.35
#     Plack::Loader          any undef
#     Plack::Util::Accessor  any undef
#     Test::TCP              any  2.22
#     Test::WWW::Mechanize   any  1.54
#     parent                 any 0.238
#     strict                 any  1.12
#     warnings               any  1.56
# 
t/00-report-prereqs.t .. ok
t/2args.t .............. ok
t/cookie.t ............. ok
t/cycle.t .............. ok
t/extra_get_args.t ..... ok
t/hello.t .............. ok
t/hello_server.t ....... ok
t/mech.t ............... ok
t/okay.t ............... ok
All tests successful.
Files=9, Tests=57,  2 wallclock secs ( 0.04 usr  0.01 sys +  1.35 cusr  0.20 csys =  1.60 CPU)
Result: PASS

------------------------------
PREREQUISITES
------------------------------

Prerequisite modules loaded:

requires:

    Module                     Need  Have      
    -------------------------- ----- ----------
    HTTP::Cookies              0     6.10      
    HTTP::Message::PSGI        0     0         
    HTTP::Request::Common      0     6.35      
    HTTP::Response             0     6.35      
    parent                     0     0.238     
    perl                       5.008 5.035006  
    Plack::Loader              0     0         
    Plack::Util::Accessor      0     0         
    strict                     0     1.12      
    Test::TCP                  0     2.22      
    Test::WWW::Mechanize       0     1.54      
    warnings                   0     1.56      

build_requires:

    Module                     Need  Have      
    -------------------------- ----- ----------
    ExtUtils::MakeMaker        0     7.64      
    File::Spec                 0     3.81      
    HTTP::Server::Simple::PSGI 0     0.16      
    Modern::Perl               0     1.20200211
    open                       0     1.13      
    Plack::Request             0     1.0048    
    Test::Memory::Cycle        0     1.06      
    Test::More                 0     1.302188  
    Test::Requires             0     0.11      
    utf8                       0     1.24      

configure_requires:

    Module                     Need  Have      
    -------------------------- ----- ----------
    ExtUtils::MakeMaker        0     7.64      
    perl                       5.006 5.035006  


------------------------------
ENVIRONMENT AND OTHER CONTEXT
------------------------------

Environment variables:

    LANG = C
    PATH = /usr/local/bin:/usr/bin:/bin:/usr/local/sbin:/usr/sbin:/sbin:/home/cpansand/bin/linux-gnu:/home/cpansand/bin/sh:/home/cpansand/bin:/usr/games:/home/cpansand/devel:/home/eserte/src/srezic-misc/scripts
    PERL5LIB = 
    PERL5OPT = 
    PERL5_CPANPLUS_IS_RUNNING = 5059
    PERL5_CPAN_IS_RUNNING = 5059
    PERL5_CPAN_IS_RUNNING_IN_RECURSION = 4913,5059
    PERLDOC = -MPod::Perldoc::ToTextOverstrike
    PERL_BATCH = yes
    PERL_CANARY_STABILITY_NOPROMPT = 1
    PERL_CPAN_REPORTER_CONFIG = /var/tmp/cpansmoker-1023/2022010201/cpanreporter_000_config.ini
    PERL_EXTUTILS_AUTOINSTALL = --defaultdeps
    PERL_USE_UNSAFE_INC = 1
    SHELL = /usr/bin/zsh
    TERM = screen
    TMPDIR = /var/tmp/cpansmoker-1023/2022010201

Perl special variables (and OS-specific diagnostics, for MSWin32):

    $^X = /opt/perl-5.35.6/bin/perl5.35.6
    $UID/$EUID = 1023 / 1023
    $GID = 1023 1023
    $EGID = 1023 1023

Perl module toolchain versions installed:

    Module              Have    
    ------------------- --------
    CPAN                2.29    
    CPAN::Meta          2.150010
    Cwd                 3.82    
    ExtUtils::CBuilder  0.280236
    ExtUtils::Command   7.64    
    ExtUtils::Install   2.20    
    ExtUtils::MakeMaker 7.64    
    ExtUtils::Manifest  1.73    
    ExtUtils::ParseXS   3.44    
    File::Spec          3.81    
    JSON                4.04    
    JSON::PP            4.07    
    Module::Build       0.4231  
    Module::Signature   0.88    
    Parse::CPAN::Meta   2.150010
    Test::Harness       3.43    
    Test::More          1.302188
    YAML                1.30    
    YAML::Syck          1.34    
    version             0.9929  


--

Summary of my perl5 (revision 5 version 35 subversion 6) configuration:
   
  Platform:
    osname=linux
    osvers=4.19.0-18-amd64
    archname=x86_64-linux
    uname='linux cloud12.bbbike.org 4.19.0-18-amd64 #1 smp debian 4.19.208-1 (2021-09-29) x86_64 gnulinux '
    config_args='-ds -e -Dprefix=/opt/perl-5.35.6 -Dusedevel -Dusemallocwrap=no -Dcf_email=srezic@cpan.org'
    hint=recommended
    useposix=true
    d_sigaction=define
    useithreads=undef
    usemultiplicity=undef
    use64bitint=define
    use64bitall=define
    uselongdouble=undef
    usemymalloc=n
    default_inc_excludes_dot=define
  Compiler:
    cc='cc'
    ccflags ='-fwrapv -fno-strict-aliasing -pipe -fstack-protector-strong -I/usr/local/include -D_LARGEFILE_SOURCE -D_FILE_OFFSET_BITS=64 -D_FORTIFY_SOURCE=2'
    optimize='-O2'
    cppflags='-fwrapv -fno-strict-aliasing -pipe -fstack-protector-strong -I/usr/local/include'
    ccversion=''
    gccversion='8.3.0'
    gccosandvers=''
    intsize=4
    longsize=8
    ptrsize=8
    doublesize=8
    byteorder=12345678
    doublekind=3
    d_longlong=define
    longlongsize=8
    d_longdbl=define
    longdblsize=16
    longdblkind=3
    ivtype='long'
    ivsize=8
    nvtype='double'
    nvsize=8
    Off_t='off_t'
    lseeksize=8
    alignbytes=8
    prototype=define
  Linker and Libraries:
    ld='cc'
    ldflags =' -fstack-protector-strong -L/usr/local/lib'
    libpth=/usr/local/lib /usr/lib/x86_64-linux-gnu /usr/lib /usr/lib64
    libs=-lpthread -lnsl -lgdbm -ldb -ldl -lm -lcrypt -lutil -lc
    perllibs=-lpthread -lnsl -ldl -lm -lcrypt -lutil -lc
    libc=libc-2.28.so
    so=so
    useshrplib=false
    libperl=libperl.a
    gnulibc_version='2.28'
  Dynamic Linking:
    dlsrc=dl_dlopen.xs
    dlext=so
    d_dlsymun=undef
    ccdlflags='-Wl,-E'
    cccdlflags='-fPIC'
    lddlflags='-shared -O2 -L/usr/local/lib -fstack-protector-strong'


Characteristics of this binary (from libperl): 
  Compile-time options:
    HAS_TIMES
    PERLIO_LAYERS
    PERL_COPY_ON_WRITE
    PERL_DONT_CREATE_GVSV
    PERL_OP_PARENT
    PERL_PRESERVE_IVUV
    PERL_USE_DEVEL
    USE_64_BIT_ALL
    USE_64_BIT_INT
    USE_LARGE_FILES
    USE_LOCALE
    USE_LOCALE_COLLATE
    USE_LOCALE_CTYPE
    USE_LOCALE_NUMERIC
    USE_LOCALE_TIME
    USE_PERLIO
    USE_PERL_ATOF
  Built under linux
  Compiled at Nov 21 2021 13:18:35
  %ENV:
    PERL5LIB=""
    PERL5OPT=""
    PERL5_CPANPLUS_IS_RUNNING="5059"
    PERL5_CPAN_IS_RUNNING="5059"
    PERL5_CPAN_IS_RUNNING_IN_RECURSION="4913,5059"
    PERLDOC="-MPod::Perldoc::ToTextOverstrike"
    PERL_BATCH="yes"
    PERL_CANARY_STABILITY_NOPROMPT="1"
    PERL_CPAN_REPORTER_CONFIG="/var/tmp/cpansmoker-1023/2022010201/cpanreporter_000_config.ini"
    PERL_EXTUTILS_AUTOINSTALL="--defaultdeps"
    PERL_USE_UNSAFE_INC="1"
  @INC:
    /opt/perl-5.35.6/lib/site_perl/5.35.6/x86_64-linux
    /opt/perl-5.35.6/lib/site_perl/5.35.6
    /opt/perl-5.35.6/lib/5.35.6/x86_64-linux
    /opt/perl-5.35.6/lib/5.35.6
    .