WWW-Contact v0.51 Perl 5 v5.24.0 x86_64-linux

Status
Pass
From
Slaven Rezić (SREZIC)
Dist
WWW-Contact v0.51
Platform
Perl 5 v5.24.0 x86_64-linux
Date
2018-02-28 01:37:18
ID
e9d3137a-1c27-11e8-bd88-e42008bf6fa1
This distribution has been tested as part of the CPAN Testers
project, supporting the Perl programming language.  See
http://wiki.cpantesters.org/ for more information or email
questions to cpan-testers-discuss@perl.org


--
Dear Fayland Lin,

This is a computer-generated report for WWW-Contact-0.51
on perl 5.24.0, created by CPAN-Reporter-1.2018.

Thank you for uploading your work to CPAN.  Congratulations!
All tests were successful.

Sections of this report:

    * Tester comments
    * Program output
    * Prerequisites
    * Environment and other context

------------------------------
TESTER COMMENTS
------------------------------

Additional comments from tester:

none provided

------------------------------
PROGRAM OUTPUT
------------------------------

Output from './Build test':

# Testing WWW::Contact 0.51, Perl 5.024000, /opt/perl-5.24.0/bin/perl
t/00-load.t ......... ok
t/01-basic.t ........ ok
t/02-supplier.t ..... ok
t/101-gmail.t ....... skipped: set $ENV{TEST_GMAIL} and $ENV{TEST_GMAIL_PASS} to test
t/102-yahoo.t ....... skipped: set $ENV{TEST_YAHOO} and $ENV{TEST_YAHOO_PASS} to test
t/103-rediff.t ...... skipped: set $ENV{TEST_REDIFF} and $ENV{TEST_REDIFF_PASS} to test
t/104-163.t ......... skipped: set $ENV{TEST_163} and $ENV{TEST_163_PASS} to test
t/105-aol.t ......... skipped: set $ENV{TEST_AOL} and $ENV{TEST_AOL_PASS} to test
t/106-mail.t ........ skipped: set $ENV{TEST_MAIL} and $ENV{TEST_MAIL_PASS} to test
t/107-hotmail.t ..... skipped: set $ENV{TEST_HOTMAIL} and $ENV{TEST_HOTMAIL_PASS} to test
t/108-indiatimes.t .. skipped: set $ENV{TEST_INDIATIMES} and $ENV{TEST_INDIATIMES_PASS} to test
t/109-lycos.t ....... skipped: set $ENV{TEST_LYCOS} and $ENV{TEST_LYCOS_PASS} to test
t/110-plaxo.t ....... skipped: set $ENV{TEST_PLAXO} and $ENV{TEST_PLAXO_PASS} to test
t/999-author.t ...... skipped: author tests
t/pod.t ............. ok
All tests successful.
Files=15, Tests=35,  2 wallclock secs ( 0.03 usr  0.07 sys +  1.96 cusr  0.29 csys =  2.35 CPU)
Result: PASS

------------------------------
PREREQUISITES
------------------------------

Prerequisite modules loaded:

requires:

    Module                   Need Have    
    ------------------------ ---- --------
  ! Crypt::SSLeay            0    n/a     
    HTML::Entities           0    3.69    
    HTML::TokeParser::Simple 0    3.16    
    HTML::TreeBuilder        0    5.07    
    JSON::XS                 0    3.04    
    Moose                    0.77 2.2006  
    Net::DNS::Resolver       0    1598    
    Net::Google::AuthSub     0    0.5     
    Text::CSV                0    1.95    
    Text::vCard              0    3.09    
    WWW::Mechanize           0    1.86    
    WWW::Mechanize::GZip     0    0.12    

build_requires:

    Module                   Need Have    
    ------------------------ ---- --------
    Test::More               0.90 1.302122

configure_requires:

    Module                   Need Have    
    ------------------------ ---- --------
    Module::Build            0.42 0.4224  


------------------------------
ENVIRONMENT AND OTHER CONTEXT
------------------------------

Environment variables:

    LANG = C
    PATH = /usr/local/bin:/usr/bin:/bin:/usr/local/sbin:/usr/sbin:/sbin:/home/cpansand/bin/linux-gnu:/home/cpansand/bin/sh:/home/cpansand/bin:/usr/games:/home/cpansand/devel:/home/eserte/src/srezic-misc/scripts
    PERL5LIB = /home/cpansand/.cpan/build/2018022800/Text-vCard-3.09-1/blib/arch:/home/cpansand/.cpan/build/2018022800/Text-vCard-3.09-1/blib/lib:/home/cpansand/.cpan/build/2018022800/Directory-Scratch-0.18-1/blib/arch:/home/cpansand/.cpan/build/2018022800/Directory-Scratch-0.18-1/blib/lib:/home/cpansand/.cpan/build/2018022800/Net-Google-AuthSub-0.5-3/blib/arch:/home/cpansand/.cpan/build/2018022800/Net-Google-AuthSub-0.5-3/blib/lib
    PERL5OPT = 
    PERL5_CPANPLUS_IS_RUNNING = 25120
    PERL5_CPAN_IS_RUNNING = 25120
    PERL5_CPAN_IS_RUNNING_IN_RECURSION = 23762,25120
    PERLDOC = -MPod::Perldoc::ToTextOverstrike
    PERL_BATCH = yes
    PERL_CANARY_STABILITY_NOPROMPT = 1
    PERL_CPAN_REPORTER_CONFIG = /var/tmp/cpansmoker-1023/2018022800/cpanreporter_000_config.ini
    PERL_EXTUTILS_AUTOINSTALL = --defaultdeps
    PERL_USE_UNSAFE_INC = 1
    SHELL = /usr/bin/zsh
    TERM = screen
    TMPDIR = /var/tmp/cpansmoker-1023/2018022800

Perl special variables (and OS-specific diagnostics, for MSWin32):

    $^X = /opt/perl-5.24.0/bin/perl
    $UID/$EUID = 1023 / 1023
    $GID = 1023 1023
    $EGID = 1023 1023

Perl module toolchain versions installed:

    Module              Have    
    ------------------- --------
    CPAN                2.16    
    CPAN::Meta          2.150010
    Cwd                 3.63    
    ExtUtils::CBuilder  0.280230
    ExtUtils::Command   7.32    
    ExtUtils::Install   2.06    
    ExtUtils::MakeMaker 7.32    
    ExtUtils::Manifest  1.70    
    ExtUtils::ParseXS   3.31    
    File::Spec          3.63    
    JSON                2.97001 
    JSON::PP            2.95    
    Module::Build       0.4224  
    Module::Signature   0.81    
    Parse::CPAN::Meta   2.150010
    Test::Harness       3.39    
    Test::More          1.302122
    YAML                1.24    
    YAML::Syck          1.30    
    version             0.9916  


--

Summary of my perl5 (revision 5 version 24 subversion 0) configuration:
   
  Platform:
    osname=linux, osvers=4.9.0-3-amd64, archname=x86_64-linux
    uname='linux debian9 4.9.0-3-amd64 #1 smp debian 4.9.30-2+deb9u1 (2017-06-18) x86_64 gnulinux '
    config_args='-ds -e -Dprefix=/opt/perl-5.24.0 -Dcf_email=srezic@cpan.org'
    hint=recommended, useposix=true, d_sigaction=define
    useithreads=undef, usemultiplicity=undef
    use64bitint=define, use64bitall=define, uselongdouble=undef
    usemymalloc=n, bincompat5005=undef
  Compiler:
    cc='cc', ccflags ='-fwrapv -fno-strict-aliasing -pipe -fstack-protector-strong -I/usr/local/include -D_LARGEFILE_SOURCE -D_FILE_OFFSET_BITS=64',
    optimize='-O2',
    cppflags='-fwrapv -fno-strict-aliasing -pipe -fstack-protector-strong -I/usr/local/include'
    ccversion='', gccversion='6.3.0 20170516', gccosandvers=''
    intsize=4, longsize=8, ptrsize=8, doublesize=8, byteorder=12345678, doublekind=3
    d_longlong=define, longlongsize=8, d_longdbl=define, longdblsize=16, longdblkind=3
    ivtype='long', ivsize=8, nvtype='double', nvsize=8, Off_t='off_t', lseeksize=8
    alignbytes=8, prototype=define
  Linker and Libraries:
    ld='cc', ldflags =' -fstack-protector-strong -L/usr/local/lib'
    libpth=/usr/local/lib /usr/lib/gcc/x86_64-linux-gnu/6/include-fixed /usr/include/x86_64-linux-gnu /usr/lib /lib/x86_64-linux-gnu /lib/../lib /usr/lib/x86_64-linux-gnu /usr/lib/../lib /lib
    libs=-lpthread -lnsl -lgdbm -ldb -ldl -lm -lcrypt -lutil -lc -lgdbm_compat
    perllibs=-lpthread -lnsl -ldl -lm -lcrypt -lutil -lc
    libc=libc-2.24.so, so=so, useshrplib=false, libperl=libperl.a
    gnulibc_version='2.24'
  Dynamic Linking:
    dlsrc=dl_dlopen.xs, dlext=so, d_dlsymun=undef, ccdlflags='-Wl,-E'
    cccdlflags='-fPIC', lddlflags='-shared -O2 -L/usr/local/lib -fstack-protector-strong'


Characteristics of this binary (from libperl): 
  Compile-time options: HAS_TIMES PERLIO_LAYERS PERL_COPY_ON_WRITE
                        PERL_DONT_CREATE_GVSV
                        PERL_HASH_FUNC_ONE_AT_A_TIME_HARD PERL_MALLOC_WRAP
                        PERL_PRESERVE_IVUV USE_64_BIT_ALL USE_64_BIT_INT
                        USE_LARGE_FILES USE_LOCALE USE_LOCALE_COLLATE
                        USE_LOCALE_CTYPE USE_LOCALE_NUMERIC USE_LOCALE_TIME
                        USE_PERLIO USE_PERL_ATOF
  Built under linux
  Compiled at Jun 20 2017 18:06:36
  %ENV:
    PERL5LIB="/home/cpansand/.cpan/build/2018022800/Text-vCard-3.09-1/blib/arch:/home/cpansand/.cpan/build/2018022800/Text-vCard-3.09-1/blib/lib:/home/cpansand/.cpan/build/2018022800/Directory-Scratch-0.18-1/blib/arch:/home/cpansand/.cpan/build/2018022800/Directory-Scratch-0.18-1/blib/lib:/home/cpansand/.cpan/build/2018022800/Net-Google-AuthSub-0.5-3/blib/arch:/home/cpansand/.cpan/build/2018022800/Net-Google-AuthSub-0.5-3/blib/lib"
    PERL5OPT=""
    PERL5_CPANPLUS_IS_RUNNING="25120"
    PERL5_CPAN_IS_RUNNING="25120"
    PERL5_CPAN_IS_RUNNING_IN_RECURSION="23762,25120"
    PERLDOC="-MPod::Perldoc::ToTextOverstrike"
    PERL_BATCH="yes"
    PERL_CANARY_STABILITY_NOPROMPT="1"
    PERL_CPAN_REPORTER_CONFIG="/var/tmp/cpansmoker-1023/2018022800/cpanreporter_000_config.ini"
    PERL_EXTUTILS_AUTOINSTALL="--defaultdeps"
    PERL_USE_UNSAFE_INC="1"
  @INC:
    /home/cpansand/.cpan/build/2018022800/Text-vCard-3.09-1/blib/arch
    /home/cpansand/.cpan/build/2018022800/Text-vCard-3.09-1/blib/lib
    /home/cpansand/.cpan/build/2018022800/Directory-Scratch-0.18-1/blib/arch
    /home/cpansand/.cpan/build/2018022800/Directory-Scratch-0.18-1/blib/lib
    /home/cpansand/.cpan/build/2018022800/Net-Google-AuthSub-0.5-3/blib/arch
    /home/cpansand/.cpan/build/2018022800/Net-Google-AuthSub-0.5-3/blib/lib
    /opt/perl-5.24.0/lib/site_perl/5.24.0/x86_64-linux
    /opt/perl-5.24.0/lib/site_perl/5.24.0
    /opt/perl-5.24.0/lib/5.24.0/x86_64-linux
    /opt/perl-5.24.0/lib/5.24.0
    .