Plack v1.0051 Perl 5 v5.40.2 darwin-2level

Status
Pass
From
Dist
Plack v1.0051
Platform
Perl 5 v5.40.2 darwin-2level
Date
2025-04-13 19:02:56
ID
e910bdcc-1899-11f0-a6e0-8e43d983e0c7
This distribution has been tested as part of the CPAN Testers
project, supporting the Perl programming language.  See
http://wiki.cpantesters.org/ for more information or email
questions to cpan-testers-discuss@perl.org


--
Dear MIYAGAWA,

This is a computer-generated report for Plack-1.0051
on perl 5.40.2, created by App::cpanminus::reporter 0.22 (1.7048).

Thank you for uploading your work to CPAN.  Congratulations!
All tests were successful.

Sections of this report:

    * Tester comments
    * Program output
    * Prerequisites
    * Environment and other context

------------------------------
TESTER COMMENTS
------------------------------

Additional comments from tester:

none provided

------------------------------
PROGRAM OUTPUT
------------------------------

Output from '':

Running Makefile.PL
Warning: prerequisite Apache::LogFormat::Compiler 0.33 not found.
Warning: prerequisite Cookie::Baker 0.07 not found.
Warning: prerequisite Devel::StackTrace::AsHTML 0.11 not found.
Warning: prerequisite Filesys::Notify::Simple 0 not found.
Warning: prerequisite HTTP::Entity::Parser 0.25 not found.
Warning: prerequisite HTTP::Headers::Fast 0.18 not found.
Warning: prerequisite Hash::MultiValue 0.05 not found.
Warning: prerequisite Stream::Buffered 0.02 not found.
Warning: prerequisite Test::TCP 2.15 not found.
Warning: prerequisite WWW::Form::UrlEncoded 0.23 not found.
Checking if your kit is complete...
Looks good
Generating a Unix-style Makefile
Writing Makefile for Plack
Writing MYMETA.yml and MYMETA.json
-> OK
Checking dependencies from MYMETA.json ...
Checking if you have parent 0 ... Yes (0.241)
Checking if you have HTTP::Headers::Fast 0.18 ... No
Checking if you have Test::More 0.88 ... Yes (1.302199)
Checking if you have Hash::MultiValue 0.05 ... No
Checking if you have Cookie::Baker 0.07 ... No
Checking if you have HTTP::Entity::Parser 0.25 ... No
Checking if you have Test::Requires 0 ... Yes (0.11)
Checking if you have Stream::Buffered 0.02 ... No
Checking if you have Try::Tiny 0 ... Yes (0.32)
Checking if you have HTTP::Message 5.814 ... Yes (7.00)
Checking if you have ExtUtils::MakeMaker 0 ... Yes (7.70)
Checking if you have HTTP::Tiny 0.034 ... Yes (0.088)
Checking if you have WWW::Form::UrlEncoded 0.23 ... No
Checking if you have Apache::LogFormat::Compiler 0.33 ... No
Checking if you have Test::TCP 2.15 ... No
Checking if you have File::ShareDir 1.00 ... Yes (1.118)
Checking if you have Devel::StackTrace 1.23 ... Yes (2.05)
Checking if you have Filesys::Notify::Simple 0 ... No
Checking if you have Devel::StackTrace::AsHTML 0.11 ... No
Checking if you have URI 1.59 ... Yes (5.31)
Checking if you have Pod::Usage 1.36 ... Yes (2.03)
Checking if you have HTTP::Headers 0 ... Yes (7.00)
Checking if you have Authen::Simple::Passwd 0 ... No
Checking if you have IO::Handle::Util 0 ... No
Checking if you have CGI::Emulate::PSGI 0 ... No
Checking if you have Module::Refresh 0 ... No
Checking if you have Log::Dispatch::Array 0 ... Yes (1.005)
Checking if you have FCGI 0 ... No
Checking if you have CGI::Compile 0 ... No
Checking if you have LWP::Protocol::http10 0 ... No
Checking if you have FCGI::ProcManager 0 ... No
Checking if you have Test::MockTime::HiRes 0.06 ... No
Checking if you have Log::Log4perl 0 ... No
Checking if you have Log::Dispatch 2.25 ... Yes (2.71)
Checking if you have LWP::UserAgent 5.814 ... Yes (6.78)
Checking if you have HTTP::Request::AsCGI 0 ... No
Checking if you have HTTP::Server::Simple::PSGI 0 ... No
Checking if you have MIME::Types 0 ... No
==> Found dependencies: HTTP::Headers::Fast, Hash::MultiValue, Cookie::Baker, HTTP::Entity::Parser, Stream::Buffered, WWW::Form::UrlEncoded, Apache::LogFormat::Compiler, Test::TCP, Filesys::Notify::Simple, Devel::StackTrace::AsHTML, Authen::Simple::Passwd, IO::Handle::Util, CGI::Emulate::PSGI, Module::Refresh, FCGI, CGI::Compile, LWP::Protocol::http10, FCGI::ProcManager, Test::MockTime::HiRes, Log::Log4perl, HTTP::Request::AsCGI, HTTP::Server::Simple::PSGI, MIME::Types
Searching HTTP::Headers::Fast (0.18) on cpanmetadb ...
--> Working on HTTP::Headers::Fast
Fetching http://www.cpan.org/authors/id/T/TO/TOKUHIROM/HTTP-Headers-Fast-0.22.tar.gz
-> OK
Unpacking HTTP-Headers-Fast-0.22.tar.gz
Installing /Volumes/chambord/Users/ether/.perlbrew/libs/40.2@std/lib/perl5/HTTP/Headers/Fast.pm
-> OK
Successfully installed HTTP-Headers-Fast-0.22
Installing /Volumes/chambord/Users/ether/.perlbrew/libs/40.2@std/lib/perl5/darwin-2level/.meta/HTTP-Headers-Fast-0.22/MYMETA.json
Installing /Volumes/chambord/Users/ether/.perlbrew/libs/40.2@std/lib/perl5/darwin-2level/.meta/HTTP-Headers-Fast-0.22/install.json
Searching Hash::MultiValue (0.05) on cpanmetadb ...
--> Working on Hash::MultiValue
Fetching http://www.cpan.org/authors/id/A/AR/ARISTOTLE/Hash-MultiValue-0.16.tar.gz
-> OK
Unpacking Hash-MultiValue-0.16.tar.gz
Installing /Volumes/chambord/Users/ether/.perlbrew/libs/40.2@std/lib/perl5/Hash/MultiValue.pm
Appending installation info to /Volumes/chambord/Users/ether/.perlbrew/libs/40.2@std/lib/perl5/darwin-2level/perllocal.pod
-> OK
Successfully installed Hash-MultiValue-0.16
Installing /Volumes/chambord/Users/ether/.perlbrew/libs/40.2@std/lib/perl5/darwin-2level/.meta/Hash-MultiValue-0.16/MYMETA.json
Installing /Volumes/chambord/Users/ether/.perlbrew/libs/40.2@std/lib/perl5/darwin-2level/.meta/Hash-MultiValue-0.16/install.json
Searching Cookie::Baker (0.07) on cpanmetadb ...
--> Working on Cookie::Baker
Fetching http://www.cpan.org/authors/id/K/KA/KAZEBURO/Cookie-Baker-0.12.tar.gz
-> OK
Unpacking Cookie-Baker-0.12.tar.gz
Installing /Volumes/chambord/Users/ether/.perlbrew/libs/40.2@std/lib/perl5/Cookie/Baker.pm
-> OK
Successfully installed Cookie-Baker-0.12
Installing /Volumes/chambord/Users/ether/.perlbrew/libs/40.2@std/lib/perl5/darwin-2level/.meta/Cookie-Baker-0.12/MYMETA.json
Installing /Volumes/chambord/Users/ether/.perlbrew/libs/40.2@std/lib/perl5/darwin-2level/.meta/Cookie-Baker-0.12/install.json
Searching HTTP::Entity::Parser (0.25) on cpanmetadb ...
--> Working on HTTP::Entity::Parser
Fetching http://www.cpan.org/authors/id/K/KA/KAZEBURO/HTTP-Entity-Parser-0.25.tar.gz
-> OK
Unpacking HTTP-Entity-Parser-0.25.tar.gz
Installing /Volumes/chambord/Users/ether/.perlbrew/libs/40.2@std/lib/perl5/HTTP/Entity/Parser.pm
Installing /Volumes/chambord/Users/ether/.perlbrew/libs/40.2@std/lib/perl5/HTTP/Entity/Parser/MultiPart.pm
Installing /Volumes/chambord/Users/ether/.perlbrew/libs/40.2@std/lib/perl5/HTTP/Entity/Parser/JSON.pm
Installing /Volumes/chambord/Users/ether/.perlbrew/libs/40.2@std/lib/perl5/HTTP/Entity/Parser/OctetStream.pm
Installing /Volumes/chambord/Users/ether/.perlbrew/libs/40.2@std/lib/perl5/HTTP/Entity/Parser/UrlEncoded.pm
-> OK
Successfully installed HTTP-Entity-Parser-0.25
Installing /Volumes/chambord/Users/ether/.perlbrew/libs/40.2@std/lib/perl5/darwin-2level/.meta/HTTP-Entity-Parser-0.25/MYMETA.json
Installing /Volumes/chambord/Users/ether/.perlbrew/libs/40.2@std/lib/perl5/darwin-2level/.meta/HTTP-Entity-Parser-0.25/install.json
Already tried Stream::Buffered. Skipping.
Already tried WWW::Form::UrlEncoded. Skipping.
Searching Apache::LogFormat::Compiler (0.33) on cpanmetadb ...
--> Working on Apache::LogFormat::Compiler
Fetching http://www.cpan.org/authors/id/K/KA/KAZEBURO/Apache-LogFormat-Compiler-0.36.tar.gz
-> OK
Unpacking Apache-LogFormat-Compiler-0.36.tar.gz
Installing /Volumes/chambord/Users/ether/.perlbrew/libs/40.2@std/lib/perl5/Apache/LogFormat/Compiler.pm
-> OK
Successfully installed Apache-LogFormat-Compiler-0.36
Installing /Volumes/chambord/Users/ether/.perlbrew/libs/40.2@std/lib/perl5/darwin-2level/.meta/Apache-LogFormat-Compiler-0.36/MYMETA.json
Installing /Volumes/chambord/Users/ether/.perlbrew/libs/40.2@std/lib/perl5/darwin-2level/.meta/Apache-LogFormat-Compiler-0.36/install.json
Searching Test::TCP (2.15) on cpanmetadb ...
--> Working on Test::TCP
Fetching http://www.cpan.org/authors/id/M/MI/MIYAGAWA/Test-TCP-2.22.tar.gz
-> OK
Unpacking Test-TCP-2.22.tar.gz
Installing /Volumes/chambord/Users/ether/.perlbrew/libs/40.2@std/lib/perl5/Test/TCP.pm
Installing /Volumes/chambord/Users/ether/.perlbrew/libs/40.2@std/lib/perl5/Test/TCP/CheckPort.pm
Installing /Volumes/chambord/Users/ether/.perlbrew/libs/40.2@std/lib/perl5/Net/EmptyPort.pm
Appending installation info to /Volumes/chambord/Users/ether/.perlbrew/libs/40.2@std/lib/perl5/darwin-2level/perllocal.pod
-> OK
Successfully installed Test-TCP-2.22
Installing /Volumes/chambord/Users/ether/.perlbrew/libs/40.2@std/lib/perl5/darwin-2level/.meta/Test-TCP-2.22/MYMETA.json
Installing /Volumes/chambord/Users/ether/.perlbrew/libs/40.2@std/lib/perl5/darwin-2level/.meta/Test-TCP-2.22/install.json
Searching Filesys::Notify::Simple (0) on cpanmetadb ...
--> Working on Filesys::Notify::Simple
Fetching http://www.cpan.org/authors/id/M/MI/MIYAGAWA/Filesys-Notify-Simple-0.14.tar.gz
-> OK
Unpacking Filesys-Notify-Simple-0.14.tar.gz
Installing /Volumes/chambord/Users/ether/.perlbrew/libs/40.2@std/lib/perl5/Filesys/Notify/Simple.pm
Appending installation info to /Volumes/chambord/Users/ether/.perlbrew/libs/40.2@std/lib/perl5/darwin-2level/perllocal.pod
-> OK
Successfully installed Filesys-Notify-Simple-0.14
Installing /Volumes/chambord/Users/ether/.perlbrew/libs/40.2@std/lib/perl5/darwin-2level/.meta/Filesys-Notify-Simple-0.14/MYMETA.json
Installing /Volumes/chambord/Users/ether/.perlbrew/libs/40.2@std/lib/perl5/darwin-2level/.meta/Filesys-Notify-Simple-0.14/install.json
Searching Devel::StackTrace::AsHTML (0.11) on cpanmetadb ...
--> Working on Devel::StackTrace::AsHTML
Fetching http://www.cpan.org/authors/id/M/MI/MIYAGAWA/Devel-StackTrace-AsHTML-0.15.tar.gz
-> OK
Unpacking Devel-StackTrace-AsHTML-0.15.tar.gz
Installing /Volumes/chambord/Users/ether/.perlbrew/libs/40.2@std/lib/perl5/Devel/StackTrace/AsHTML.pm
Appending installation info to /Volumes/chambord/Users/ether/.perlbrew/libs/40.2@std/lib/perl5/darwin-2level/perllocal.pod
-> OK
Successfully installed Devel-StackTrace-AsHTML-0.15
Installing /Volumes/chambord/Users/ether/.perlbrew/libs/40.2@std/lib/perl5/darwin-2level/.meta/Devel-StackTrace-AsHTML-0.15/MYMETA.json
Installing /Volumes/chambord/Users/ether/.perlbrew/libs/40.2@std/lib/perl5/darwin-2level/.meta/Devel-StackTrace-AsHTML-0.15/install.json
Searching Authen::Simple::Passwd (0) on cpanmetadb ...
--> Working on Authen::Simple::Passwd
Fetching http://www.cpan.org/authors/id/C/CH/CHANSEN/Authen-Simple-Passwd-0.6.tar.gz
-> OK
Unpacking Authen-Simple-Passwd-0.6.tar.gz
Installing /Volumes/chambord/Users/ether/.perlbrew/libs/40.2@std/lib/perl5/Plack.pm
Installing /Volumes/chambord/Users/ether/.perlbrew/libs/40.2@std/lib/perl5/auto/share/dist/Plack/face.jpg
Installing /Volumes/chambord/Users/ether/.perlbrew/libs/40.2@std/lib/perl5/auto/share/dist/Plack/baybridge.jpg
Installing /Volumes/chambord/Users/ether/.perlbrew/libs/40.2@std/lib/perl5/HTTP/Message/PSGI.pm
Installing /Volumes/chambord/Users/ether/.perlbrew/libs/40.2@std/lib/perl5/HTTP/Server/PSGI.pm
Installing /Volumes/chambord/Users/ether/.perlbrew/libs/40.2@std/lib/perl5/Plack/LWPish.pm
Installing /Volumes/chambord/Users/ether/.perlbrew/libs/40.2@std/lib/perl5/Plack/Request.pm
Installing /Volumes/chambord/Users/ether/.perlbrew/libs/40.2@std/lib/perl5/Plack/Loader.pm
Installing /Volumes/chambord/Users/ether/.perlbrew/libs/40.2@std/lib/perl5/Plack/Util.pm
Installing /Volumes/chambord/Users/ether/.perlbrew/libs/40.2@std/lib/perl5/Plack/Middleware.pm
Installing /Volumes/chambord/Users/ether/.perlbrew/libs/40.2@std/lib/perl5/Plack/Test.pm
Installing /Volumes/chambord/Users/ether/.perlbrew/libs/40.2@std/lib/perl5/Plack/HTTPParser.pm
Installing /Volumes/chambord/Users/ether/.perlbrew/libs/40.2@std/lib/perl5/Plack/Handler.pm
Installing /Volumes/chambord/Users/ether/.perlbrew/libs/40.2@std/lib/perl5/Plack/MIME.pm
Installing /Volumes/chambord/Users/ether/.perlbrew/libs/40.2@std/lib/perl5/Plack/Component.pm
Installing /Volumes/chambord/Users/ether/.perlbrew/libs/40.2@std/lib/perl5/Plack/Response.pm
Installing /Volumes/chambord/Users/ether/.perlbrew/libs/40.2@std/lib/perl5/Plack/Builder.pm
Installing /Volumes/chambord/Users/ether/.perlbrew/libs/40.2@std/lib/perl5/Plack/TempBuffer.pm
Installing /Volumes/chambord/Users/ether/.perlbrew/libs/40.2@std/lib/perl5/Plack/Runner.pm
Installing /Volumes/chambord/Users/ether/.perlbrew/libs/40.2@std/lib/perl5/Plack/Test/MockHTTP.pm
Installing /Volumes/chambord/Users/ether/.perlbrew/libs/40.2@std/lib/perl5/Plack/Test/Suite.pm
Installing /Volumes/chambord/Users/ether/.perlbrew/libs/40.2@std/lib/perl5/Plack/Test/Server.pm
Installing /Volumes/chambord/Users/ether/.perlbrew/libs/40.2@std/lib/perl5/Plack/Util/Accessor.pm
Installing /Volumes/chambord/Users/ether/.perlbrew/libs/40.2@std/lib/perl5/Plack/Handler/FCGI.pm
Installing /Volumes/chambord/Users/ether/.perlbrew/libs/40.2@std/lib/perl5/Plack/Handler/Apache2.pm
Installing /Volumes/chambord/Users/ether/.perlbrew/libs/40.2@std/lib/perl5/Plack/Handler/Standalone.pm
Installing /Volumes/chambord/Users/ether/.perlbrew/libs/40.2@std/lib/perl5/Plack/Handler/Apache1.pm
Installing /Volumes/chambord/Users/ether/.perlbrew/libs/40.2@std/lib/perl5/Plack/Handler/CGI.pm
Installing /Volumes/chambord/Users/ether/.perlbrew/libs/40.2@std/lib/perl5/Plack/Handler/HTTP/Server/PSGI.pm
Installing /Volumes/chambord/Users/ether/.perlbrew/libs/40.2@std/lib/perl5/Plack/Handler/Apache2/Registry.pm
Installing /Volumes/chambord/Users/ether/.perlbrew/libs/40.2@std/lib/perl5/Plack/Middleware/Recursive.pm
Installing /Volumes/chambord/Users/ether/.perlbrew/libs/40.2@std/lib/perl5/Plack/Middleware/AccessLog.pm
Installing /Volumes/chambord/Users/ether/.perlbrew/libs/40.2@std/lib/perl5/Plack/Middleware/Runtime.pm
Installing /Volumes/chambord/Users/ether/.perlbrew/libs/40.2@std/lib/perl5/Plack/Middleware/NullLogger.pm
Installing /Volumes/chambord/Users/ether/.perlbrew/libs/40.2@std/lib/perl5/Plack/Middleware/Chunked.pm
Installing /Volumes/chambord/Users/ether/.perlbrew/libs/40.2@std/lib/perl5/Plack/Middleware/ContentMD5.pm
Installing /Volumes/chambord/Users/ether/.perlbrew/libs/40.2@std/lib/perl5/Plack/Middleware/Static.pm
Installing /Volumes/chambord/Users/ether/.perlbrew/libs/40.2@std/lib/perl5/Plack/Middleware/IIS7KeepAliveFix.pm
Installing /Volumes/chambord/Users/ether/.perlbrew/libs/40.2@std/lib/perl5/Plack/Middleware/Conditional.pm
Installing /Volumes/chambord/Users/ether/.perlbrew/libs/40.2@std/lib/perl5/Plack/Middleware/JSONP.pm
Installing /Volumes/chambord/Users/ether/.perlbrew/libs/40.2@std/lib/perl5/Plack/Middleware/Log4perl.pm
Installing /Volumes/chambord/Users/ether/.perlbrew/libs/40.2@std/lib/perl5/Plack/Middleware/IIS6ScriptNameFix.pm
Installing /Volumes/chambord/Users/ether/.perlbrew/libs/40.2@std/lib/perl5/Plack/Middleware/XFramework.pm
Installing /Volumes/chambord/Users/ether/.perlbrew/libs/40.2@std/lib/perl5/Plack/Middleware/ContentLength.pm
Installing /Volumes/chambord/Users/ether/.perlbrew/libs/40.2@std/lib/perl5/Plack/Middleware/HTTPExceptions.pm
Installing /Volumes/chambord/Users/ether/.perlbrew/libs/40.2@std/lib/perl5/Plack/Middleware/LighttpdScriptNameFix.pm
Installing /Volumes/chambord/Users/ether/.perlbrew/libs/40.2@std/lib/perl5/Plack/Middleware/BufferedStreaming.pm
Installing /Volumes/chambord/Users/ether/.perlbrew/libs/40.2@std/lib/perl5/Plack/Middleware/SimpleLogger.pm
Installing /Volumes/chambord/Users/ether/.perlbrew/libs/40.2@std/lib/perl5/Plack/Middleware/Head.pm
Installing /Volumes/chambord/Users/ether/.perlbrew/libs/40.2@std/lib/perl5/Plack/Middleware/XSendfile.pm
Installing /Volumes/chambord/Users/ether/.perlbrew/libs/40.2@std/lib/perl5/Plack/Middleware/SimpleContentFilter.pm
Installing /Volumes/chambord/Users/ether/.perlbrew/libs/40.2@std/lib/perl5/Plack/Middleware/LogDispatch.pm
Installing /Volumes/chambord/Users/ether/.perlbrew/libs/40.2@std/lib/perl5/Plack/Middleware/ErrorDocument.pm
Installing /Volumes/chambord/Users/ether/.perlbrew/libs/40.2@std/lib/perl5/Plack/Middleware/StackTrace.pm
Installing /Volumes/chambord/Users/ether/.perlbrew/libs/40.2@std/lib/perl5/Plack/Middleware/ConditionalGET.pm
Installing /Volumes/chambord/Users/ether/.perlbrew/libs/40.2@std/lib/perl5/Plack/Middleware/RearrangeHeaders.pm
Installing /Volumes/chambord/Users/ether/.perlbrew/libs/40.2@std/lib/perl5/Plack/Middleware/Lint.pm
Installing /Volumes/chambord/Users/ether/.perlbrew/libs/40.2@std/lib/perl5/Plack/Middleware/Refresh.pm
Installing /Volumes/chambord/Users/ether/.perlbrew/libs/40.2@std/lib/perl5/Plack/Middleware/AccessLog/Timed.pm
Installing /Volumes/chambord/Users/ether/.perlbrew/libs/40.2@std/lib/perl5/Plack/Middleware/Auth/Basic.pm
Installing /Volumes/chambord/Users/ether/.perlbrew/libs/40.2@std/lib/perl5/Plack/Loader/Restarter.pm
Installing /Volumes/chambord/Users/ether/.perlbrew/libs/40.2@std/lib/perl5/Plack/Loader/Delayed.pm
Installing /Volumes/chambord/Users/ether/.perlbrew/libs/40.2@std/lib/perl5/Plack/Loader/Shotgun.pm
Installing /Volumes/chambord/Users/ether/.perlbrew/libs/40.2@std/lib/perl5/Plack/App/URLMap.pm
Installing /Volumes/chambord/Users/ether/.perlbrew/libs/40.2@std/lib/perl5/Plack/App/CGIBin.pm
Installing /Volumes/chambord/Users/ether/.perlbrew/libs/40.2@std/lib/perl5/Plack/App/WrapCGI.pm
Installing /Volumes/chambord/Users/ether/.perlbrew/libs/40.2@std/lib/perl5/Plack/App/Directory.pm
Installing /Volumes/chambord/Users/ether/.perlbrew/libs/40.2@std/lib/perl5/Plack/App/File.pm
Installing /Volumes/chambord/Users/ether/.perlbrew/libs/40.2@std/lib/perl5/Plack/App/PSGIBin.pm
Installing /Volumes/chambord/Users/ether/.perlbrew/libs/40.2@std/lib/perl5/Plack/App/Cascade.pm
Installing /Volumes/chambord/Users/ether/.perlbrew/libs/40.2@std/lib/perl5/Plack/Request/Upload.pm
Installing /Volumes/chambord/Users/ether/.perlbrew/libs/40.2@std/lib/perl5/Plack/HTTPParser/PP.pm
Installing /Volumes/chambord/Users/ether/.perlbrew/libs/40.2@std/bin/plackup
Appending installation info to /Volumes/chambord/Users/ether/.perlbrew/libs/40.2@std/lib/perl5/darwin-2level/perllocal.pod
-> OK
Successfully installed Plack-1.0051
Installing /Volumes/chambord/Users/ether/.perlbrew/libs/40.2@std/lib/perl5/darwin-2level/.meta/Plack-1.0051/MYMETA.json
Installing /Volumes/chambord/Users/ether/.perlbrew/libs/40.2@std/lib/perl5/darwin-2level/.meta/Plack-1.0051/install.json
Searching Catalyst::Response (0) on cpanmetadb ...
--> Working on Catalyst::Response
Fetching http://www.cpan.org/authors/id/J/JJ/JJNAPIORK/Catalyst-Runtime-5.90132.tar.gz
-> OK
Unpacking Catalyst-Runtime-5.90132.tar.gz
Installing /Volumes/chambord/Users/ether/.perlbrew/libs/40.2@std/lib/perl5/Catalyst.pm
Installing /Volumes/chambord/Users/ether/.perlbrew/libs/40.2@std/lib/perl5/Catalyst/PSGI.pod
Installing /Volumes/chambord/Users/ether/.perlbrew/libs/40.2@std/lib/perl5/Catalyst/Delta.pod
Installing /Volumes/chambord/Users/ether/.perlbrew/libs/40.2@std/lib/perl5/Catalyst/ClassData.pm
Installing /Volumes/chambord/Users/ether/.perlbrew/libs/40.2@std/lib/perl5/Catalyst/RouteMatching.pod
Installing /Volumes/chambord/Users/ether/.perlbrew/libs/40.2@std/lib/perl5/Catalyst/Upgrading.pod
Installing /Volumes/chambord/Users/ether/.perlbrew/libs/40.2@std/lib/perl5/Catalyst/Runtime.pm
Installing /Volumes/chambord/Users/ether/.perlbrew/libs/40.2@std/lib/perl5/Catalyst/Request.pm
Installing /Volumes/chambord/Users/ether/.perlbrew/libs/40.2@std/lib/perl5/Catalyst/Contributing.pod
Installing /Volumes/chambord/Users/ether/.perlbrew/libs/40.2@std/lib/perl5/Catalyst/ActionChain.pm
Installing /Volumes/chambord/Users/ether/.perlbrew/libs/40.2@std/lib/perl5/Catalyst/ActionContainer.pm
Installing /Volumes/chambord/Users/ether/.perlbrew/libs/40.2@std/lib/perl5/Catalyst/Exception.pm
Installing /Volumes/chambord/Users/ether/.perlbrew/libs/40.2@std/lib/perl5/Catalyst/DispatchType.pm
Installing /Volumes/chambord/Users/ether/.perlbrew/libs/40.2@std/lib/perl5/Catalyst/Test.pm
Installing /Volumes/chambord/Users/ether/.perlbrew/libs/40.2@std/lib/perl5/Catalyst/Engine.pm
Installing /Volumes/chambord/Users/ether/.perlbrew/libs/40.2@std/lib/perl5/Catalyst/ScriptRunner.pm
Installing /Volumes/chambord/Users/ether/.perlbrew/libs/40.2@std/lib/perl5/Catalyst/View.pm
Installing /Volumes/chambord/Users/ether/.perlbrew/libs/40.2@std/lib/perl5/Catalyst/Action.pm
Installing /Volumes/chambord/Users/ether/.perlbrew/libs/40.2@std/lib/perl5/Catalyst/Controller.pm
Installing /Volumes/chambord/Users/ether/.perlbrew/libs/40.2@std/lib/perl5/Catalyst/Component.pm
Installing /Volumes/chambord/Users/ether/.perlbrew/libs/40.2@std/lib/perl5/Catalyst/ScriptRole.pm
Installing /Volumes/chambord/Users/ether/.perlbrew/libs/40.2@std/lib/perl5/Catalyst/Response.pm
Installing /Volumes/chambord/Users/ether/.perlbrew/libs/40.2@std/lib/perl5/Catalyst/Dispatcher.pm
Installing /Volumes/chambord/Users/ether/.perlbrew/libs/40.2@std/lib/perl5/Catalyst/EngineLoader.pm
Installing /Volumes/chambord/Users/ether/.perlbrew/libs/40.2@std/lib/perl5/Catalyst/UTF8.pod
Installing /Volumes/chambord/Users/ether/.perlbrew/libs/40.2@std/lib/perl5/Catalyst/Log.pm
Installing /Volumes/chambord/Users/ether/.perlbrew/libs/40.2@std/lib/perl5/Catalyst/Stats.pm
Installing /Volumes/chambord/Users/ether/.perlbrew/libs/40.2@std/lib/perl5/Catalyst/Model.pm
Installing /Volumes/chambord/Users/ether/.perlbrew/libs/40.2@std/lib/perl5/Catalyst/Base.pm
Installing /Volumes/chambord/Users/ether/.perlbrew/libs/40.2@std/lib/perl5/Catalyst/Utils.pm
Installing /Volumes/chambord/Users/ether/.perlbrew/libs/40.2@std/lib/perl5/Catalyst/Engine/HTTP.pm
Installing /Volumes/chambord/Users/ether/.perlbrew/libs/40.2@std/lib/perl5/Catalyst/Exception/Interface.pm
Installing /Volumes/chambord/Users/ether/.perlbrew/libs/40.2@std/lib/perl5/Catalyst/Exception/Detach.pm
Installing /Volumes/chambord/Users/ether/.perlbrew/libs/40.2@std/lib/perl5/Catalyst/Exception/Go.pm
Installing /Volumes/chambord/Users/ether/.perlbrew/libs/40.2@std/lib/perl5/Catalyst/Exception/Basic.pm
Installing /Volumes/chambord/Users/ether/.perlbrew/libs/40.2@std/lib/perl5/Catalyst/ActionRole/Scheme.pm
Installing /Volumes/chambord/Users/ether/.perlbrew/libs/40.2@std/lib/perl5/Catalyst/ActionRole/HTTPMethods.pm
Installing /Volumes/chambord/Users/ether/.perlbrew/libs/40.2@std/lib/perl5/Catalyst/ActionRole/QueryMatching.pm
Installing /Volumes/chambord/Users/ether/.perlbrew/libs/40.2@std/lib/perl5/Catalyst/ActionRole/ConsumesContent.pm
Installing /Volumes/chambord/Users/ether/.perlbrew/libs/40.2@std/lib/perl5/Catalyst/Middleware/Stash.pm
Installing /Volumes/chambord/Users/ether/.perlbrew/libs/40.2@std/lib/perl5/Catalyst/Response/Writer.pm
Installing /Volumes/chambord/Users/ether/.perlbrew/libs/40.2@std/lib/perl5/Catalyst/Component/ContextClosure.pm
Installing /Volumes/chambord/Users/ether/.perlbrew/libs/40.2@std/lib/perl5/Catalyst/Component/ApplicationAttribute.pm
Installing /Volumes/chambord/Users/ether/.perlbrew/libs/40.2@std/lib/perl5/Catalyst/Script/FastCGI.pm
Installing /Volumes/chambord/Users/ether/.perlbrew/libs/40.2@std/lib/perl5/Catalyst/Script/Test.pm
Installing /Volumes/chambord/Users/ether/.perlbrew/libs/40.2@std/lib/perl5/Catalyst/Script/Create.pm
Installing /Volumes/chambord/Users/ether/.perlbrew/libs/40.2@std/lib/perl5/Catalyst/Script/CGI.pm
Installing /Volumes/chambord/Users/ether/.perlbrew/libs/40.2@std/lib/perl5/Catalyst/Script/Server.pm
Installing /Volumes/chambord/Users/ether/.perlbrew/libs/40.2@std/lib/perl5/Catalyst/Request/Upload.pm
Installing /Volumes/chambord/Users/ether/.perlbrew/libs/40.2@std/lib/perl5/Catalyst/Request/PartData.pm
Installing /Volumes/chambord/Users/ether/.perlbrew/libs/40.2@std/lib/perl5/Catalyst/DispatchType/Index.pm
Installing /Volumes/chambord/Users/ether/.perlbrew/libs/40.2@std/lib/perl5/Catalyst/DispatchType/Default.pm
Installing /Volumes/chambord/Users/ether/.perlbrew/libs/40.2@std/lib/perl5/Catalyst/DispatchType/Path.pm
Installing /Volumes/chambord/Users/ether/.perlbrew/libs/40.2@std/lib/perl5/Catalyst/DispatchType/Chained.pm
Installing /Volumes/chambord/Users/ether/.perlbrew/libs/40.2@std/lib/perl5/Catalyst/Plugin/Unicode/Encoding.pm
Installing /Volumes/chambord/Users/ether/.perlbrew/libs/40.2@std/bin/catalyst.pl
Appending installation info to /Volumes/chambord/Users/ether/.perlbrew/libs/40.2@std/lib/perl5/darwin-2level/perllocal.pod
-> OK
Successfully installed Catalyst-Runtime-5.90132
Installing /Volumes/chambord/Users/ether/.perlbrew/libs/40.2@std/lib/perl5/darwin-2level/.meta/Catalyst-Runtime-5.90132/MYMETA.json
Installing /Volumes/chambord/Users/ether/.perlbrew/libs/40.2@std/lib/perl5/darwin-2level/.meta/Catalyst-Runtime-5.90132/install.json
Searching HTTP::Message::PSGI (0) on cpanmetadb ...
Already tried Plack-1.0051. Skipping.
Already tried HTTP::Headers::Fast. Skipping.
Searching Catalyst::Request (0) on cpanmetadb ...
Already tried Catalyst-Runtime-5.90132. Skipping.
Searching Plack::Request (1.0043) on cpanmetadb ...
Already tried Plack-1.0051. Skipping.
Building and testing OpenAPI-Modern-0.084
t/checksums.t ............ ok
# 
# Versions for all modules listed in MYMETA.json (including optional ones):
# 
# === Configure Requires ===
# 
#     Module               Want     Have
#     ------------------- ----- --------
#     Module::Build::Tiny 0.034    0.051
#     perl                5.020 5.040002
# 
# === Test Requires ===
# 
#     Module                            Want     Have
#     ------------------------------ ------- --------
#     CPAN::Meta::Check                0.011    0.018
#     CPAN::Meta::Requirements           any    2.143
#     File::Spec                         any     3.91
#     Module::Metadata                   any 1.000038
#     Mojolicious                        any     9.39
#     Term::ANSIColor                    any     5.01
#     Test2::API                         any 1.302199
#     Test2::Tools::Exception            any 0.000162
#     Test::Deep                         any    1.205
#     Test::File::ShareDir               any 1.001002
#     Test::JSON::Schema::Acceptance   1.014    1.027
#     Test::Memory::Cycle                any     1.06
#     Test::Mojo                         any    undef
#     Test::More                        0.96 1.302199
#     Test::Needs                        any 0.002010
#     Test::Warnings                   0.033    0.038
#     YAML::PP                         0.005  v0.39.0
#     lib                                any     0.65
#     open                               any     1.13
#     perl                           v5.20.0 5.040002
#     strict                             any     1.13
#     warnings                           any     1.70
# 
# === Test Recommends ===
# 
#     Module         Want     Have
#     ---------- -------- --------
#     CPAN::Meta 2.120900 2.150010
# 
# === Runtime Requires ===
# 
#     Module                               Want     Have
#     -------------------------------- -------- --------
#     Carp                                  any     1.54
#     Digest::MD5                           any  2.58_01
#     Encode                               2.89     3.21
#     Feature::Compat::Try                  any     0.05
#     File::ShareDir                        any    1.118
#     JSON::Schema::Modern                0.603    0.608
#     JSON::Schema::Modern::Document      0.608    0.608
#     JSON::Schema::Modern::Utilities       any    0.608
#     JSON::Schema::Modern::Vocabulary      any    0.608
#     List::Util                            any     1.63
#     Math::BigInt                     1.999701 2.003002
#     Mojo::Message::Request                any    undef
#     Mojo::Message::Response               any    undef
#     Moo                                   any 2.005005
#     MooX::TypeTiny                   0.002002 0.002003
#     Path::Tiny                            any    0.148
#     Ref::Util                             any    0.204
#     Safe::Isa                             any 1.000010
#     Scalar::Util                          any     1.63
#     Storable                              any     3.32
#     Types::Standard                       any 2.008000
#     URI::Escape                           any     5.31
#     autovivification                      any     0.18
#     constant                              any     1.33
#     experimental                          any    0.032
#     if                                    any   0.0610
#     namespace::clean                      any     0.27
#     perl                              v5.20.0 5.040002
#     stable                              0.031    0.033
#     strictures                              2 2.000006
#     utf8                                  any     1.25
# 
# === Runtime Suggests ===
# 
#     Module                  Want     Have
#     ------------------- -------- --------
#     Catalyst::Request        any    undef
#     Catalyst::Response       any    undef
#     Class::XSAccessor        any     1.19
#     Cpanel::JSON::XS         any     4.39
#     HTTP::Headers           6.07     7.00
#     HTTP::Headers::Fast     0.21     0.22
#     HTTP::Message::PSGI      any    undef
#     HTTP::Request            any     7.00
#     HTTP::Response           any     7.00
#     HTTP::Status             any     7.00
#     Plack::Request        1.0043   1.0051
#     Plack::Response          any   1.0051
#     Ref::Util::XS            any    0.117
#     Type::Tiny          0.045_03 2.008000
#     Type::Tiny::XS           any    0.025
#     URI                      any     5.31
# 
# === Other Modules ===
# 
#     Module                      Have
#     ----------------------- --------
#     Catalyst                 5.90132
#     Cpanel::JSON::XS            4.39
#     Encode                      3.21
#     File::Temp                0.2311
#     HTTP::Headers::Fast::XS  missing
#     JSON::MaybeXS           1.004008
#     JSON::PP                    4.16
#     JSON::XS                 missing
#     Module::Runtime            0.017
#     Mojolicious                 9.39
#     Plack                     1.0051
#     Sub::Name                   0.28
#     YAML                     missing
#     autodie                     2.37
#     builtin                    0.014
#     builtin::Backport        missing
# 
t/00-report-prereqs.t .... ok
t/document-paths.t ....... ok
t/end-to-end.t ........... ok
t/dialects.t ............. ok
t/discriminator.t ........ ok
t/document-parsing.t ..... ok
# 
# generated with:              Test::JSON::Schema::Acceptance 1.027
# specification version:       draft2020-12
# using custom test directory: t/oas-vocabulary
# optional tests included:     no
# 
# filename                                  pass  todo-fail  fail
# ---------------------------------------------------------------
# discriminator.json                          12          0     0
# formats.json                                39          0     0
# ---------------------------------------------------------------
# TOTAL                                       51          0     0
# 
# Congratulations, all non-optional tests are passing!
# 
t/oas-vocabulary.t ....... ok
t/operationIds.t ......... ok
t/openapi-constructor.t .. ok
t/document-toplevel.t .... ok
t/serialization.t ........ ok
t/parameters.t ........... ok
t/zzz-check-breaks.t ..... ok
t/recursive_get.t ........ ok
t/find_path.t ............ ok
t/validate_response.t .... ok
t/validate_request.t ..... ok
All tests successful.
Files=18, Tests=169, 12 wallclock secs ( 0.12 usr  0.03 sys + 25.26 cusr  0.89 csys = 26.30 CPU)
Result: PASS

------------------------------
PREREQUISITES
------------------------------

Prerequisite modules loaded:

runtime:

    Module                      Need     Have    
    --------------------------- -------- --------
    Apache::LogFormat::Compiler 0.33     0.36    
    Cookie::Baker               0.07     0.12    
    Devel::StackTrace           1.23     2.05    
    Devel::StackTrace::AsHTML   0.11     0.15    
    File::ShareDir              1.00     1.118   
    Filesys::Notify::Simple     0        0.14    
    Hash::MultiValue            0.05     0.16    
    HTTP::Entity::Parser        0.25     0.25    
    HTTP::Headers::Fast         0.18     0.22    
    HTTP::Message               5.814    7.00    
    HTTP::Tiny                  0.034    0.088   
    parent                      0        0.241   
    perl                        5.012000 5.040002
    Pod::Usage                  1.36     2.03    
    Stream::Buffered            0.02     0.03    
    Test::TCP                   2.15     2.22    
    Try::Tiny                   0        0.32    
    URI                         1.59     5.31    
    WWW::Form::UrlEncoded       0.23     0.26    

build:

    Module                      Need     Have    
    --------------------------- -------- --------
    ExtUtils::MakeMaker         0        7.70    

configure:

    Module                      Need     Have    
    --------------------------- -------- --------
    ExtUtils::MakeMaker         0        7.70    
    File::ShareDir::Install     0.06     0.14    


------------------------------
ENVIRONMENT AND OTHER CONTEXT
------------------------------

Environment variables:

    HARNESS_OPTIONS = j6:c
    LANG = en_CA.UTF-8
    LC_ALL = en_CA.UTF-8
    LC_CTYPE = en_CA.UTF-8
    NO_NETWORK_TESTING = 1
    PATH = /Volumes/chambord/Users/ether/.perlbrew/libs/40.2@std/bin:/Volumes/chambord/Users/ether/perl5/perlbrew/bin:/Volumes/chambord/Users/ether/perl5/perlbrew/perls/40.2/bin:/Volumes/chambord/Users/ether/bin:/Volumes/chambord/Users/ether/git/misc/install/advocaat/bin:/Volumes/chambord/Users/ether/git/misc/install/generic/bin:/opt/local/bin:/opt/local/sbin:/Volumes/chambord/Users/ether/git/git-hub/lib:/usr/local/bin:/System/Cryptexes/App/usr/bin:/usr/bin:/bin:/usr/sbin:/sbin:/var/run/com.apple.security.cryptexd/codex.system/bootstrap/usr/local/bin:/var/run/com.apple.security.cryptexd/codex.system/bootstrap/usr/bin:/var/run/com.apple.security.cryptexd/codex.system/bootstrap/usr/appleinternal/bin:/Library/Apple/usr/bin:/opt/local/share/git-core/contrib/workdir
    PERL5LIB = /Volumes/chambord/Users/ether/.perlbrew/libs/40.2@std/lib/perl5
    PERLBREW_HOME = /Volumes/chambord/Users/ether/.perlbrew
    PERLBREW_LIB = std
    PERLBREW_MANPATH = /Volumes/chambord/Users/ether/.perlbrew/libs/40.2@std/man:/Volumes/chambord/Users/ether/perl5/perlbrew/perls/40.2/man
    PERLBREW_PATH = /Volumes/chambord/Users/ether/.perlbrew/libs/40.2@std/bin:/Volumes/chambord/Users/ether/perl5/perlbrew/bin:/Volumes/chambord/Users/ether/perl5/perlbrew/perls/40.2/bin
    PERLBREW_PERL = 40.2
    PERLBREW_ROOT = /Volumes/chambord/Users/ether/perl5/perlbrew
    PERLBREW_SHELLRC_VERSION = 1.01
    PERLBREW_VERSION = 1.01
    PERLDOC = -oansi
    PERLDOC_PAGER = less -sicMr
    PERL_AUTOINSTALL_PREFER_CPAN = 1
    PERL_INSTALL_QUIET = 1
    PERL_LOCAL_LIB_ROOT = /Volumes/chambord/Users/ether/.perlbrew/libs/40.2@std
    PERL_MB_OPT = --install_base /Volumes/chambord/Users/ether/.perlbrew/libs/40.2@std
    PERL_MM_OPT = INSTALL_BASE=/Volumes/chambord/Users/ether/.perlbrew/libs/40.2@std
    PERL_TEST_HARNESS_ASAP = 1
    PERL_USE_UNSAFE_INC = 0
    SHELL = /bin/bash
    TERM = xterm-color

Perl special variables (and OS-specific diagnostics, for MSWin32):

    EGID = 20 20 12 61 79 80 81 98 701 704 703 702 705 33 100 204 250
    EUID = 502
    EXECUTABLE_NAME = /Volumes/chambord/Users/ether/perl5/perlbrew/perls/40.2/bin/perl
    GID = 20 20 12 61 79 80 81 98 701 704 703 702 705 33 100 204 250
    UID = 502

Perl module toolchain versions installed:

    Module              Have    
    ------------------- --------
    CPAN                2.36    
    CPAN::Meta          2.150010
    Cwd                 3.91    
    ExtUtils::CBuilder  0.280240
    ExtUtils::Command   7.70    
    ExtUtils::Install   2.22    
    ExtUtils::MakeMaker 7.70    
    ExtUtils::Manifest  1.75    
    ExtUtils::ParseXS   3.51    
    File::Spec          3.91    
    JSON                4.10    
    JSON::PP            4.16    
    Module::Build       0.4234  
    Module::Signature   n/a     
    Parse::CPAN::Meta   2.150010
    Test::Harness       3.48    
    Test::More          1.302199
    YAML                n/a     
    YAML::Syck          n/a     
    version             0.9930  


--

Summary of my perl5 (revision 5 version 40 subversion 2) configuration:
   
  Platform:
    osname=darwin
    osvers=24.3.0
    archname=darwin-2level
    uname='darwin advocaat 24.3.0 darwin kernel version 24.3.0: thu jan 2 20:23:36 pst 2025; root:xnu-11215.81.4~3release_arm64_t8112 arm64 '
    config_args='-de -Dprefix=/Volumes/chambord/Users/ether/perl5/perlbrew/perls/40.2 -Dman1dir=none -Dman3dir=none -Aeval:scriptdir=/Volumes/chambord/Users/ether/perl5/perlbrew/perls/40.2/bin'
    hint=recommended
    useposix=true
    d_sigaction=define
    useithreads=undef
    usemultiplicity=undef
    use64bitint=define
    use64bitall=define
    uselongdouble=undef
    usemymalloc=n
    default_inc_excludes_dot=define
  Compiler:
    cc='cc'
    ccflags ='-fno-common -DPERL_DARWIN -mmacosx-version-min=15.3 -DNO_THREAD_SAFE_QUERYLOCALE -DNO_POSIX_2008_LOCALE -fno-strict-aliasing -pipe -fstack-protector-strong -I/opt/local/include'
    optimize='-O3'
    cppflags='-fno-common -DPERL_DARWIN -mmacosx-version-min=15.3 -DNO_THREAD_SAFE_QUERYLOCALE -DNO_POSIX_2008_LOCALE -fno-strict-aliasing -pipe -fstack-protector-strong -I/opt/local/include'
    ccversion=''
    gccversion='Apple LLVM 17.0.0 (clang-1700.0.13.3)'
    gccosandvers=''
    intsize=4
    longsize=8
    ptrsize=8
    doublesize=8
    byteorder=12345678
    doublekind=3
    d_longlong=define
    longlongsize=8
    d_longdbl=define
    longdblsize=8
    longdblkind=0
    ivtype='long'
    ivsize=8
    nvtype='double'
    nvsize=8
    Off_t='off_t'
    lseeksize=8
    alignbytes=8
    prototype=define
  Linker and Libraries:
    ld='cc'
    ldflags =' -mmacosx-version-min=15.3 -fstack-protector-strong -L/opt/local/lib'
    libpth=/Applications/Xcode.app/Contents/Developer/Toolchains/XcodeDefault.xctoolchain/usr/lib/clang/17/lib /Applications/Xcode.app/Contents/Developer/Platforms/MacOSX.platform/Developer/SDKs/MacOSX.sdk/usr/lib /Applications/Xcode.app/Contents/Developer/Toolchains/XcodeDefault.xctoolchain/usr/lib /opt/local/lib /usr/lib
    libs=-lgdbm
    perllibs=
    libc=
    so=dylib
    useshrplib=false
    libperl=libperl.a
    gnulibc_version=''
  Dynamic Linking:
    dlsrc=dl_dlopen.xs
    dlext=bundle
    d_dlsymun=undef
    ccdlflags=' '
    cccdlflags=' '
    lddlflags=' -mmacosx-version-min=15.3 -bundle -undefined dynamic_lookup -L/opt/local/lib -fstack-protector-strong'


Characteristics of this binary (from libperl): 
  Compile-time options:
    HAS_LONG_DOUBLE
    HAS_STRTOLD
    HAS_TIMES
    PERLIO_LAYERS
    PERL_COPY_ON_WRITE
    PERL_DONT_CREATE_GVSV
    PERL_HASH_FUNC_SIPHASH13
    PERL_HASH_USE_SBOX32
    PERL_MALLOC_WRAP
    PERL_OP_PARENT
    PERL_PRESERVE_IVUV
    PERL_USE_SAFE_PUTENV
    USE_64_BIT_ALL
    USE_64_BIT_INT
    USE_LARGE_FILES
    USE_LOCALE
    USE_LOCALE_COLLATE
    USE_LOCALE_CTYPE
    USE_LOCALE_NUMERIC
    USE_LOCALE_TIME
    USE_PERLIO
    USE_PERL_ATOF
  Built under darwin
  Compiled at Apr 13 2025 11:22:31
  %ENV:
    PERL5LIB="/Volumes/chambord/Users/ether/.perlbrew/libs/40.2@std/lib/perl5"
    PERLBREW_HOME="/Volumes/chambord/Users/ether/.perlbrew"
    PERLBREW_LIB="std"
    PERLBREW_MANPATH="/Volumes/chambord/Users/ether/.perlbrew/libs/40.2@std/man:/Volumes/chambord/Users/ether/perl5/perlbrew/perls/40.2/man"
    PERLBREW_PATH="/Volumes/chambord/Users/ether/.perlbrew/libs/40.2@std/bin:/Volumes/chambord/Users/ether/perl5/perlbrew/bin:/Volumes/chambord/Users/ether/perl5/perlbrew/perls/40.2/bin"
    PERLBREW_PERL="40.2"
    PERLBREW_ROOT="/Volumes/chambord/Users/ether/perl5/perlbrew"
    PERLBREW_SHELLRC_VERSION="1.01"
    PERLBREW_VERSION="1.01"
    PERLDOC="-oansi"
    PERLDOC_PAGER="less -sicMr"
    PERL_AUTOINSTALL_PREFER_CPAN="1"
    PERL_INSTALL_QUIET="1"
    PERL_LOCAL_LIB_ROOT="/Volumes/chambord/Users/ether/.perlbrew/libs/40.2@std"
    PERL_MB_OPT="--install_base /Volumes/chambord/Users/ether/.perlbrew/libs/40.2@std"
    PERL_MM_OPT="INSTALL_BASE=/Volumes/chambord/Users/ether/.perlbrew/libs/40.2@std"
    PERL_TEST_HARNESS_ASAP="1"
    PERL_USE_UNSAFE_INC="0"
  @INC:
    /Volumes/chambord/Users/ether/.perlbrew/libs/40.2@std/lib/perl5/darwin-2level
    /Volumes/chambord/Users/ether/.perlbrew/libs/40.2@std/lib/perl5
    /Volumes/chambord/Users/ether/perl5/perlbrew/perls/40.2/lib/site_perl/5.40.2/darwin-2level
    /Volumes/chambord/Users/ether/perl5/perlbrew/perls/40.2/lib/site_perl/5.40.2
    /Volumes/chambord/Users/ether/perl5/perlbrew/perls/40.2/lib/5.40.2/darwin-2level
    /Volumes/chambord/Users/ether/perl5/perlbrew/perls/40.2/lib/5.40.2