Back
From: metabase:user:30f4dfbe-2aae-11df-837a-5e0a49663a4f
Subject: PASS Net-HTTP-Spore-0.04 v5.12.4 GNU/Linux
Date: 2012-02-16T22:59:41Z
This distribution has been tested as part of the CPAN Testers
project, supporting the Perl programming language. See
http://wiki.cpantesters.org/ for more information or email
questions to cpan-testers-discuss@perl.org
--
Dear Franck Cuny,
This is a computer-generated report for Net-HTTP-Spore-0.04
on perl 5.12.4, created by CPAN-Reporter-1.2003.
Thank you for uploading your work to CPAN. Congratulations!
All tests were successful.
Sections of this report:
* Tester comments
* Program output
* Prerequisites
* Environment and other context
------------------------------
TESTER COMMENTS
------------------------------
Additional comments from tester:
this report is from an automated smoke testing program
and was not reviewed by a human for accuracy
------------------------------
PROGRAM OUTPUT
------------------------------
Output from '/usr/bin/make test':
PERL_DL_NONLAZY=1 /home/njh/perl5/perlbrew/perls/perl-5.12.4/bin/perl "-MExtUtils::Command::MM" "-e" "test_harness(0, 'blib/lib', 'blib/arch')" t/*.t t/spore-method/*.t t/spore-middleware/*.t t/spore-request/*.t t/spore-response/*.t t/spore-role/*.t t/spore/*.t
t/release-eol.t ...................... skipped: these tests are for release candidate testing
t/release-no-tabs.t .................. skipped: these tests are for release candidate testing
t/release-pod-coverage.t ............. skipped: these tests are for release candidate testing
t/release-pod-syntax.t ............... skipped: these tests are for release candidate testing
t/spore-method/base.t ................ ok
t/spore-method/payload.t ............. ok
t/spore-middleware/auth-basic.t ...... ok
t/spore-middleware/auth-header.t ..... ok
t/spore-middleware/auth-oauth.t ...... ok
t/spore-middleware/format-auto.t ..... ok
t/spore-middleware/format-json.t ..... ok
t/spore-middleware/format-xml.t ...... ok
t/spore-middleware/format-yaml.t ..... ok
t/spore-middleware/ns.t .............. ok
t/spore-middleware/redirection.t ..... ok
t/spore-middleware/runtime.t ......... ok
t/spore-middleware/useragent.t ....... ok
t/spore-middleware/x-do-not-track.t .. ok
t/spore-request/base.t ............... ok
t/spore-request/exception.t .......... ok
t/spore-request/finalize.t ........... ok
t/spore-request/form_data.t .......... ok
t/spore-request/headers.t ............ ok
t/spore-request/new.t ................ ok
t/spore-request/request_uri.t ........ ok
t/spore-request/script_name.t ........ ok
t/spore-request/uri.t ................ ok
t/spore-response/body.t .............. ok
t/spore-response/debug.t ............. ok
t/spore-response/headers.t ........... ok
t/spore-response/new.t ............... ok
t/spore-response/response.t .......... ok
t/spore-response/timeout.t ........... ok
t/spore-role/basic.t ................. ok
t/spore/01_new_from_string.t ......... ok
t/spore/02_enable.t .................. ok
All tests successful.
Files=36, Tests=173, 19 wallclock secs ( 0.11 usr 0.12 sys + 16.84 cusr 1.56 csys = 18.63 CPU)
Result: PASS
------------------------------
PREREQUISITES
------------------------------
Prerequisite modules loaded:
requires:
Module Need Have
---------------------------- ---- ------
Carp 0 1.23
Digest::SHA 0 5.70
HTTP::Headers 0 6.00
HTTP::Request 0 6.00
IO::All 0 0.44
IO::File 0 1.14
JSON 0 2.53
LWP::UserAgent 0 6.03
MIME::Base64 0 3.13
Moose 0 2.0401
Moose::Exporter 0 2.0401
! Moose::Meta::Method 0 broken
Moose::Role 0 2.0401
Moose::Util::MetaRole 0 2.0401
! Moose::Util::TypeConstraints 0 broken
! MooseX::Role::Parameterized 0 broken
MooseX::Types::Moose 0 0.31
! MooseX::Types::URI 0 broken
overload 0 1.10
Scalar::Util 0 1.23
Time::HiRes 0 1.9724
Try::Tiny 0 0.11
URI 0 1.59
URI::Escape 0 3.31
XML::Simple 0 2.18
YAML 0 0.78
build_requires:
Module Need Have
---------------------------- ---- ------
File::Temp 0 0.22
Test::Exception 0 0.31
Test::More 0 0.98
configure_requires:
Module Need Have
---------------------------- ---- ------
ExtUtils::MakeMaker 6.30 6.62
------------------------------
ENVIRONMENT AND OTHER CONTEXT
------------------------------
Environment variables:
AUTOMATED_TESTING = 1
LANG = en_GB.UTF-8
LANGUAGE = en_GB:en
PATH = /home/njh/perl5/perlbrew/bin:/home/njh/perl5/perlbrew/perls/perl-5.12.4/bin:/usr/bin:/bin
PERL5LIB = /home/njh/.cpan/build/MooseX-Role-Parameterized-1.00-4NZwJ_/blib/arch:/home/njh/.cpan/build/MooseX-Role-Parameterized-1.00-4NZwJ_/blib/lib:/home/njh/.cpan/build/XML-Simple-2.18-X0viuG/blib/arch:/home/njh/.cpan/build/XML-Simple-2.18-X0viuG/blib/lib
PERL5OPT =
PERL5_CPANPLUS_IS_RUNNING = 2416
PERL5_CPAN_IS_RUNNING = 2416
PERL5_MINISMOKEBOX = 0.54
PERL_EXTUTILS_AUTOINSTALL = --defaultdeps
PERL_MM_USE_DEFAULT = 1
SHELL = /bin/sh
Perl special variables (and OS-specific diagnostics, for MSWin32):
$^X = /home/njh/perl5/perlbrew/perls/perl-5.12.4/bin/perl
$UID/$EUID = 1000 / 1000
$GID = 1000 24 25 29 30 44 46 108 112 1000
$EGID = 1000 24 25 29 30 44 46 108 112 1000
Perl module toolchain versions installed:
Module Have
------------------- --------
CPAN 1.9800
CPAN::Meta 2.113640
Cwd 3.33
ExtUtils::CBuilder 0.280202
ExtUtils::Command 1.17
ExtUtils::Install 1.55
ExtUtils::MakeMaker 6.62
ExtUtils::Manifest 1.60
ExtUtils::ParseXS 3.11
File::Spec 3.33
JSON 2.53
JSON::PP 2.27200
Module::Build 0.3800
Module::Signature 0.68
Parse::CPAN::Meta 1.4401
Test::Harness 3.23
Test::More 0.98
YAML 0.78
YAML::Syck 1.19
version 0.95
--
Summary of my perl5 (revision 5 version 12 subversion 4) configuration:
Platform:
osname=linux, osvers=3.1.0-1-amd64, archname=x86_64-linux
uname='linux gateway 3.1.0-1-amd64 #1 smp tue jan 10 05:01:58 utc 2012 x86_64 gnulinux '
config_args='-de -Dprefix=/home/njh/perl5/perlbrew/perls/perl-5.12.4 -D_FORTIFY_SOURCE=2 -Accflags=-O2'
hint=recommended, useposix=true, d_sigaction=define
useithreads=undef, usemultiplicity=undef
useperlio=define, d_sfio=undef, uselargefiles=define, usesocks=undef
use64bitint=define, use64bitall=define, uselongdouble=undef
usemymalloc=n, bincompat5005=undef
Compiler:
cc='cc', ccflags ='-O2 -fno-strict-aliasing -pipe -fstack-protector -I/usr/local/include -D_LARGEFILE_SOURCE -D_FILE_OFFSET_BITS=64',
optimize='-O2',
cppflags='-O2 -fno-strict-aliasing -pipe -fstack-protector -I/usr/local/include'
ccversion='', gccversion='4.6.2', gccosandvers=''
intsize=4, longsize=8, ptrsize=8, doublesize=8, byteorder=12345678
d_longlong=define, longlongsize=8, d_longdbl=define, longdblsize=16
ivtype='long', ivsize=8, nvtype='double', nvsize=8, Off_t='off_t', lseeksize=8
alignbytes=8, prototype=define
Linker and Libraries:
ld='cc', ldflags =' -fstack-protector -L/usr/local/lib'
libpth=/usr/local/lib /lib/x86_64-linux-gnu /lib/../lib /usr/lib/x86_64-linux-gnu /usr/lib/../lib /lib /usr/lib
libs=-lnsl -ldb -ldl -lm -lcrypt -lutil -lc
perllibs=-lnsl -ldl -lm -lcrypt -lutil -lc
libc=, so=so, useshrplib=false, libperl=libperl.a
gnulibc_version='2.13'
Dynamic Linking:
dlsrc=dl_dlopen.xs, dlext=so, d_dlsymun=undef, ccdlflags='-Wl,-E'
cccdlflags='-fPIC', lddlflags='-shared -O2 -L/usr/local/lib -fstack-protector'
Characteristics of this binary (from libperl):
Compile-time options: PERL_DONT_CREATE_GVSV PERL_MALLOC_WRAP USE_64_BIT_ALL
USE_64_BIT_INT USE_LARGE_FILES USE_PERLIO
USE_PERL_ATOF
Built under linux
Compiled at Jan 16 2012 13:33:08
%ENV:
PERL5LIB="/home/njh/.cpan/build/MooseX-Role-Parameterized-1.00-4NZwJ_/blib/arch:/home/njh/.cpan/build/MooseX-Role-Parameterized-1.00-4NZwJ_/blib/lib:/home/njh/.cpan/build/XML-Simple-2.18-X0viuG/blib/arch:/home/njh/.cpan/build/XML-Simple-2.18-X0viuG/blib/lib"
PERL5OPT=""
PERL5_CPANPLUS_IS_RUNNING="2416"
PERL5_CPAN_IS_RUNNING="2416"
PERL5_MINISMOKEBOX="0.54"
PERL_EXTUTILS_AUTOINSTALL="--defaultdeps"
PERL_MM_USE_DEFAULT="1"
@INC:
/home/njh/.cpan/build/MooseX-Role-Parameterized-1.00-4NZwJ_/blib/arch
/home/njh/.cpan/build/MooseX-Role-Parameterized-1.00-4NZwJ_/blib/lib
/home/njh/.cpan/build/XML-Simple-2.18-X0viuG/blib/arch
/home/njh/.cpan/build/XML-Simple-2.18-X0viuG/blib/lib
/home/njh/perl5/perlbrew/perls/perl-5.12.4/lib/site_perl/5.12.4/x86_64-linux
/home/njh/perl5/perlbrew/perls/perl-5.12.4/lib/site_perl/5.12.4
/home/njh/perl5/perlbrew/perls/perl-5.12.4/lib/5.12.4/x86_64-linux
/home/njh/perl5/perlbrew/perls/perl-5.12.4/lib/5.12.4
.