Archive-Tar-Wrapper v0.33 Perl 5 v5.26.2 MSWin32-x64-multi-thread
- Status
- Pass
- From
- Dist
-
Archive-Tar-Wrapper v0.33
- Platform
- Perl 5 v5.26.2 MSWin32-x64-multi-thread
- Date
- 2018-08-21 16:42:27
- ID
- e8200769-6c8c-1014-b2c4-65a8f16ca0b7
This distribution has been tested as part of the CPAN Testers
project, supporting the Perl programming language. See
http://wiki.cpantesters.org/ for more information or email
questions to cpan-testers-discuss@perl.org
--
Dear Alceu Rodrigues de Freitas Junior,
This is a computer-generated report for Archive-Tar-Wrapper-0.33
on perl 5.26.2, created by CPAN-Reporter-1.2018.
Thank you for uploading your work to CPAN. Congratulations!
All tests were successful.
Sections of this report:
* Tester comments
* Program output
* Prerequisites
* Environment and other context
------------------------------
TESTER COMMENTS
------------------------------
Additional comments from tester:
none provided
------------------------------
PROGRAM OUTPUT
------------------------------
Output from 'C:\STRAWB~1\c\bin\gmake.exe test':
"C:\Strawberry\perl\bin\perl.exe" "-MExtUtils::Command::MM" "-MTest::Harness" "-e" "undef *Test::Harness::Switches; test_harness(0, 'blib\lib', 'blib\arch')" t/*.t
t/001Basic.t .............. ok
t/002Mult.t ............... ok
t/003Dirs.t ............... ok
t/004Utf8.t ............... ok
t/005Cwd.t ................ ok
t/006DirPerms.t ........... ok
t/007bzip.t ............... ok
# with grep: Ran 1157 iterations (144 outliers).
# with grep: Rounded run time per iteration: 0.001450 +/- 0.000000 (0.0%)
# with grep and compiled regex: Ran 1214 iterations (190 outliers).
# with grep and compiled regex: Rounded run time per iteration: 0.001697 +/- 0.000000 (0.0%)
# with eq: Ran 1214 iterations (188 outliers).
# with eq: Rounded run time per iteration: 0.001307 +/- 0.000000 (0.0%)
# with enhanced eq: Ran 1274 iterations (273 outliers).
# with enhanced eq: Rounded run time per iteration: 0.001298 +/- 0.000000 (0.0%)
# with enhanced eq mark2: Ran 1157 iterations (139 outliers).
# with enhanced eq mark2: Rounded run time per iteration: 0.001249 +/- 0.000000 (0.0%)
# with enhanced eq mark3: Ran 1274 iterations (214 outliers).
# with enhanced eq mark3: Rounded run time per iteration: 0.001208 +/- 0.000000 (0.0%)
# sort and shift: Ran 1102 iterations (15 outliers).
# sort and shift: Rounded run time per iteration: 0.002107 +/- 0.000005 (0.2%)
t/008performance.t ........ ok
# with grep: Ran 1102 iterations (76 outliers).
# with grep: Rounded run time per iteration: 0.000115 +/- 0.000000 (0.0%)
# with grep and compiled regex: Ran 1102 iterations (79 outliers).
# with grep and compiled regex: Rounded run time per iteration: 0.000123 +/- 0.000000 (0.0%)
# with eq: Ran 1050 iterations (41 outliers).
# with eq: Rounded run time per iteration: 0.000105 +/- 0.000000 (0.0%)
# with enhanced eq: Ran 1050 iterations (33 outliers).
# with enhanced eq: Rounded run time per iteration: 0.000105 +/- 0.000000 (0.0%)
# with enhanced eq mark2: Ran 1050 iterations (42 outliers).
# with enhanced eq mark2: Rounded run time per iteration: 0.000105 +/- 0.000000 (0.0%)
# with enhanced eq mark3: Ran 1050 iterations (50 outliers).
# with enhanced eq mark3: Rounded run time per iteration: 0.000106 +/- 0.000000 (0.0%)
# sort and shift: Ran 1050 iterations (32 outliers).
# sort and shift: Rounded run time per iteration: 0.000105 +/- 0.000000 (0.0%)
t/009performance-small.t .. ok
All tests successful.
Test Summary Report
-------------------
t/008performance.t (Wstat: 0 Tests: 1 Failed: 0)
TODO passed: 1
t/009performance-small.t (Wstat: 0 Tests: 1 Failed: 0)
TODO passed: 1
Files=9, Tests=54, 72 wallclock secs ( 0.03 usr + 0.01 sys = 0.05 CPU)
Result: PASS
------------------------------
PREREQUISITES
------------------------------
Prerequisite modules loaded:
requires:
Module Need Have
------------------- -------- ----------
Cwd 0 3.74
File::Temp 0 0.2304
File::Which 0 1.22
IPC::Run 0 20180523.0
Log::Log4perl 0 1.49
perl 5.008001 5.026002
build_requires:
Module Need Have
------------------- -------- ----------
Dumbbench 0.111 0.111
ExtUtils::MakeMaker 0 7.34
Test::Simple 1.302073 1.302136
configure_requires:
Module Need Have
------------------- -------- ----------
ExtUtils::MakeMaker 0 7.34
File::Which 0 1.22
------------------------------
ENVIRONMENT AND OTHER CONTEXT
------------------------------
Environment variables:
COMSPEC = C:\WINDOWS\system32\cmd.exe
NONINTERACTIVE_TESTING = 1
NUMBER_OF_PROCESSORS = 8
PATH = C:\Program Files (x86)\Intel\iCLS Client\;C:\Program Files\Intel\iCLS Client\;C:\Windows\system32;C:\Windows;C:\Windows\System32\Wbem;C:\Windows\System32\WindowsPowerShell\v1.0\;C:\Program Files (x86)\Intel\Intel(R) Management Engine Components\DAL;C:\Program Files\Intel\Intel(R) Management Engine Components\DAL;C:\Program Files (x86)\Intel\Intel(R) Management Engine Components\IPT;C:\Program Files\Intel\Intel(R) Management Engine Components\IPT;C:\Program Files (x86)\NVIDIA Corporation\PhysX\Common;C:\texlive\2017\bin\win32;C:\WINDOWS\system32;C:\WINDOWS;C:\WINDOWS\System32\Wbem;C:\WINDOWS\System32\WindowsPowerShell\v1.0\;C:\Strawberry\c\bin;C:\Strawberry\perl\site\bin;C:\Strawberry\perl\bin;C:\WINDOWS\System32\OpenSSH\;C:\texlive\2018\bin\win32;C:\Program Files (x86)\GnuWin32\bin;C:\Users\Ingram\AppData\Local\Microsoft\WindowsApps
PERL5LIB =
PERL5OPT =
PERL5_CPANPLUS_IS_RUNNING = 12492
PERL5_CPAN_IS_RUNNING = 12492
PERL_MM_USE_DEFAULT = 1
PERL_USE_UNSAFE_INC = 1
PROCESSOR_IDENTIFIER = Intel64 Family 6 Model 142 Stepping 10, GenuineIntel
TEMP = C:\Users\Ingram\AppData\Local\Temp
Perl special variables (and OS-specific diagnostics, for MSWin32):
$^X = C:\Strawberry\perl\bin\perl.exe
$UID/$EUID = 0 / 0
$GID = 0
$EGID = 0
Win32::GetOSName = Win10
Win32::GetOSVersion = , 10, 0, 17134, 2, 0, 0, 768, 1
Win32::FsType = NTFS
Win32::IsAdminUser = 1
Perl module toolchain versions installed:
Module Have
------------------- --------
CPAN 2.18
CPAN::Meta 2.150010
Cwd 3.74
ExtUtils::CBuilder 0.280230
ExtUtils::Command 7.34
ExtUtils::Install 2.14
ExtUtils::MakeMaker 7.34
ExtUtils::Manifest 1.71
ExtUtils::ParseXS 3.35
File::Spec 3.74
JSON 2.97001
JSON::PP 2.97001
Module::Build 0.4224
Module::Signature 0.81
Parse::CPAN::Meta 2.150010
Test::Harness 3.42
Test::More 1.302136
YAML 1.26
YAML::Syck 1.30
version 0.9924
--
Summary of my perl5 (revision 5 version 26 subversion 2) configuration:
Platform:
osname=MSWin32
osvers=10.0.16299.371
archname=MSWin32-x64-multi-thread
uname='Win32 strawberry-perl 5.26.2.1 #1 Sun Apr 15 13:52:49 2018 x64'
config_args='undef'
hint=recommended
useposix=true
d_sigaction=undef
useithreads=define
usemultiplicity=define
use64bitint=define
use64bitall=undef
uselongdouble=undef
usemymalloc=n
default_inc_excludes_dot=define
bincompat5005=undef
Compiler:
cc='gcc'
ccflags =' -s -O2 -DWIN32 -DWIN64 -DCONSERVATIVE -D__USE_MINGW_ANSI_STDIO -DPERL_TEXTMODE_SCRIPTS -DPERL_IMPLICIT_CONTEXT -DPERL_IMPLICIT_SYS -DUSE_PERLIO -fwrapv -fno-strict-aliasing -mms-bitfields'
optimize='-s -O2'
cppflags='-DWIN32'
ccversion=''
gccversion='7.1.0'
gccosandvers=''
intsize=4
longsize=4
ptrsize=8
doublesize=8
byteorder=12345678
doublekind=3
d_longlong=define
longlongsize=8
d_longdbl=define
longdblsize=16
longdblkind=3
ivtype='long long'
ivsize=8
nvtype='double'
nvsize=8
Off_t='long long'
lseeksize=8
alignbytes=8
prototype=define
Linker and Libraries:
ld='g++'
ldflags ='-s -L"C:\STRAWB~1\perl\lib\CORE" -L"C:\STRAWB~1\c\lib"'
libpth=C:\STRAWB~1\c\lib C:\STRAWB~1\c\x86_64-w64-mingw32\lib C:\STRAWB~1\c\lib\gcc\x86_64-w64-mingw32\7.1.0
libs= -lmoldname -lkernel32 -luser32 -lgdi32 -lwinspool -lcomdlg32 -ladvapi32 -lshell32 -lole32 -loleaut32 -lnetapi32 -luuid -lws2_32 -lmpr -lwinmm -lversion -lodbc32 -lodbccp32 -lcomctl32
perllibs= -lmoldname -lkernel32 -luser32 -lgdi32 -lwinspool -lcomdlg32 -ladvapi32 -lshell32 -lole32 -loleaut32 -lnetapi32 -luuid -lws2_32 -lmpr -lwinmm -lversion -lodbc32 -lodbccp32 -lcomctl32
libc=
so=dll
useshrplib=true
libperl=libperl526.a
gnulibc_version=''
Dynamic Linking:
dlsrc=dl_win32.xs
dlext=xs.dll
d_dlsymun=undef
ccdlflags=' '
cccdlflags=' '
lddlflags='-mdll -s -L"C:\STRAWB~1\perl\lib\CORE" -L"C:\STRAWB~1\c\lib"'
Characteristics of this binary (from libperl):
Compile-time options:
HAS_TIMES
HAVE_INTERP_INTERN
MULTIPLICITY
PERLIO_LAYERS
PERL_COPY_ON_WRITE
PERL_DONT_CREATE_GVSV
PERL_IMPLICIT_CONTEXT
PERL_IMPLICIT_SYS
PERL_MALLOC_WRAP
PERL_OP_PARENT
PERL_PRESERVE_IVUV
USE_64_BIT_INT
USE_ITHREADS
USE_LARGE_FILES
USE_LOCALE
USE_LOCALE_COLLATE
USE_LOCALE_CTYPE
USE_LOCALE_NUMERIC
USE_LOCALE_TIME
USE_PERLIO
USE_PERL_ATOF
Built under MSWin32
Compiled at Apr 15 2018 13:56:45
%ENV:
PERL5_CPANPLUS_IS_RUNNING="12492"
PERL5_CPAN_IS_RUNNING="12492"
PERL_MM_USE_DEFAULT="1"
PERL_USE_UNSAFE_INC="1"
@INC:
C:/Strawberry/perl/site/lib
C:/Strawberry/perl/vendor/lib
C:/Strawberry/perl/lib
.