Back
From: metabase:user:b90914ec-0321-11e4-9765-a53fc2c19918
Subject: PASS Dist-Zilla-Plugin-CheckExtraTests-0.022 v5.14.2 GNU/Linux
Date: 2014-08-19T23:02:34Z
This distribution has been tested as part of the CPAN Testers
project, supporting the Perl programming language. See
http://wiki.cpantesters.org/ for more information or email
questions to cpan-testers-discuss@perl.org
--
Dear David Golden,
This is a computer-generated report for Dist-Zilla-Plugin-CheckExtraTests-0.022
on perl 5.14.2, created by CPAN-Reporter-1.2011.
Thank you for uploading your work to CPAN. Congratulations!
All tests were successful.
Sections of this report:
* Tester comments
* Program output
* Prerequisites
* Environment and other context
------------------------------
TESTER COMMENTS
------------------------------
Additional comments from tester:
this report is from an automated smoke testing program
and was not reviewed by a human for accuracy
------------------------------
PROGRAM OUTPUT
------------------------------
Output from '/usr/bin/make test':
PERL_DL_NONLAZY=1 /opt/perl430-27-O0-5.14.2/bin/perl "-MExtUtils::Command::MM" "-MTest::Harness" "-e" "undef *Test::Harness::Switches; test_harness(0, 'blib/lib', 'blib/arch')" t/*.t
#
# Versions for all modules listed in MYMETA.json (including optional ones):
# Version Module
# -------- --------------------------------
# 3.33 App::Prove
# 2.00 Archive::Tar
# 2.142060 CPAN::Meta
# 2.126 CPAN::Meta::Requirements
# 0.25 Capture::Tiny
# 5.020 Dist::Zilla
# 5.020 Dist::Zilla::App
# 5.020 Dist::Zilla::App::Tester
# 5.020 Dist::Zilla::Role::BeforeRelease
# 5.020 Dist::Zilla::Role::TestRunner
# 5.020 Dist::Zilla::Tester
# 6.98 ExtUtils::MakeMaker
# 3.47 File::Spec::Functions
# 1.009 File::pushd
# 1.39 List::Util
# 2.1211 Moose
# 0.15 Moose::Autobox
# 1.07 Params::Util
# 1.008 Path::Iterator::Rule
# 0.056 Path::Tiny
# 0.987 Sub::Exporter
# 1.001003 Test::More
# 0.08 Test::Requires
# 0.22 Try::Tiny
# 0.63 lib
# 0.19 namespace::autoclean
# 1.04 strict
# 0.9909 version
# 1.12 warnings
t/00-report-prereqs.t .. ok
t/checkxt.t ............ ok
t/runxt.t .............. ok
t/withblib.t ........... ok
All tests successful.
Files=4, Tests=16, 70 wallclock secs ( 0.22 usr 0.03 sys + 63.03 cusr 4.19 csys = 67.47 CPU)
Result: PASS
------------------------------
PREREQUISITES
------------------------------
Prerequisite modules loaded:
requires:
Module Need Have
-------------------------------- ----- --------
App::Prove 3.00 3.33
Archive::Tar 0 2.00
Dist::Zilla 4.3 5.020
Dist::Zilla::App 0 5.020
Dist::Zilla::Role::BeforeRelease 0 5.020
Dist::Zilla::Role::TestRunner 0 5.020
File::pushd 0 1.009
Moose 2 2.1211
Moose::Autobox 0 0.15
namespace::autoclean 0.09 0.19
Path::Iterator::Rule 0 1.008
Path::Tiny 0.013 0.056
strict 0 1.04
warnings 0 1.12
build_requires:
Module Need Have
-------------------------------- ----- --------
Capture::Tiny 0 0.25
Dist::Zilla::App::Tester 0 5.020
Dist::Zilla::Tester 0 5.020
ExtUtils::MakeMaker 0 6.98
File::Spec::Functions 0 3.47
lib 0 0.63
List::Util 0 1.39
Params::Util 0 1.07
Sub::Exporter 0 0.987
Test::More 0.88 1.001003
Test::Requires 0 0.08
Try::Tiny 0 0.22
version 0 0.9909
configure_requires:
Module Need Have
-------------------------------- ----- --------
ExtUtils::MakeMaker 6.17 6.98
------------------------------
ENVIRONMENT AND OTHER CONTEXT
------------------------------
Environment variables:
AUTOMATED_TESTING = 1
LANG = en_US.utf8
PATH = /usr/lib/qt-3.3/bin:/usr/kerberos/sbin:/usr/kerberos/bin:/usr/local/sbin:/usr/sbin:/sbin:/usr/local/bin:/usr/bin:/bin:/root/bin
PERL5LIB =
PERL5OPT =
PERL5_CPANPLUS_IS_RUNNING = 9454
PERL5_CPAN_IS_RUNNING = 9454
PERL_MM_USE_DEFAULT = 1
SHELL = /bin/bash
TERM = xterm
Perl special variables (and OS-specific diagnostics, for MSWin32):
$^X = /opt/perl430-27-O0-5.14.2/bin/perl
$UID/$EUID = 0 / 0
$GID = 0 0 1 2 3 4 6 10
$EGID = 0 0 1 2 3 4 6 10
Perl module toolchain versions installed:
Module Have
------------------- --------
CPAN 2.05
CPAN::Meta 2.142060
Cwd 3.47
ExtUtils::CBuilder 0.280216
ExtUtils::Command 1.17
ExtUtils::Install 1.68
ExtUtils::MakeMaker 6.98
ExtUtils::Manifest 1.65
ExtUtils::ParseXS 3.24
File::Spec 3.47
JSON 2.90
JSON::PP 2.27203
Module::Build 0.4208
Module::Signature n/a
Parse::CPAN::Meta 1.4414
Test::Harness 3.33
Test::More 1.001003
YAML 1.08
YAML::Syck n/a
version 0.9909
--
Summary of my perl5 (revision 5 version 14 subversion 2) configuration:
Platform:
osname=linux, osvers=2.6.27.25-78.2.56.fc9.i686, archname=i686-linux-thread-multi-64int-ld
uname='linux localhost.localdomain 2.6.27.25-78.2.56.fc9.i686 #1 smp thu jun 18 12:47:50 edt 2009 i686 i686 i386 gnulinux '
config_args='-Dcc=gcc -Dprefix=/opt/perl430-27-O0-5.14.2 -DDEBUGGING'
hint=recommended, useposix=true, d_sigaction=define
useithreads=define, usemultiplicity=define
useperlio=define, d_sfio=undef, uselargefiles=define, usesocks=undef
use64bitint=define, use64bitall=undef, uselongdouble=define
usemymalloc=y, bincompat5005=undef
Compiler:
cc='gcc', ccflags ='-D_REENTRANT -D_GNU_SOURCE -DDEBUGGING -fno-strict-aliasing -pipe -fstack-protector -I/usr/local/include -D_LARGEFILE_SOURCE -D_FILE_OFFSET_BITS=64',
optimize='-O0 -g',
cppflags='-D_REENTRANT -D_GNU_SOURCE -DDEBUGGING -fno-strict-aliasing -pipe -fstack-protector -I/usr/local/include'
ccversion='', gccversion='4.3.0 20080428 (Red Hat 4.3.0-8)', gccosandvers=''
intsize=4, longsize=4, ptrsize=4, doublesize=8, byteorder=12345678
d_longlong=define, longlongsize=8, d_longdbl=define, longdblsize=12
ivtype='long long', ivsize=8, nvtype='long double', nvsize=12, Off_t='off_t', lseeksize=8
alignbytes=4, prototype=define
Linker and Libraries:
ld='gcc', ldflags =' -fstack-protector -L/usr/local/lib'
libpth=/usr/local/lib /lib /usr/lib
libs=-lnsl -lgdbm -ldb -ldl -lm -lcrypt -lutil -lpthread -lc
perllibs=-lnsl -ldl -lm -lcrypt -lutil -lpthread -lc
libc=/lib/libc-2.8.so, so=so, useshrplib=true, libperl=libperl.so
gnulibc_version='2.8'
Dynamic Linking:
dlsrc=dl_dlopen.xs, dlext=so, d_dlsymun=undef, ccdlflags='-Wl,-E -Wl,-rpath,/opt/perl430-27-O0-5.14.2/lib/5.14.2/i686-linux-thread-multi-64int-ld/CORE'
cccdlflags='-fPIC', lddlflags='-shared -O0 -g -L/usr/local/lib -fstack-protector'
Characteristics of this binary (from libperl):
Compile-time options: DEBUGGING MULTIPLICITY MYMALLOC PERL_DONT_CREATE_GVSV
PERL_IMPLICIT_CONTEXT PERL_MAD PERL_MALLOC_WRAP
PERL_PRESERVE_IVUV PERL_TRACK_MEMPOOL USE_64_BIT_INT
USE_FAST_STDIO USE_ITHREADS USE_LARGE_FILES
USE_LONG_DOUBLE USE_PERLIO USE_PERL_ATOF
USE_REENTRANT_API
Built under linux
Compiled at Aug 16 2014 02:24:40
%ENV:
PERL5LIB=""
PERL5OPT=""
PERL5_CPANPLUS_IS_RUNNING="9454"
PERL5_CPAN_IS_RUNNING="9454"
PERL_MM_USE_DEFAULT="1"
@INC:
/opt/perl430-27-O0-5.14.2/lib/site_perl/5.14.2/i686-linux-thread-multi-64int-ld
/opt/perl430-27-O0-5.14.2/lib/site_perl/5.14.2
/opt/perl430-27-O0-5.14.2/lib/5.14.2/i686-linux-thread-multi-64int-ld
/opt/perl430-27-O0-5.14.2/lib/5.14.2
.