SQL-Maker v1.22 Perl 5 v5.39.10 x86_64-linux
        
            - Status
- Pass
- From
- Slaven Rezić
- Dist
- 
                SQL-Maker v1.22
            
- Platform
- Perl 5 v5.39.10 x86_64-linux
- Date
- 2024-06-08 14:25:07
- ID
- e7cf2c0e-25a2-11ef-b54c-8fd66d8775ea
This distribution has been tested as part of the CPAN Testers
project, supporting the Perl programming language.  See
http://wiki.cpantesters.org/ for more information or email
questions to cpan-testers-discuss@perl.org
--
Dear Tokuhiro Matsuno'xmp,
This is a computer-generated report for SQL-Maker-1.22
on perl 5.39.10, created by CPAN-Reporter-1.2019.
Thank you for uploading your work to CPAN.  Congratulations!
All tests were successful.
Sections of this report:
    * Tester comments
    * Program output
    * Prerequisites
    * Environment and other context
------------------------------
TESTER COMMENTS
------------------------------
Additional comments from tester:
none provided
------------------------------
PROGRAM OUTPUT
------------------------------
Output from './Build test':
t/00_compile.t .......................................... ok
t/01_delete.t ........................................... ok
t/01_insert.t ........................................... ok
t/01_select.t ........................................... ok
t/01_simple.t ........................................... ok
t/01_update.t ........................................... ok
t/01_util.t ............................................. ok
t/02_where.t ............................................ ok
t/09_new_line.t ......................................... ok
t/10_subquery.t ......................................... ok
t/11_set.t .............................................. ok
t/12_insert_empty.t ..................................... ok
t/13_strict.t ........................................... ok
t/14_quote_char.t ....................................... ok
t/condition/01_where.t .................................. ok
t/condition/02_make_term.t .............................. ok
t/condition/03_add_raw.t ................................ ok
t/condition/04_compose_empty.t .......................... ok
t/condition/05_empty_values.t ........................... ok
t/plugins/insert_multi/01_insert_multi.t ................ ok
t/plugins/insert_on_duplicate/01_insert_on_duplicate.t .. ok
t/select/01_statement.t ................................. ok
t/select/02_pod_select.t ................................ ok
t/select/03_clone.t ..................................... ok
t/select/oracle/01_oracle.t ............................. ok
t/sql_type/01_sql_type.t ................................ ok
t/sql_type/02_synopsis.t ................................ ok
All tests successful.
Files=27, Tests=143,  2 wallclock secs ( 0.19 usr  0.05 sys +  1.84 cusr  0.30 csys =  2.38 CPU)
Result: PASS
------------------------------
PREREQUISITES
------------------------------
Prerequisite modules loaded:
requires:
    Module                Need     Have    
    --------------------- -------- --------
    Class::Accessor::Lite 0.05     0.08    
    DBI                   0        1.643   
    Module::Load          0        0.36    
    parent                0        0.241   
    perl                  5.008001 5.039010
    Scalar::Util          0        1.63    
    SQL::QueryMaker       0        0.03    
build_requires:
    Module                Need     Have    
    --------------------- -------- --------
    Clone                 0        0.46    
    Test::More            0.98     1.302199
    Test::Requires        0        0.11    
    Tie::IxHash           0        1.23    
configure_requires:
    Module                Need     Have    
    --------------------- -------- --------
    Module::Build::Tiny   0.035    0.047   
------------------------------
ENVIRONMENT AND OTHER CONTEXT
------------------------------
Environment variables:
    LANG = en_US.UTF-8
    PATH = /usr/local/bin:/usr/bin:/bin:/usr/local/sbin:/usr/sbin:/sbin:/home/cpansand/bin/linux-gnu:/home/cpansand/bin/sh:/home/cpansand/bin:/usr/games:/home/cpansand/devel:/home/eserte/src/srezic-misc/scripts
    PERL5LIB = /home/cpansand/.local/share/.cpan/build/2024060813/SQL-QueryMaker-0.03-1/blib/arch:/home/cpansand/.local/share/.cpan/build/2024060813/SQL-QueryMaker-0.03-1/blib/lib:/home/cpansand/.local/share/.cpan/build/2024060813/Data-Validator-1.07-1/blib/arch:/home/cpansand/.local/share/.cpan/build/2024060813/Data-Validator-1.07-1/blib/lib:/home/cpansand/.local/share/.cpan/build/2024060813/DBIx-TransactionManager-1.13-1/blib/arch:/home/cpansand/.local/share/.cpan/build/2024060813/DBIx-TransactionManager-1.13-1/blib/lib
    PERL5OPT = 
    PERL5_CPANPLUS_IS_RUNNING = 81053
    PERL5_CPAN_IS_RUNNING = 81053
    PERL5_CPAN_IS_RUNNING_IN_RECURSION = 80945,81053
    PERLDOC = -MPod::Perldoc::ToTextOverstrike
    PERL_BATCH = yes
    PERL_CANARY_STABILITY_NOPROMPT = 1
    PERL_CPAN_REPORTER_CONFIG = /var/tmp/cpansmoker-1023/2024060813/cpanreporter_000_config.ini
    PERL_EXTUTILS_AUTOINSTALL = --defaultdeps
    PERL_USE_UNSAFE_INC = 1
    SHELL = /usr/bin/zsh
    TERM = screen
    TMPDIR = /var/tmp/cpansmoker-1023/2024060813
Perl special variables (and OS-specific diagnostics, for MSWin32):
    $^X = /opt/perl-5.39.10/bin/perl5.39.10
    $UID/$EUID = 1023 / 1023
    $GID = 1023 1023
    $EGID = 1023 1023
Perl module toolchain versions installed:
    Module              Have    
    ------------------- --------
    CPAN                2.36    
    CPAN::Meta          2.150010
    Cwd                 3.90    
    ExtUtils::CBuilder  0.280240
    ExtUtils::Command   7.70    
    ExtUtils::Install   2.22    
    ExtUtils::MakeMaker 7.70    
    ExtUtils::Manifest  1.75    
    ExtUtils::ParseXS   3.51    
    File::Spec          3.90    
    JSON                4.10    
    JSON::PP            4.16    
    Module::Build       0.4234  
    Module::Signature   n/a     
    Parse::CPAN::Meta   2.150010
    Test2               1.302199
    Test::Harness       3.48    
    Test::More          1.302199
    YAML                1.31    
    YAML::Syck          1.34    
    version             0.9932  
--
Summary of my perl5 (revision 5 version 39 subversion 10) configuration:
   
  Platform:
    osname=linux
    osvers=5.10.0-28-amd64
    archname=x86_64-linux
    uname='linux cloud7.bbbike.org 5.10.0-28-amd64 #1 smp debian 5.10.209-2 (2024-01-31) x86_64 gnulinux '
    config_args='-ds -e -Dprefix=/opt/perl-5.39.10 -Dusedevel -Dusemallocwrap=no -Dcf_email=srezic@cpan.org'
    hint=recommended
    useposix=true
    d_sigaction=define
    useithreads=undef
    usemultiplicity=undef
    use64bitint=define
    use64bitall=define
    uselongdouble=undef
    usemymalloc=n
    default_inc_excludes_dot=define
  Compiler:
    cc='cc'
    ccflags ='-fwrapv -fno-strict-aliasing -pipe -fstack-protector-strong -I/usr/local/include -D_LARGEFILE_SOURCE -D_FILE_OFFSET_BITS=64 -D_FORTIFY_SOURCE=2'
    optimize='-O2'
    cppflags='-fwrapv -fno-strict-aliasing -pipe -fstack-protector-strong -I/usr/local/include'
    ccversion=''
    gccversion='10.2.1 20210110'
    gccosandvers=''
    intsize=4
    longsize=8
    ptrsize=8
    doublesize=8
    byteorder=12345678
    doublekind=3
    d_longlong=define
    longlongsize=8
    d_longdbl=define
    longdblsize=16
    longdblkind=3
    ivtype='long'
    ivsize=8
    nvtype='double'
    nvsize=8
    Off_t='off_t'
    lseeksize=8
    alignbytes=8
    prototype=define
  Linker and Libraries:
    ld='cc'
    ldflags =' -fstack-protector-strong -L/usr/local/lib'
    libpth=/usr/local/lib /usr/lib/x86_64-linux-gnu /usr/lib /usr/lib64
    libs=-lpthread -lgdbm -ldb -ldl -lm -lcrypt -lutil -lc
    perllibs=-lpthread -ldl -lm -lcrypt -lutil -lc
    libc=libc-2.31.so
    so=so
    useshrplib=false
    libperl=libperl.a
    gnulibc_version='2.31'
  Dynamic Linking:
    dlsrc=dl_dlopen.xs
    dlext=so
    d_dlsymun=undef
    ccdlflags='-Wl,-E'
    cccdlflags='-fPIC'
    lddlflags='-shared -O2 -L/usr/local/lib -fstack-protector-strong'
Characteristics of this binary (from libperl): 
  Compile-time options:
    HAS_LONG_DOUBLE
    HAS_STRTOLD
    HAS_TIMES
    PERLIO_LAYERS
    PERL_COPY_ON_WRITE
    PERL_DONT_CREATE_GVSV
    PERL_HASH_FUNC_SIPHASH13
    PERL_HASH_USE_SBOX32
    PERL_OP_PARENT
    PERL_PRESERVE_IVUV
    PERL_USE_DEVEL
    PERL_USE_SAFE_PUTENV
    USE_64_BIT_ALL
    USE_64_BIT_INT
    USE_LARGE_FILES
    USE_LOCALE
    USE_LOCALE_COLLATE
    USE_LOCALE_CTYPE
    USE_LOCALE_NUMERIC
    USE_LOCALE_TIME
    USE_PERLIO
    USE_PERL_ATOF
  Built under linux
  Compiled at Apr 27 2024 20:38:04
  %ENV:
    PERL5LIB="/home/cpansand/.local/share/.cpan/build/2024060813/SQL-QueryMaker-0.03-1/blib/arch:/home/cpansand/.local/share/.cpan/build/2024060813/SQL-QueryMaker-0.03-1/blib/lib:/home/cpansand/.local/share/.cpan/build/2024060813/Data-Validator-1.07-1/blib/arch:/home/cpansand/.local/share/.cpan/build/2024060813/Data-Validator-1.07-1/blib/lib:/home/cpansand/.local/share/.cpan/build/2024060813/DBIx-TransactionManager-1.13-1/blib/arch:/home/cpansand/.local/share/.cpan/build/2024060813/DBIx-TransactionManager-1.13-1/blib/lib"
    PERL5OPT=""
    PERL5_CPANPLUS_IS_RUNNING="81053"
    PERL5_CPAN_IS_RUNNING="81053"
    PERL5_CPAN_IS_RUNNING_IN_RECURSION="80945,81053"
    PERLDOC="-MPod::Perldoc::ToTextOverstrike"
    PERL_BATCH="yes"
    PERL_CANARY_STABILITY_NOPROMPT="1"
    PERL_CPAN_REPORTER_CONFIG="/var/tmp/cpansmoker-1023/2024060813/cpanreporter_000_config.ini"
    PERL_EXTUTILS_AUTOINSTALL="--defaultdeps"
    PERL_USE_UNSAFE_INC="1"
  @INC:
    /home/cpansand/.local/share/.cpan/build/2024060813/SQL-QueryMaker-0.03-1/blib/arch
    /home/cpansand/.local/share/.cpan/build/2024060813/SQL-QueryMaker-0.03-1/blib/lib
    /home/cpansand/.local/share/.cpan/build/2024060813/Data-Validator-1.07-1/blib/arch
    /home/cpansand/.local/share/.cpan/build/2024060813/Data-Validator-1.07-1/blib/lib
    /home/cpansand/.local/share/.cpan/build/2024060813/DBIx-TransactionManager-1.13-1/blib/arch
    /home/cpansand/.local/share/.cpan/build/2024060813/DBIx-TransactionManager-1.13-1/blib/lib
    /opt/perl-5.39.10/lib/site_perl/5.39.10/x86_64-linux
    /opt/perl-5.39.10/lib/site_perl/5.39.10
    /opt/perl-5.39.10/lib/5.39.10/x86_64-linux
    /opt/perl-5.39.10/lib/5.39.10
    .