Google-Ads-GoogleAds-Client v19.0.0 Perl 5 v5.28.1 amd64-freebsd

Status
Pass
From
Slaven Rezić
Dist
Google-Ads-GoogleAds-Client v19.0.0
Platform
Perl 5 v5.28.1 amd64-freebsd
Date
2023-10-30 21:04:24
ID
e7baab56-7767-11ee-a5c5-28e46d8775ea
This distribution has been tested as part of the CPAN Testers
project, supporting the Perl programming language.  See
http://wiki.cpantesters.org/ for more information or email
questions to cpan-testers-discuss@perl.org


--
Dear Google Ads API,

This is a computer-generated report for Google-Ads-GoogleAds-Client-19.0.0
on perl 5.28.1, created by CPAN-Reporter-1.2019.

Thank you for uploading your work to CPAN.  Congratulations!
All tests were successful.

Sections of this report:

    * Tester comments
    * Program output
    * Prerequisites
    * Environment and other context

------------------------------
TESTER COMMENTS
------------------------------

Additional comments from tester:

none provided

------------------------------
PROGRAM OUTPUT
------------------------------

Output from './Build test':

t/001_require.t ....................... ok
t/011_Client.t ........................ ok
t/012_GoogleAdsException.t ............ ok
t/013_OAuth2ApplicationsHandler.t ..... ok
t/014_GoogleAdsHelper.t ............... ok
t/015_SearchGoogleAdsIterator.t ....... ok
t/016_FieldMasks.t .................... ok
t/017_PartialFailureUtils.t ........... ok
t/018_MediaUtils.t .................... ok
t/019_GoogleAdsLogger.t ............... ok
t/020_ResourcesNames.t ................ ok
t/021_OperationService.t .............. ok
t/022_SearchStreamHandler.t ........... ok
t/023_OAuth2ServiceAccountsHandler.t .. ok
All tests successful.
Files=14, Tests=5229,  4 wallclock secs ( 0.35 usr  0.11 sys +  2.82 cusr  1.24 csys =  4.52 CPU)
Result: PASS

------------------------------
PREREQUISITES
------------------------------

Prerequisite modules loaded:

requires:

    Module                     Need    Have      
    -------------------------- ------- ----------
    Class::Load                0       0.25      
    Class::Std::Fast           0       0.0.8     
    Const::Exporter            0       v1.2.0    
    Crypt::OpenSSL::RSA        0       0.32      
    Cwd                        0       3.75      
    Data::Compare              0       1.28      
    Data::Uniqid               0       0.12      
    Date::Format               0       2.24      
    Date::Parse                0       2.32      
    Digest::SHA                0       6.04      
    Exporter::Auto             0       0.04      
    File::Basename             0       2.85      
    File::HomeDir              0       1.006     
    File::Path                 0       2.18      
    File::Spec                 0       3.75      
    File::Temp                 0       0.2311    
    FindBin                    0       1.53      
    Getopt::Long               0       2.54      
    HTTP::Server::Simple::CGI  0       0         
    IO::Socket::SSL            0       2.081     
    JSON::Parse                0       0.61      
    JSON::SL                   0       1.0.7     
    JSON::WebToken             0       0.10      
    JSON::XS                   0       4.03      
    List::Util                 0       1.63      
    Log::Log4perl              0       1.57      
    LWP::Protocol::https       0       6.10      
    LWP::UserAgent             0       6.70      
    LWP::UserAgent::Determined 0       1.07      
    MIME::Base64               0       3.16      
    perl                       v5.28.1 5.028001  
    POSIX                      0       1.84      
    Storable                   0       3.25      
    Template                   0       3.010     
    Time::HiRes                0       1.9764    
    URI::Escape                0       5.21      
    URI::Query                 0       0.16      

build_requires:

    Module                     Need    Have      
    -------------------------- ------- ----------
    Class::Std::Fast           0       0.0.8     
    Config::Properties         0       1.80      
    Module::Build              0       0.4234    
    Test::Deep                 0       1.204     
    Test::Exception            0       0.43      
    Test::MockObject           0       1.20200122
    Test::MockObject::Extends  0       1.20200122
    Test::More                 0       1.302195  

configure_requires:

    Module                     Need    Have      
    -------------------------- ------- ----------
    Module::Build              0.42    0.4234    


------------------------------
ENVIRONMENT AND OTHER CONTEXT
------------------------------

Environment variables:

    LC_ALL = de_DE.ISO8859-1
    PATH = /usr/local/bin:/usr/bin:/bin:/usr/local/sbin:/usr/sbin:/sbin:/home/cpansand/bin/freebsd10.3:/home/cpansand/bin/sh:/home/cpansand/bin:/usr/games:/home/cpansand/devel:/home/eserte/src/srezic-misc/scripts
    PERL5LIB = 
    PERL5OPT = 
    PERL5_CPANPLUS_IS_RUNNING = 39058
    PERL5_CPAN_IS_RUNNING = 39058
    PERL5_CPAN_IS_RUNNING_IN_RECURSION = 10072,39058
    PERLDOC = -MPod::Perldoc::ToTextOverstrike
    PERL_BATCH = yes
    PERL_CANARY_STABILITY_NOPROMPT = 1
    PERL_CPAN_REPORTER_CONFIG = /var/tmp/cpansmoker-1023/2023103017/cpanreporter_000_config.ini
    PERL_EXTUTILS_AUTOINSTALL = --defaultdeps
    PERL_USE_UNSAFE_INC = 1
    SHELL = /usr/local/bin/zsh
    TERM = screen
    TMPDIR = /var/tmp/cpansmoker-1023/2023103017

Perl special variables (and OS-specific diagnostics, for MSWin32):

    $^X = /usr/perl5.28.1p/bin/perl
    $UID/$EUID = 1023 / 1023
    $GID = 1023 1023
    $EGID = 1023 1023

Perl module toolchain versions installed:

    Module              Have    
    ------------------- --------
    CPAN                2.34    
    CPAN::Meta          2.150010
    Cwd                 3.75    
    ExtUtils::CBuilder  0.280236
    ExtUtils::Command   7.70    
    ExtUtils::Install   2.22    
    ExtUtils::MakeMaker 7.70    
    ExtUtils::Manifest  1.75    
    ExtUtils::ParseXS   3.51    
    File::Spec          3.75    
    JSON                4.10    
    JSON::PP            4.16    
    Module::Build       0.4234  
    Module::Signature   0.87    
    Parse::CPAN::Meta   2.150010
    Test2               1.302195
    Test::Harness       3.47    
    Test::More          1.302195
    YAML                1.30    
    YAML::Syck          1.34    
    version             0.9930  


--

Summary of my perl5 (revision 5 version 28 subversion 1) configuration:
   
  Platform:
    osname=freebsd
    osvers=10.3-release-p24
    archname=amd64-freebsd
    uname='freebsd cvrsnica-freebsd-101.herceg.de 10.3-release-p24 freebsd 10.3-release-p24 #0: wed nov 15 04:57:40 utc 2017 root@amd64-builder.daemonology.net:usrobjusrsrcsysgeneric amd64 '
    config_args='-ds -e -Dprefix=/usr/perl5.28.1p -Dcf_email=srezic@cpan.org -Doptimize=-O2 -pipe'
    hint=recommended
    useposix=true
    d_sigaction=define
    useithreads=undef
    usemultiplicity=undef
    use64bitint=define
    use64bitall=define
    uselongdouble=undef
    usemymalloc=n
    default_inc_excludes_dot=define
    bincompat5005=undef
  Compiler:
    cc='cc'
    ccflags ='-DHAS_FPSETMASK -DHAS_FLOATINGPOINT_H -fno-strict-aliasing -pipe -fstack-protector -I/usr/local/include -D_FORTIFY_SOURCE=2'
    optimize='-O2 -pipe'
    cppflags='-DHAS_FPSETMASK -DHAS_FLOATINGPOINT_H -fno-strict-aliasing -pipe -fstack-protector -I/usr/local/include'
    ccversion=''
    gccversion='4.2.1 Compatible FreeBSD Clang 3.4.1 (tags/RELEASE_34/dot1-final 208032)'
    gccosandvers=''
    intsize=4
    longsize=8
    ptrsize=8
    doublesize=8
    byteorder=12345678
    doublekind=3
    d_longlong=define
    longlongsize=8
    d_longdbl=define
    longdblsize=16
    longdblkind=3
    ivtype='long'
    ivsize=8
    nvtype='double'
    nvsize=8
    Off_t='off_t'
    lseeksize=8
    alignbytes=8
    prototype=define
  Linker and Libraries:
    ld='cc'
    ldflags ='-pthread -Wl,-E  -fstack-protector -L/usr/local/lib'
    libpth=/usr/lib /usr/local/lib /usr/include/clang/3.4.1 /usr/lib
    libs=-lpthread -lgdbm -lm -lcrypt -lutil -lc -lelf
    perllibs=-lpthread -lm -lcrypt -lutil -lc -lelf
    libc=
    so=so
    useshrplib=false
    libperl=libperl.a
    gnulibc_version=''
  Dynamic Linking:
    dlsrc=dl_dlopen.xs
    dlext=so
    d_dlsymun=undef
    ccdlflags=' '
    cccdlflags='-DPIC -fPIC'
    lddlflags='-shared  -L/usr/local/lib -fstack-protector'


Characteristics of this binary (from libperl): 
  Compile-time options:
    HAS_TIMES
    PERLIO_LAYERS
    PERL_COPY_ON_WRITE
    PERL_DONT_CREATE_GVSV
    PERL_MALLOC_WRAP
    PERL_OP_PARENT
    PERL_PRESERVE_IVUV
    USE_64_BIT_ALL
    USE_64_BIT_INT
    USE_LARGE_FILES
    USE_LOCALE
    USE_LOCALE_COLLATE
    USE_LOCALE_CTYPE
    USE_LOCALE_NUMERIC
    USE_LOCALE_TIME
    USE_PERLIO
    USE_PERL_ATOF
  Built under freebsd
  Compiled at Dec 12 2018 23:03:41
  %ENV:
    PERL5LIB=""
    PERL5OPT=""
    PERL5_CPANPLUS_IS_RUNNING="39058"
    PERL5_CPAN_IS_RUNNING="39058"
    PERL5_CPAN_IS_RUNNING_IN_RECURSION="10072,39058"
    PERLDOC="-MPod::Perldoc::ToTextOverstrike"
    PERL_BATCH="yes"
    PERL_CANARY_STABILITY_NOPROMPT="1"
    PERL_CPAN_REPORTER_CONFIG="/var/tmp/cpansmoker-1023/2023103017/cpanreporter_000_config.ini"
    PERL_EXTUTILS_AUTOINSTALL="--defaultdeps"
    PERL_USE_UNSAFE_INC="1"
  @INC:
    /usr/perl5.28.1p/lib/site_perl/5.28.1/amd64-freebsd
    /usr/perl5.28.1p/lib/site_perl/5.28.1
    /usr/perl5.28.1p/lib/5.28.1/amd64-freebsd
    /usr/perl5.28.1p/lib/5.28.1
    .