Report for Test-Distribution-2.00

Back
From: metabase:user:7b143b96-518f-11e4-8660-15d5a5c0233e
Subject: PASS Test-Distribution-2.00 v5.20.1 GNU/Linux
Date: 2014-12-12T03:49:42Z

This distribution has been tested as part of the CPAN Testers
project, supporting the Perl programming language.  See
http://wiki.cpantesters.org/ for more information or email
questions to cpan-testers-discuss@perl.org


--
Dear Sagar R. Shah,

This is a computer-generated report for Test-Distribution-2.00
on perl 5.20.1, created by CPAN-Reporter-1.2011.

Thank you for uploading your work to CPAN.  Congratulations!
All tests were successful.

Sections of this report:

    * Tester comments
    * Program output
    * Prerequisites
    * Environment and other context

------------------------------
TESTER COMMENTS
------------------------------

Additional comments from tester:

none provided

------------------------------
PROGRAM OUTPUT
------------------------------

Output from './Build test':

t/01distribution.t ............. ok
t/02extra.t .................... ok
t/03only_versions.t ............ ok
t/04only_pod_extra.t ........... ok
t/05only_pod_use_extra.t ....... ok
t/06only_pod_versions_extra.t .. ok
t/07prereq.t ................... ok
t/08only_podcover.t ............ ok
All tests successful.
Files=8, Tests=42,  1 wallclock secs ( 0.04 usr  0.02 sys +  0.66 cusr  0.07 csys =  0.79 CPU)
Result: PASS

------------------------------
PREREQUISITES
------------------------------

Prerequisite modules loaded:

requires:

    Module              Need Have      
    ------------------- ---- ----------
    ExtUtils::Manifest  1.43 1.69      
    File::Find::Rule    0.03 0.33      
    Module::CoreList    1.93 5.20141120
    Pod::Coverage       0.17 0.23      
    Test::More          0.45 1.001009  
    Test::Pod           0.95 1.48      
    Test::Pod::Coverage 0    1.10      


------------------------------
ENVIRONMENT AND OTHER CONTEXT
------------------------------

Environment variables:

    LANG = en_US.UTF-8
    LANGUAGE = en
    LC_ADDRESS = uk_UA.UTF-8
    LC_IDENTIFICATION = uk_UA.UTF-8
    LC_MEASUREMENT = uk_UA.UTF-8
    LC_MONETARY = uk_UA.UTF-8
    LC_NAME = uk_UA.UTF-8
    LC_NUMERIC = uk_UA.UTF-8
    LC_PAPER = uk_UA.UTF-8
    LC_TELEPHONE = uk_UA.UTF-8
    LC_TIME = uk_UA.UTF-8
    PATH = /home/andrii/perl5/perlbrew/bin:/home/andrii/perl5/perlbrew/perls/perl-5.20.1/bin:/usr/local/sbin:/usr/local/bin:/usr/sbin:/usr/bin:/sbin:/bin:/usr/games:/usr/local/games
    PERL5LIB = 
    PERL5OPT = 
    PERL5_CPANPLUS_IS_RUNNING = 3528
    PERL5_CPAN_IS_RUNNING = 3528
    PERLBREW_BASHRC_VERSION = 0.66
    PERLBREW_HOME = /home/andrii/.perlbrew
    PERLBREW_MANPATH = /home/andrii/perl5/perlbrew/perls/perl-5.20.1/man
    PERLBREW_PATH = /home/andrii/perl5/perlbrew/bin:/home/andrii/perl5/perlbrew/perls/perl-5.20.1/bin
    PERLBREW_PERL = perl-5.20.1
    PERLBREW_ROOT = /home/andrii/perl5/perlbrew
    PERLBREW_VERSION = 0.66
    SHELL = /bin/bash
    TERM = xterm

Perl special variables (and OS-specific diagnostics, for MSWin32):

    $^X = /home/andrii/perl5/perlbrew/perls/perl-5.20.1/bin/perl
    $UID/$EUID = 1000 / 1000
    $GID = 1000 4 24 27 30 46 108 124 1000
    $EGID = 1000 4 24 27 30 46 108 124 1000

Perl module toolchain versions installed:

    Module              Have    
    ------------------- --------
    CPAN                2.05    
    CPAN::Meta          2.143240
    Cwd                 3.48    
    ExtUtils::CBuilder  0.280220
    ExtUtils::Command   1.18    
    ExtUtils::Install   2.04    
    ExtUtils::MakeMaker 7.04    
    ExtUtils::Manifest  1.69    
    ExtUtils::ParseXS   3.24    
    File::Spec          3.48    
    JSON                2.90    
    JSON::PP            2.27300 
    Module::Build       0.4210  
    Module::Signature   0.73    
    Parse::CPAN::Meta   1.4414  
    Test::Harness       3.34    
    Test::More          1.001009
    YAML                1.13    
    YAML::Syck          n/a     
    version             0.9909  


--

Summary of my perl5 (revision 5 version 20 subversion 1) configuration:
   
  Platform:
    osname=linux, osvers=3.13.0-37-generic, archname=x86_64-linux
    uname='linux andrii-hp-g62 3.13.0-37-generic #64-ubuntu smp mon sep 22 21:28:38 utc 2014 x86_64 x86_64 x86_64 gnulinux '
    config_args='-de -Dprefix=/home/andrii/perl5/perlbrew/perls/perl-5.20.1 -Aeval:scriptdir=/home/andrii/perl5/perlbrew/perls/perl-5.20.1/bin'
    hint=recommended, useposix=true, d_sigaction=define
    useithreads=undef, usemultiplicity=undef
    use64bitint=define, use64bitall=define, uselongdouble=undef
    usemymalloc=n, bincompat5005=undef
  Compiler:
    cc='cc', ccflags ='-fwrapv -fno-strict-aliasing -pipe -fstack-protector -I/usr/local/include -D_LARGEFILE_SOURCE -D_FILE_OFFSET_BITS=64',
    optimize='-O2',
    cppflags='-fwrapv -fno-strict-aliasing -pipe -fstack-protector -I/usr/local/include'
    ccversion='', gccversion='4.8.2', gccosandvers=''
    intsize=4, longsize=8, ptrsize=8, doublesize=8, byteorder=12345678
    d_longlong=define, longlongsize=8, d_longdbl=define, longdblsize=16
    ivtype='long', ivsize=8, nvtype='double', nvsize=8, Off_t='off_t', lseeksize=8
    alignbytes=8, prototype=define
  Linker and Libraries:
    ld='cc', ldflags =' -fstack-protector -L/usr/local/lib'
    libpth=/usr/local/lib /usr/lib/gcc/x86_64-linux-gnu/4.8/include-fixed /usr/include/x86_64-linux-gnu /usr/lib /lib/x86_64-linux-gnu /lib/../lib /usr/lib/x86_64-linux-gnu /usr/lib/../lib /lib
    libs=-lnsl -ldl -lm -lcrypt -lutil -lc
    perllibs=-lnsl -ldl -lm -lcrypt -lutil -lc
    libc=, so=so, useshrplib=false, libperl=libperl.a
    gnulibc_version='2.19'
  Dynamic Linking:
    dlsrc=dl_dlopen.xs, dlext=so, d_dlsymun=undef, ccdlflags='-Wl,-E'
    cccdlflags='-fPIC', lddlflags='-shared -O2 -L/usr/local/lib -fstack-protector'


Characteristics of this binary (from libperl): 
  Compile-time options: HAS_TIMES PERLIO_LAYERS PERL_DONT_CREATE_GVSV
                        PERL_HASH_FUNC_ONE_AT_A_TIME_HARD PERL_MALLOC_WRAP
                        PERL_NEW_COPY_ON_WRITE PERL_PRESERVE_IVUV
                        USE_64_BIT_ALL USE_64_BIT_INT USE_LARGE_FILES
                        USE_LOCALE USE_LOCALE_COLLATE USE_LOCALE_CTYPE
                        USE_LOCALE_NUMERIC USE_PERLIO USE_PERL_ATOF
  Built under linux
  Compiled at Oct 11 2014 19:12:20
  %ENV:
    PERL5LIB=""
    PERL5OPT=""
    PERL5_CPANPLUS_IS_RUNNING="3528"
    PERL5_CPAN_IS_RUNNING="3528"
    PERLBREW_BASHRC_VERSION="0.66"
    PERLBREW_HOME="/home/andrii/.perlbrew"
    PERLBREW_MANPATH="/home/andrii/perl5/perlbrew/perls/perl-5.20.1/man"
    PERLBREW_PATH="/home/andrii/perl5/perlbrew/bin:/home/andrii/perl5/perlbrew/perls/perl-5.20.1/bin"
    PERLBREW_PERL="perl-5.20.1"
    PERLBREW_ROOT="/home/andrii/perl5/perlbrew"
    PERLBREW_VERSION="0.66"
  @INC:
    /home/andrii/perl5/perlbrew/perls/perl-5.20.1/lib/site_perl/5.20.1/x86_64-linux
    /home/andrii/perl5/perlbrew/perls/perl-5.20.1/lib/site_perl/5.20.1
    /home/andrii/perl5/perlbrew/perls/perl-5.20.1/lib/5.20.1/x86_64-linux
    /home/andrii/perl5/perlbrew/perls/perl-5.20.1/lib/5.20.1
    .