Report for WebService-GData-0.0404

Back
From: metabase:user:30f0bd62-2aae-11df-837a-5e0a49663a4f
Subject: PASS WebService-GData-0.0404 v5.13.11 OpenBSD
Date: 2011-05-08T00:48:34Z

This distribution has been tested as part of the CPAN Testers
project, supporting the Perl programming language.  See
http://wiki.cpantesters.org/ for more information or email
questions to cpan-testers-discuss@perl.org


--
Dear shirirules,

This is a computer-generated report for WebService-GData-0.0404
on perl 5.13.11, created by CPAN-Reporter-1.1902.

Thank you for uploading your work to CPAN.  Congratulations!
All tests were successful.

Sections of this report:

    * Tester comments
    * Program output
    * Prerequisites
    * Environment and other context

------------------------------
TESTER COMMENTS
------------------------------

Additional comments from tester:

this report is from an automated smoke testing program
and was not reviewed by a human for accuracy

------------------------------
PROGRAM OUTPUT
------------------------------

Output from '/usr/bin/make test':

PERL_DL_NONLAZY=1 /home/sts/cpansmoke/perl-5.13.11/bin/perl5.13.11 "-MExtUtils::Command::MM" "-e" "test_harness(0, 'inc', 'blib/lib', 'blib/arch')" t/*.t
t/00-WebService-GData-load.t ................................. ok
t/01-WebService-GData-instance.t ............................. ok
t/02-WebService-GData-install_in_package.t ................... ok
t/03-WebService-GData-Constants-load.t ....................... ok
t/04-WebService-GData-Constants-noimport.t ................... ok
t/05-WebService-GData-Constants-import-service.t ............. ok
t/06-WebService-GData-Constants-import-format.t .............. ok
t/07-WebService-GData-Constants-import-general.t ............. ok
t/08-WebService-GData-Constants-import-namespaces.t .......... ok
t/09-WebService-GData-Error-Entry-load.t ..................... ok
t/10-WebService-GData-Error-Entry-instance.t ................. ok
t/11-WebService-GData-Error-Entry-parsexml.t ................. ok
t/12-WebService-GData-Error-Entry-createxml.t ................ ok
t/13-WebService-GData-Error-load.t ........................... ok
t/14-WebService-GData-Error-instance.t ....................... ok
t/15-WebService-GData-Error-parsexml.t ....................... ok
t/16-WebService-GData-Query-load.t ........................... ok
t/17-WebService-GData-Query-instance.t ....................... ok
t/18-WebService-GData-YouTube-Query-load.t ................... ok
t/19-WebService-GData-YouTube-Query-instance.t ............... ok
t/20-WebService-GData-Base-load.t ............................ ok
t/21-WebService-GData-Base-instance.t ........................ ok
t/22-WebService-GData-Base-mockrequest.t ..................... ok
t/23-WebService-GData-ClientLogin-load.t ..................... ok
t/24-WebService-GData-ClientLogin-mockrequest.t .............. ok
t/25-WebService-GData-ClientLogin-fail.t ..................... ok
t/26-WebService-GData-ClientLogin-requestservice.t ........... skipped: Crypt::SSLeay must be installed to test ClientLogin live...
t/27-WebService-GData-Node-load.t ............................ ok
t/28-WebService-GData-Node-Link-load.t ....................... ok
t/29-WebService-GData-Node-Link-instance.t ................... ok
t/30-WebService-GData-Node-Category-load.t ................... ok
t/31-WebService-GData-Node-Category-instance.t ............... ok
t/32-WebService-GData-Node-Content-load.t .................... ok
t/33-WebService-GData-Node-Content-instance.t ................ ok
t/34-WebService-GData-Node-Media-Content-instance.t .......... ok
t/35-WebService-GData-Node-GeoRSS-GML-instance.t ............. ok
t/36-WebService-GData-Node-AuthorEntity-load.t ............... ok
t/37-WebService-GData-Node-AuthorEntity-instance.t ........... ok
t/38-WebService-GData-Node-PointEntity-load.t ................ ok
t/39-WebService-GData-Node-PointEntity-instance.t ............ ok
t/40-WebService-GData-Collection-load.t ...................... ok
t/41-WebService-GData-Collection-instance.t .................. ok
t/42-WebService-GData-Node-Atom-FeedEntity-instance.t ........ ok
t/43-WebService-GData-Node-Atom-FeedEntity-emptyinstance.t ... ok
t/44-WebService-GData-Feed-load.t ............................ ok
t/45-WebService-GData-Feed-instance.t ........................ ok
t/46-WebService-GData-Feed-instance.t ........................ ok
t/47-WebService-GData-Feed-Entry-load.t ...................... ok
t/48-WebService-GData-Feed-Entry-instance.t .................. ok
t/49-WebService-GData-YouTube-Constants-load.t ............... ok
t/50-WebService-GData-YouTube-Constants-noimport.t ........... ok
t/51-WebService-GData-YouTube-Constants-imported.t ........... ok
t/52-WebService-GData-YouTube-load.t ......................... ok
t/53-WebService-GData-YouTube-Node-AccessControl-instance.t .. ok
t/54-WebService-GData-YouTube-Node-AboutMe-instance.t ........ ok
t/55-WebService-GData-YouTube-Feed-Video-load.t .............. ok
t/56-WebService-GData-YouTube-Feed-Video-instance.t .......... ok
t/57-WebService-Gdata-Youtube-StagingServer.t ................ ok
t/58-WebService-GData-YouTube-Feed-UserProfile-instance.t .... ok
t/59-WebService-GData-YouTube-Feed-Complaint-instance.t ...... ok
All tests successful.
Files=60, Tests=326,  8 wallclock secs ( 0.55 usr  0.50 sys +  5.76 cusr  1.44 csys =  8.25 CPU)
Result: PASS

------------------------------
PREREQUISITES
------------------------------

Prerequisite modules loaded:

requires:

    Module              Need     Have    
    ------------------- -------- --------
    JSON                2        2.51    
    LWP                 0        6.02    
    perl                5.008008 5.013011
    Test::Mock::LWP     0.05     0.05    
    Test::More          0        0.98    

build_requires:

    Module              Need     Have    
    ------------------- -------- --------
    ExtUtils::MakeMaker 6.42     6.57_05 

configure_requires:

    Module              Need     Have    
    ------------------- -------- --------
    ExtUtils::MakeMaker 6.42     6.57_05 


------------------------------
ENVIRONMENT AND OTHER CONTEXT
------------------------------

Environment variables:

    AUTOMATED_TESTING = 1
    PATH = /home/sts/bin:/bin:/sbin:/usr/bin:/usr/sbin:/usr/X11R6/bin:/usr/local/bin:/usr/local/sbin:/usr/games:.
    PERL5LIB = /home/sts/cpansmoke/perl-5.13.11/cpan/build/Test-Mock-LWP-0.05-8LFbo4/blib/arch:/home/sts/cpansmoke/perl-5.13.11/cpan/build/Test-Mock-LWP-0.05-8LFbo4/blib/lib:/home/sts/cpansmoke/perl-5.13.11/cpan/build/UNIVERSAL-can-1.16-RaqzZE/blib/arch:/home/sts/cpansmoke/perl-5.13.11/cpan/build/UNIVERSAL-can-1.16-RaqzZE/blib/lib:/home/sts/cpansmoke/perl-5.13.11/cpan/build/Test-MockObject-1.09-8riZh_/blib/arch:/home/sts/cpansmoke/perl-5.13.11/cpan/build/Test-MockObject-1.09-8riZh_/blib/lib:/home/sts/cpansmoke/perl-5.13.11/cpan/build/UNIVERSAL-isa-1.03-C3rhy2/blib/arch:/home/sts/cpansmoke/perl-5.13.11/cpan/build/UNIVERSAL-isa-1.03-C3rhy2/blib/lib
    PERL5OPT = 
    PERL5_CPANPLUS_IS_RUNNING = 29859
    PERL5_CPAN_IS_RUNNING = 29859
    PERL5_CPAN_IS_RUNNING_IN_RECURSION = 3032,29859
    PERL_CR_SMOKER_CURRENT = WebService-GData-0.0404
    PERL_EXTUTILS_AUTOINSTALL = --defaultdeps
    PERL_MM_USE_DEFAULT = 1
    SHELL = /usr/local/bin/bash
    TERM = screen
    TMPDIR = /home/sts/cpansmoke/tmp

Perl special variables (and OS-specific diagnostics, for MSWin32):

    $^X = /home/sts/cpansmoke/perl-5.13.11/bin/perl5.13.11
    $UID/$EUID = 1000 / 1000
    $GID = 10 10 0
    $EGID = 10 10 0

Perl module toolchain versions installed:

    Module              Have    
    ------------------- --------
    CPAN                1.9600  
    Cwd                 3.36    
    ExtUtils::CBuilder  0.280202
    ExtUtils::Command   1.17    
    ExtUtils::Install   1.56    
    ExtUtils::MakeMaker 6.57_05 
    ExtUtils::Manifest  1.58    
    ExtUtils::ParseXS   2.2209  
    File::Spec          3.33    
    Module::Build       0.3800  
    Module::Signature   n/a     
    Test::Harness       3.23    
    Test::More          0.98    
    YAML                0.73    
    YAML::Syck          n/a     
    version             0.88    


--

Summary of my perl5 (revision 5 version 13 subversion 11) configuration:
   
  Platform:
    osname=openbsd, osvers=4.9, archname=OpenBSD.i386-openbsd-thread-multi
    uname='openbsd cpansmoke5 4.9 generic.mp#794 i386 '
    config_args='-des -Dusedevel -Dusethreads -Dprefix=/home/sts/cpansmoke/perl-5.13.11'
    hint=recommended, useposix=true, d_sigaction=define
    useithreads=define, usemultiplicity=define
    useperlio=define, d_sfio=undef, uselargefiles=define, usesocks=undef
    use64bitint=undef, use64bitall=undef, uselongdouble=undef
    usemymalloc=y, bincompat5005=undef
  Compiler:
    cc='cc', ccflags ='-pthread -fno-strict-aliasing -pipe -fstack-protector -I/usr/local/include',
    optimize='-O2',
    cppflags='-pthread -fno-strict-aliasing -pipe -fstack-protector -I/usr/local/include'
    ccversion='', gccversion='4.2.1 20070719 ', gccosandvers='openbsd4.9'
    intsize=4, longsize=4, ptrsize=4, doublesize=8, byteorder=1234
    d_longlong=define, longlongsize=8, d_longdbl=define, longdblsize=12
    ivtype='long', ivsize=4, nvtype='double', nvsize=8, Off_t='off_t', lseeksize=8
    alignbytes=4, prototype=define
  Linker and Libraries:
    ld='cc', ldflags ='-pthread -Wl,-E  -fstack-protector -L/usr/local/lib'
    libpth=/usr/local/lib /usr/lib
    libs=-lgdbm -lm -lutil -lc
    perllibs=-lm -lutil -lc
    libc=/usr/lib/libc.so.58.0, so=so, useshrplib=false, libperl=libperl.a
    gnulibc_version=''
  Dynamic Linking:
    dlsrc=dl_dlopen.xs, dlext=so, d_dlsymun=undef, ccdlflags=' '
    cccdlflags='-DPIC -fPIC ', lddlflags='-shared -fPIC  -L/usr/local/lib -fstack-protector'


Characteristics of this binary (from libperl): 
  Compile-time options: MULTIPLICITY MYMALLOC PERL_DONT_CREATE_GVSV
                        PERL_IMPLICIT_CONTEXT PERL_MALLOC_WRAP
                        PERL_PRESERVE_IVUV PERL_USE_DEVEL USE_ITHREADS
                        USE_LARGE_FILES USE_PERLIO USE_PERL_ATOF
                        USE_REENTRANT_API
  Built under openbsd
  Compiled at May  6 2011 22:19:51
  %ENV:
    PERL5LIB="/home/sts/cpansmoke/perl-5.13.11/cpan/build/Test-Mock-LWP-0.05-8LFbo4/blib/arch:/home/sts/cpansmoke/perl-5.13.11/cpan/build/Test-Mock-LWP-0.05-8LFbo4/blib/lib:/home/sts/cpansmoke/perl-5.13.11/cpan/build/UNIVERSAL-can-1.16-RaqzZE/blib/arch:/home/sts/cpansmoke/perl-5.13.11/cpan/build/UNIVERSAL-can-1.16-RaqzZE/blib/lib:/home/sts/cpansmoke/perl-5.13.11/cpan/build/Test-MockObject-1.09-8riZh_/blib/arch:/home/sts/cpansmoke/perl-5.13.11/cpan/build/Test-MockObject-1.09-8riZh_/blib/lib:/home/sts/cpansmoke/perl-5.13.11/cpan/build/UNIVERSAL-isa-1.03-C3rhy2/blib/arch:/home/sts/cpansmoke/perl-5.13.11/cpan/build/UNIVERSAL-isa-1.03-C3rhy2/blib/lib"
    PERL5OPT=""
    PERL5_CPANPLUS_IS_RUNNING="29859"
    PERL5_CPAN_IS_RUNNING="29859"
    PERL5_CPAN_IS_RUNNING_IN_RECURSION="3032,29859"
    PERL_CR_SMOKER_CURRENT="WebService-GData-0.0404"
    PERL_EXTUTILS_AUTOINSTALL="--defaultdeps"
    PERL_MM_USE_DEFAULT="1"
  @INC:
    /home/sts/cpansmoke/perl-5.13.11/cpan/build/Test-Mock-LWP-0.05-8LFbo4/blib/arch
    /home/sts/cpansmoke/perl-5.13.11/cpan/build/Test-Mock-LWP-0.05-8LFbo4/blib/lib
    /home/sts/cpansmoke/perl-5.13.11/cpan/build/UNIVERSAL-can-1.16-RaqzZE/blib/arch
    /home/sts/cpansmoke/perl-5.13.11/cpan/build/UNIVERSAL-can-1.16-RaqzZE/blib/lib
    /home/sts/cpansmoke/perl-5.13.11/cpan/build/Test-MockObject-1.09-8riZh_/blib/arch
    /home/sts/cpansmoke/perl-5.13.11/cpan/build/Test-MockObject-1.09-8riZh_/blib/lib
    /home/sts/cpansmoke/perl-5.13.11/cpan/build/UNIVERSAL-isa-1.03-C3rhy2/blib/arch
    /home/sts/cpansmoke/perl-5.13.11/cpan/build/UNIVERSAL-isa-1.03-C3rhy2/blib/lib
    /home/sts/cpansmoke/perl-5.13.11/lib/site_perl/5.13.11/OpenBSD.i386-openbsd-thread-multi
    /home/sts/cpansmoke/perl-5.13.11/lib/site_perl/5.13.11
    /home/sts/cpansmoke/perl-5.13.11/lib/5.13.11/OpenBSD.i386-openbsd-thread-multi
    /home/sts/cpansmoke/perl-5.13.11/lib/5.13.11
    .