Report for Test-TempDir-0.10

Back
From: metabase:user:31e80ebe-2aae-11df-837a-5e0a49663a4f
Subject: PASS Test-TempDir-0.10 v5.18.1 Mac OS X
Date: 2016-06-15T05:27:50Z

This distribution has been tested as part of the CPAN Testers
project, supporting the Perl programming language.  See
http://wiki.cpantesters.org/ for more information or email
questions to cpan-testers-discuss@perl.org


--
Dear Karen Etheridge,

This is a computer-generated report for Test-TempDir-0.10
on perl 5.18.1, created by CPAN-Reporter-1.2010.

Thank you for uploading your work to CPAN.  Congratulations!
All tests were successful.

Sections of this report:

    * Tester comments
    * Program output
    * Prerequisites
    * Environment and other context

------------------------------
TESTER COMMENTS
------------------------------

Additional comments from tester:

none provided

------------------------------
PROGRAM OUTPUT
------------------------------

Output from './Build test':

# 
# Versions for all modules listed in MYMETA.json (including optional ones):
# 
# === Configure Requires ===
# 
#     Module               Want  Have
#     ------------------- ----- -----
#     Module::Build::Tiny 0.039 0.039
# 
# === Test Requires ===
# 
#     Module              Want     Have
#     ------------------- ---- --------
#     ExtUtils::MakeMaker  any     7.02
#     File::Path          2.04     2.09
#     File::Spec           any     3.40
#     Test::More          0.88 1.302026
#     Test::Requires       any     0.10
#     ok                   any 1.302026
# 
# === Test Recommends ===
# 
#     Module         Want     Have
#     ---------- -------- --------
#     CPAN::Meta 2.120900 2.142690
# 
# === Runtime Requires ===
# 
#     Module                       Want     Have
#     ---------------------------- ---- --------
#     Carp                          any     1.29
#     File::NFSLock                 any     1.21
#     File::Spec                    any     3.40
#     File::Temp                    any   0.2301
#     Moose                         any   2.1804
#     Moose::Util::TypeConstraints  any   2.1804
#     MooseX::Types::Path::Class    any     0.09
#     Path::Class                   any     0.32
#     Sub::Exporter                 any    0.986
#     Test::Builder                 any 1.302026
#     namespace::autoclean         0.08     0.28
#     strict                        any     1.07
#     warnings                      any     1.18
# 
# === Runtime Recommends ===
# 
#     Module             Want    Have
#     ------------------ ---- -------
#     Directory::Scratch  any missing
# 
t/00-report-prereqs.t .. ok
t/00_load.t ............ ok
t/basic.t .............. ok
t/directory_scratch.t .. skipped: Test requires module 'Directory::Scratch' but it's not found
t/factory.t ............ ok
t/handle.t ............. ok
All tests successful.
Files=6, Tests=70,  2 wallclock secs ( 0.03 usr  0.02 sys +  1.32 cusr  0.11 csys =  1.48 CPU)
Result: PASS

------------------------------
PREREQUISITES
------------------------------

Prerequisite modules loaded:

requires:

    Module              Need                 Have    
    ------------------- -------------------- --------
  ! build_requires      HASH(0x7ff6c4b06df0) n/a     
  ! opt_build_requires  HASH(0x7ff6ac223798) n/a     
  ! opt_requires        HASH(0x7ff6c4b218e0) n/a     
  ! requires            HASH(0x7ff6aa15d618) n/a     

configure_requires:

    Module              Need                 Have    
    ------------------- -------------------- --------
    Module::Build::Tiny 0.039                0.039   
    perl                5.006                5.018001


------------------------------
ENVIRONMENT AND OTHER CONTEXT
------------------------------

Environment variables:

    LANG = en_AU.UTF-8
    PATH = /usr/local/heroku/bin:/usr/local/bin:/Users/Glenn/opt/local/pinto/bin:/Users/Glenn/perl5/perlbrew/bin:/Users/Glenn/perl5/perlbrew/perls/perl-5.18.1/bin:/usr/local/bin:/usr/bin:/bin:/usr/sbin:/sbin:/opt/X11/bin:/Users/Glenn/gsutil
    PERL5LIB = 
    PERL5OPT = 
    PERL5_CPANPLUS_IS_RUNNING = 35724
    PERL5_CPAN_IS_RUNNING = 35724
    PERLBREW_BASHRC_VERSION = 0.75
    PERLBREW_HOME = /Users/Glenn/.perlbrew
    PERLBREW_MANPATH = /Users/Glenn/perl5/perlbrew/perls/perl-5.18.1/man
    PERLBREW_PATH = /Users/Glenn/perl5/perlbrew/bin:/Users/Glenn/perl5/perlbrew/perls/perl-5.18.1/bin
    PERLBREW_PERL = perl-5.18.1
    PERLBREW_ROOT = /Users/Glenn/perl5/perlbrew
    PERLBREW_VERSION = 0.75
    PERLCRITIC = /Users/Glenn/Documents/workspace/affinitylive/xt/perlcriticrc
    SHELL = /bin/bash
    TERM = xterm
    TMPDIR = /var/folders/j6/xk96yl092xj9gz8zs892_fw00000gp/T/

Perl special variables (and OS-specific diagnostics, for MSWin32):

    $^X = /Users/Glenn/perl5/perlbrew/perls/perl-5.18.1/bin/perl
    $UID/$EUID = 502 / 502
    $GID = 20 20 501 12 61 79 80 81 98 401 33 100 204 395 398 399
    $EGID = 20 20 501 12 61 79 80 81 98 401 33 100 204 395 398 399

Perl module toolchain versions installed:

    Module              Have    
    ------------------- --------
    CPAN                2.10    
    CPAN::Meta          2.142690
    Cwd                 3.40    
    ExtUtils::CBuilder  0.280210
    ExtUtils::Command   1.17    
    ExtUtils::Install   1.59    
    ExtUtils::MakeMaker 7.02    
    ExtUtils::Manifest  1.70    
    ExtUtils::ParseXS   3.18    
    File::Spec          3.40    
    JSON                2.90    
    JSON::PP            2.27300 
    Module::Build       0.4005  
    Module::Signature   n/a     
    Parse::CPAN::Meta   1.4414  
    Test::Harness       3.36    
    Test::More          1.302026
    YAML                0.84    
    YAML::Syck          n/a     
    version             0.9902  


--

Summary of my perl5 (revision 5 version 18 subversion 1) configuration:
   
  Platform:
    osname=darwin, osvers=12.5.0, archname=darwin-2level
    uname='darwin glenns-macbook-pro.local 12.5.0 darwin kernel version 12.5.0: mon jul 29 16:33:49 pdt 2013; root:xnu-2050.48.11~1release_x86_64 x86_64 '
    config_args='-de -Dprefix=/Users/Glenn/perl5/perlbrew/perls/perl-5.18.1 -Aeval:scriptdir=/Users/Glenn/perl5/perlbrew/perls/perl-5.18.1/bin'
    hint=recommended, useposix=true, d_sigaction=define
    useithreads=undef, usemultiplicity=undef
    useperlio=define, d_sfio=undef, uselargefiles=define, usesocks=undef
    use64bitint=define, use64bitall=define, uselongdouble=undef
    usemymalloc=n, bincompat5005=undef
  Compiler:
    cc='cc', ccflags ='-fno-common -DPERL_DARWIN -fno-strict-aliasing -pipe -fstack-protector',
    optimize='-O3',
    cppflags='-fno-common -DPERL_DARWIN -fno-strict-aliasing -pipe -fstack-protector'
    ccversion='', gccversion='4.2.1 Compatible Apple LLVM 5.0 (clang-500.2.75)', gccosandvers=''
    intsize=4, longsize=8, ptrsize=8, doublesize=8, byteorder=12345678
    d_longlong=define, longlongsize=8, d_longdbl=define, longdblsize=16
    ivtype='long', ivsize=8, nvtype='double', nvsize=8, Off_t='off_t', lseeksize=8
    alignbytes=8, prototype=define
  Linker and Libraries:
    ld='env MACOSX_DEPLOYMENT_TARGET=10.3 cc', ldflags =' -fstack-protector -L/usr/local/lib'
    libpth=/usr/local/lib /usr/lib
    libs=-ldbm -ldl -lm -lutil -lc
    perllibs=-ldl -lm -lutil -lc
    libc=, so=dylib, useshrplib=false, libperl=libperl.a
    gnulibc_version=''
  Dynamic Linking:
    dlsrc=dl_dlopen.xs, dlext=bundle, d_dlsymun=undef, ccdlflags=' '
    cccdlflags=' ', lddlflags=' -bundle -undefined dynamic_lookup -L/usr/local/lib -fstack-protector'


Characteristics of this binary (from libperl): 
  Compile-time options: HAS_TIMES PERLIO_LAYERS PERL_DONT_CREATE_GVSV
                        PERL_HASH_FUNC_ONE_AT_A_TIME_HARD PERL_MALLOC_WRAP
                        PERL_PRESERVE_IVUV PERL_SAWAMPERSAND USE_64_BIT_ALL
                        USE_64_BIT_INT USE_LARGE_FILES USE_LOCALE
                        USE_LOCALE_COLLATE USE_LOCALE_CTYPE
                        USE_LOCALE_NUMERIC USE_PERLIO USE_PERL_ATOF
  Built under darwin
  Compiled at Sep 25 2013 15:35:55
  %ENV:
    PERL5LIB=""
    PERL5OPT=""
    PERL5_CPANPLUS_IS_RUNNING="35724"
    PERL5_CPAN_IS_RUNNING="35724"
    PERLBREW_BASHRC_VERSION="0.75"
    PERLBREW_HOME="/Users/Glenn/.perlbrew"
    PERLBREW_MANPATH="/Users/Glenn/perl5/perlbrew/perls/perl-5.18.1/man"
    PERLBREW_PATH="/Users/Glenn/perl5/perlbrew/bin:/Users/Glenn/perl5/perlbrew/perls/perl-5.18.1/bin"
    PERLBREW_PERL="perl-5.18.1"
    PERLBREW_ROOT="/Users/Glenn/perl5/perlbrew"
    PERLBREW_VERSION="0.75"
    PERLCRITIC="/Users/Glenn/Documents/workspace/affinitylive/xt/perlcriticrc"
  @INC:
    /Users/Glenn/perl5/perlbrew/perls/perl-5.18.1/lib/site_perl/5.18.1/darwin-2level
    /Users/Glenn/perl5/perlbrew/perls/perl-5.18.1/lib/site_perl/5.18.1
    /Users/Glenn/perl5/perlbrew/perls/perl-5.18.1/lib/5.18.1/darwin-2level
    /Users/Glenn/perl5/perlbrew/perls/perl-5.18.1/lib/5.18.1
    .