WWW-Contact v0.51 Perl 5 v5.43.4 i86pc-solaris-thread-multi-64
- Status
- Pass
- From
- Carlos Guevara
- Dist
-
WWW-Contact v0.51
- Platform
- Perl 5 v5.43.4 i86pc-solaris-thread-multi-64
- Date
- 2025-10-16 03:19:18
- ID
- e6d05036-aa3e-11f0-ab11-8580c17ee270
This distribution has been tested as part of the CPAN Testers
project, supporting the Perl programming language. See
http://wiki.cpantesters.org/ for more information or email
questions to cpan-testers-discuss@perl.org
--
Dear Fayland Lin,
This is a computer-generated report for WWW-Contact-0.51
on perl 5.43.4, created by CPAN-Reporter-1.2020.
Thank you for uploading your work to CPAN. Congratulations!
All tests were successful.
Sections of this report:
* Tester comments
* Program output
* Prerequisites
* Environment and other context
------------------------------
TESTER COMMENTS
------------------------------
Additional comments from tester:
this report is from an automated smoke testing program
and was not reviewed by a human for accuracy
------------------------------
PROGRAM OUTPUT
------------------------------
Output from './Build test':
# Testing WWW::Contact 0.51, Perl 5.043004, /export/home/cpan/bin/perl/bin/perl5.43.4
t/00-load.t ......... ok
t/01-basic.t ........ ok
t/02-supplier.t ..... ok
t/101-gmail.t ....... skipped: set $ENV{TEST_GMAIL} and $ENV{TEST_GMAIL_PASS} to test
t/102-yahoo.t ....... skipped: set $ENV{TEST_YAHOO} and $ENV{TEST_YAHOO_PASS} to test
t/103-rediff.t ...... skipped: set $ENV{TEST_REDIFF} and $ENV{TEST_REDIFF_PASS} to test
t/104-163.t ......... skipped: set $ENV{TEST_163} and $ENV{TEST_163_PASS} to test
t/105-aol.t ......... skipped: set $ENV{TEST_AOL} and $ENV{TEST_AOL_PASS} to test
t/106-mail.t ........ skipped: set $ENV{TEST_MAIL} and $ENV{TEST_MAIL_PASS} to test
t/107-hotmail.t ..... skipped: set $ENV{TEST_HOTMAIL} and $ENV{TEST_HOTMAIL_PASS} to test
t/108-indiatimes.t .. skipped: set $ENV{TEST_INDIATIMES} and $ENV{TEST_INDIATIMES_PASS} to test
t/109-lycos.t ....... skipped: set $ENV{TEST_LYCOS} and $ENV{TEST_LYCOS_PASS} to test
t/110-plaxo.t ....... skipped: set $ENV{TEST_PLAXO} and $ENV{TEST_PLAXO_PASS} to test
t/999-author.t ...... skipped: author tests
t/pod.t ............. ok
All tests successful.
Files=15, Tests=35, 3 wallclock secs ( 0.05 usr 0.04 sys + 2.29 cusr 0.39 csys = 2.76 CPU)
Result: PASS
------------------------------
PREREQUISITES
------------------------------
Prerequisite modules loaded:
requires:
Module Need Have
------------------------ ---- --------
! Crypt::SSLeay 0 n/a
HTML::Entities 0 3.83
HTML::TokeParser::Simple 0 3.16
HTML::TreeBuilder 0 5.07
JSON::XS 0 4.04
Moose 0.77 2.4000
Net::DNS::Resolver 0 2017
Net::Google::AuthSub 0 0.5
Text::CSV 0 2.06
Text::vCard 0 3.09
WWW::Mechanize 0 2.19
WWW::Mechanize::GZip 0 0.14
build_requires:
Module Need Have
------------------------ ---- --------
Test::More 0.90 1.302214
configure_requires:
Module Need Have
------------------------ ---- --------
Module::Build 0.42 0.4234
------------------------------
ENVIRONMENT AND OTHER CONTEXT
------------------------------
Environment variables:
AUTOMATED_TESTING = 1
DATE_MANIP_TEST_DM5 = 1
LANG = en_US.UTF-8
LC_ALL = C
NONINTERACTIVE_TESTING = 1
NO_NETWORK_TESTING = 1
PATH = /export/home/cpan/bin/perl/bin:/usr/bin:/usr/sbin:/sbin:/opt/ooce/bin:/usr/gnu/bin
PERL5LIB =
PERL5OPT =
PERL5_CPANPLUS_IS_RUNNING = 20447
PERL5_CPAN_IS_RUNNING = 20447
PERL_MM_USE_DEFAULT = 1
PERL_PERTURB_KEYS = 0
PERL_USE_UNSAFE_INC = 1
SHELL = /usr/bin/bash
TERM = screen
Perl special variables (and OS-specific diagnostics, for MSWin32):
$^X = /export/home/cpan/bin/perl/bin/perl5.43.4
$UID/$EUID = 101 / 101
$GID = 1 1
$EGID = 1 1
Perl module toolchain versions installed:
Module Have
------------------- --------
CPAN 2.38
CPAN::Meta 2.150010
Cwd 3.94
ExtUtils::CBuilder 0.280242
ExtUtils::Command 7.76
ExtUtils::Install 2.22
ExtUtils::MakeMaker 7.76
ExtUtils::Manifest 1.75
ExtUtils::ParseXS 3.60
File::Spec 3.94
JSON 4.10
JSON::PP 4.16
Module::Build 0.4234
Module::Signature n/a
Parse::CPAN::Meta 2.150010
Test2 1.302214
Test::Harness 3.52
Test::More 1.302214
YAML 1.31
YAML::Syck 1.36
version 0.9933
--
Summary of my perl5 (revision 5 version 43 subversion 4) configuration:
Commit id: 87a16f665d01ed72959b9a366e8ab74a97f9cb4b
Platform:
osname=solaris
osvers=2.11
archname=i86pc-solaris-thread-multi-64
uname='sunos cjg-omniosce 5.11 omnios-r151052-92934720d80 i86pc i386 i86pc '
config_args='-des -Dprefix=/export/home/cpan/bin/perl -Dscriptdir=/export/home/cpan/bin/perl/bin -Dusedevel -Duse64bitall -Dcc=gcc -Duseithreads'
hint=recommended
useposix=true
d_sigaction=define
useithreads=define
usemultiplicity=define
use64bitint=define
use64bitall=define
uselongdouble=undef
usemymalloc=n
default_inc_excludes_dot=define
Compiler:
cc='gcc'
ccflags ='-D_REENTRANT -m64 -fwrapv -fno-strict-aliasing -pipe -fstack-protector-strong -D_LARGEFILE_SOURCE -D_FILE_OFFSET_BITS=64 -D_FORTIFY_SOURCE=2'
optimize='-O'
cppflags='-D_REENTRANT -m64 -fwrapv -fno-strict-aliasing -pipe -fstack-protector-strong'
ccversion=''
gccversion='14.2.0'
gccosandvers=''
intsize=4
longsize=8
ptrsize=8
doublesize=8
byteorder=12345678
doublekind=3
d_longlong=define
longlongsize=8
d_longdbl=define
longdblsize=16
longdblkind=3
ivtype='long'
ivsize=8
nvtype='double'
nvsize=8
Off_t='off_t'
lseeksize=8
alignbytes=8
prototype=define
Linker and Libraries:
ld='gcc'
ldflags =' -m64 -fstack-protector-strong -L/usr/gnu/lib '
libpth=/opt/gcc-14/lib /usr/lib /usr/gnu/lib /usr/ccs/lib
libs=-lpthread -lsocket -lnsl -ldl -lm -lc
perllibs=-lpthread -lsocket -lnsl -ldl -lm -lc
libc=/lib/libc.so
so=so
useshrplib=true
libperl=libperl.so
gnulibc_version=''
Dynamic Linking:
dlsrc=dl_dlopen.xs
dlext=so
d_dlsymun=undef
ccdlflags=' -R /export/home/cpan/bin/perl/lib/5.43.4/i86pc-solaris-thread-multi-64/CORE'
cccdlflags='-fPIC'
lddlflags=' -shared -m64 -L/usr/gnu/lib -fstack-protector-strong'
Characteristics of this binary (from libperl):
Compile-time options:
HAS_LONG_DOUBLE
HAS_STRTOLD
HAS_TIMES
MULTIPLICITY
PERLIO_LAYERS
PERL_COPY_ON_WRITE
PERL_DONT_CREATE_GVSV
PERL_HASH_FUNC_SIPHASH13
PERL_HASH_USE_SBOX32
PERL_MALLOC_WRAP
PERL_OP_PARENT
PERL_PRESERVE_IVUV
PERL_USE_DEVEL
PERL_USE_SAFE_PUTENV
USE_64_BIT_ALL
USE_64_BIT_INT
USE_ITHREADS
USE_LARGE_FILES
USE_LOCALE
USE_LOCALE_COLLATE
USE_LOCALE_CTYPE
USE_LOCALE_NUMERIC
USE_LOCALE_TIME
USE_PERLIO
USE_PERL_ATOF
USE_REENTRANT_API
USE_THREAD_SAFE_LOCALE
Built under solaris
Compiled at Oct 13 2025 22:16:18
%ENV:
PERL5LIB=""
PERL5OPT=""
PERL5_CPANPLUS_IS_RUNNING="20447"
PERL5_CPAN_IS_RUNNING="20447"
PERL_MM_USE_DEFAULT="1"
PERL_PERTURB_KEYS="0"
PERL_USE_UNSAFE_INC="1"
@INC:
/export/home/cpan/bin/perl/lib/site_perl/5.43.4/i86pc-solaris-thread-multi-64
/export/home/cpan/bin/perl/lib/site_perl/5.43.4
/export/home/cpan/bin/perl/lib/5.43.4/i86pc-solaris-thread-multi-64
/export/home/cpan/bin/perl/lib/5.43.4
.