Report for Bread-Board-Declare-0.16

Back
From: metabase:user:31d414ea-2aae-11df-837a-5e0a49663a4f
Subject: PASS Bread-Board-Declare-0.16 v5.18.0 GNU/Linux
Date: 2014-02-28T11:53:12Z

This distribution has been tested as part of the CPAN Testers
project, supporting the Perl programming language.  See
http://wiki.cpantesters.org/ for more information or email
questions to cpan-testers-discuss@perl.org


--
Dear Jesse Luehrs,

This is a computer-generated report for Bread-Board-Declare-0.16
on perl 5.18.0, created by CPAN-Reporter-1.2010.

Thank you for uploading your work to CPAN.  Congratulations!
All tests were successful.

Sections of this report:

    * Tester comments
    * Program output
    * Prerequisites
    * Environment and other context

------------------------------
TESTER COMMENTS
------------------------------

Additional comments from tester:

this report is from an automated smoke testing program
and was not reviewed by a human for accuracy

------------------------------
PROGRAM OUTPUT
------------------------------

Output from '/usr/bin/make test':

PERL_DL_NONLAZY=1 /home/david/cpantesting/perl-5.18.0/bin/perl "-MExtUtils::Command::MM" "-e" "test_harness(0, 'blib/lib', 'blib/arch')" t/*.t
t/00-compile.t .............. ok
t/auto-deref.t .............. ok
t/basic.t ................... ok
t/block.t ................... ok
t/circular-dependency.t ..... ok
t/constructor-name.t ........ ok
t/defaults.t ................ ok
t/deps.t .................... ok
t/extends.t ................. ok
t/infer-loading.t ........... ok
t/infer-subclasses.t ........ ok
t/infer.t ................... ok
t/inheritance.t ............. ok
t/inline-services.t ......... ok
t/inlining.t ................ ok
t/leak.t .................... ok
t/lifecycle.t ............... ok
t/mop.t ..................... ok
t/more-inheritance.t ........ ok
t/multiple-instantiation.t .. ok
t/no-service.t .............. ok
t/parameters.t .............. ok
t/roles.t ................... ok
t/subcontainers.t ........... ok
t/type-checks.t ............. ok
All tests successful.
Files=25, Tests=358, 45 wallclock secs ( 0.09 usr  0.11 sys + 16.91 cusr  1.54 csys = 18.65 CPU)
Result: PASS

------------------------------
PREREQUISITES
------------------------------

Prerequisite modules loaded:

requires:

    Module                             Need Have  
    ---------------------------------- ---- ------
    Bread::Board                       0    0.30  
    Bread::Board::BlockInjection       0    0.30  
    Bread::Board::ConstructorInjection 0    0.30  
    Bread::Board::Literal              0    0.30  
    Bread::Board::Service              0    0.30  
    Bread::Board::Types                0    0.30  
    Class::Load                        0    0.21  
    Moose                              0    2.1204
    Moose::Exporter                    0    2.1204
    Moose::Role                        0    2.1204
    Moose::Util                        0    2.1204

build_requires:

    Module                             Need Have  
    ---------------------------------- ---- ------
    File::Spec                         0    3.40  
    IO::Handle                         0    1.34  
    IPC::Open3                         0    1.13  
    lib                                0    0.63  
    Moose::Util::TypeConstraints       0    2.1204
    strict                             0    1.07  
    Test::Fatal                        0    0.013 
    Test::Moose                        0    2.1204
    Test::More                         0.88 0.98  
    warnings                           0    1.18  

configure_requires:

    Module                             Need Have  
    ---------------------------------- ---- ------
    ExtUtils::MakeMaker                6.30 6.66  


------------------------------
ENVIRONMENT AND OTHER CONTEXT
------------------------------

Environment variables:

    AUTOMATED_TESTING = 1
    PATH = /usr/local/bin:/usr/bin:/bin:/usr/games
    PERL = 5.18.0
    PERL5LIB = 
    PERL5OPT = 
    PERL5_CPANPLUS_IS_RUNNING = 7523
    PERL5_CPAN_IS_RUNNING = 7523
    PERLVER = 5.18.0
    PERL_INLINE_DIRECTORY = /home/david/.Inline-5.18.0
    PERL_MM_USE_DEFAULT = 1
    SHELL = /bin/bash
    TERM = screen

Perl special variables (and OS-specific diagnostics, for MSWin32):

    $^X = /home/david/cpantesting/perl-5.18.0/bin/perl
    $UID/$EUID = 1000 / 1000
    $GID = 1000 1000
    $EGID = 1000 1000

Perl module toolchain versions installed:

    Module              Have    
    ------------------- --------
    CPAN                2.00    
    CPAN::Meta          2.133380
    Cwd                 3.40    
    ExtUtils::CBuilder  0.280210
    ExtUtils::Command   1.17    
    ExtUtils::Install   1.59    
    ExtUtils::MakeMaker 6.66    
    ExtUtils::Manifest  1.63    
    ExtUtils::ParseXS   3.18    
    File::Spec          3.40    
    JSON                2.57    
    JSON::PP            2.27202 
    Module::Build       0.4003  
    Module::Signature   n/a     
    Parse::CPAN::Meta   1.4404  
    Test::Harness       3.30    
    Test::More          0.98    
    YAML                n/a     
    YAML::Syck          n/a     
    version             0.9902  


--

Summary of my perl5 (revision 5 version 18 subversion 0) configuration:
   
  Platform:
    osname=linux, osvers=3.2.0-4-amd64, archname=x86_64-linux-thread-multi
    uname='linux pigsty.barnyard.co.uk 3.2.0-4-amd64 #1 smp debian 3.2.35-2 x86_64 gnulinux '
    config_args='-de -Dprefix=/home/david/cpantesting/perl-5.18.0 -Dusethreads -Duse64bitall'
    hint=recommended, useposix=true, d_sigaction=define
    useithreads=define, usemultiplicity=define
    useperlio=define, d_sfio=undef, uselargefiles=define, usesocks=undef
    use64bitint=define, use64bitall=define, uselongdouble=undef
    usemymalloc=n, bincompat5005=undef
  Compiler:
    cc='cc', ccflags ='-D_REENTRANT -D_GNU_SOURCE -fno-strict-aliasing -pipe -fstack-protector -I/usr/local/include -D_LARGEFILE_SOURCE -D_FILE_OFFSET_BITS=64',
    optimize='-O2',
    cppflags='-D_REENTRANT -D_GNU_SOURCE -fno-strict-aliasing -pipe -fstack-protector -I/usr/local/include'
    ccversion='', gccversion='4.1.2 20061115 (prerelease) (Debian 4.1.1-21)', gccosandvers=''
    intsize=4, longsize=8, ptrsize=8, doublesize=8, byteorder=12345678
    d_longlong=define, longlongsize=8, d_longdbl=define, longdblsize=16
    ivtype='long', ivsize=8, nvtype='double', nvsize=8, Off_t='off_t', lseeksize=8
    alignbytes=8, prototype=define
  Linker and Libraries:
    ld='cc', ldflags =' -fstack-protector -L/usr/local/lib'
    libpth=/usr/local/lib /lib /usr/lib /lib64 /usr/lib64
    libs=-lnsl -lgdbm -ldb -ldl -lm -lcrypt -lutil -lpthread -lc -lgdbm_compat
    perllibs=-lnsl -ldl -lm -lcrypt -lutil -lpthread -lc
    libc=/lib/libc-2.3.6.so, so=so, useshrplib=false, libperl=libperl.a
    gnulibc_version='2.3.6'
  Dynamic Linking:
    dlsrc=dl_dlopen.xs, dlext=so, d_dlsymun=undef, ccdlflags='-Wl,-E'
    cccdlflags='-fPIC', lddlflags='-shared -O2 -L/usr/local/lib -fstack-protector'


Characteristics of this binary (from libperl): 
  Compile-time options: HAS_TIMES MULTIPLICITY PERLIO_LAYERS
                        PERL_DONT_CREATE_GVSV
                        PERL_HASH_FUNC_ONE_AT_A_TIME_HARD
                        PERL_IMPLICIT_CONTEXT PERL_MALLOC_WRAP
                        PERL_PRESERVE_IVUV PERL_SAWAMPERSAND USE_64_BIT_ALL
                        USE_64_BIT_INT USE_ITHREADS USE_LARGE_FILES
                        USE_LOCALE USE_LOCALE_COLLATE USE_LOCALE_CTYPE
                        USE_LOCALE_NUMERIC USE_PERLIO USE_PERL_ATOF
                        USE_REENTRANT_API
  Built under linux
  Compiled at May 20 2013 18:28:55
  %ENV:
    PERL="5.18.0"
    PERL5LIB=""
    PERL5OPT=""
    PERL5_CPANPLUS_IS_RUNNING="7523"
    PERL5_CPAN_IS_RUNNING="7523"
    PERLVER="5.18.0"
    PERL_INLINE_DIRECTORY="/home/david/.Inline-5.18.0"
    PERL_MM_USE_DEFAULT="1"
  @INC:
    /home/david/cpantesting/perl-5.18.0/lib/site_perl/5.18.0/x86_64-linux-thread-multi
    /home/david/cpantesting/perl-5.18.0/lib/site_perl/5.18.0
    /home/david/cpantesting/perl-5.18.0/lib/5.18.0/x86_64-linux-thread-multi
    /home/david/cpantesting/perl-5.18.0/lib/5.18.0
    .