Report for VM-EC2-1.27

Back
From: metabase:user:314402c4-2aae-11df-837a-5e0a49663a4f
Subject: PASS VM-EC2-1.27 v5.8.9 FreeBSD
Date: 2014-09-02T19:39:48Z

This distribution has been tested as part of the CPAN Testers
project, supporting the Perl programming language.  See
http://wiki.cpantesters.org/ for more information or email
questions to cpan-testers-discuss@perl.org


--
Dear Lincoln D. Stein,

This is a computer-generated report for VM-EC2-1.27
on perl 5.8.9, created by CPAN-Reporter-1.2011.

Thank you for uploading your work to CPAN.  Congratulations!
All tests were successful.

Sections of this report:

    * Tester comments
    * Program output
    * Prerequisites
    * Environment and other context

------------------------------
TESTER COMMENTS
------------------------------

Additional comments from tester:

none provided

------------------------------
PROGRAM OUTPUT
------------------------------

Output from './Build test':

# To run this test script, you must have an Amazon EC2 Access and
# Secret key pair. Please define the environment variables:
#
#   EC2_ACCESS_KEY
#   EC2_SECRET_KEY
#
# If these variables are not defined, you will be prompted for them.
# Hit return without entering any values to skip tests.
# (These prompts will timeout automatically in 10s.)
Enter your EC2 access key: Timeout!
t/01.describe.t ........ ok
t/02.keypairs.t ........ ok
# deleting test security group...
t/03.securitygroup.t ... ok
t/04.volume.t .......... ok
t/05.spot_instance.t ... ok
t/06.security_token.t .. ok
t/07.instance.t ........ ok
t/08.staging.t ......... ok
# To run this test script, you must have an Amazon EC2 Access and
# Secret key pair. Please define the environment variables:
#
#   EC2_ACCESS_KEY
#   EC2_SECRET_KEY
#
# If these variables are not defined, you will be prompted for them.
# Hit return without entering any values to skip tests.
# (These prompts will timeout automatically in 10s.)
Enter your EC2 access key: Timeout!
# cleaning up...
t/09.autoscaling.t ..... ok
All tests successful.
Files=9, Tests=195, 23 wallclock secs ( 0.09 usr  0.03 sys +  2.36 cusr  0.62 csys =  3.10 CPU)
Result: PASS

------------------------------
PREREQUISITES
------------------------------

Prerequisite modules loaded:

requires:

    Module             Need  Have  
    ------------------ ----- ------
    AnyEvent           7.04  7.07  
    AnyEvent::CacheDNS 0.08  0.08  
    AnyEvent::HTTP     2.15  2.21  
    Digest::SHA        5.47  5.92  
    File::Path         2.08  2.09  
    JSON               0     2.90  
    LWP                5.835 6.08  
    MIME::Base64       3.08  3.14  
    String::Approx     3.26  3.27  
    URI::URL           5.03  5.04  
    XML::Simple        2.18  2.20  

configure_requires:

    Module             Need  Have  
    ------------------ ----- ------
    Module::Build      0     0.4208


------------------------------
ENVIRONMENT AND OTHER CONTEXT
------------------------------

Environment variables:

    DBIC_NO_WARN_BAD_PERL = 1
    LC_ALL = de_DE.ISO8859-1
    PATH = /usr/local/bin:/usr/bin:/bin:/usr/local/sbin:/usr/sbin:/sbin:/home/cpansand/bin/freebsd9.1:/home/cpansand/bin/sh:/home/cpansand/bin:/usr/games:/home/cpansand/devel:/usr/home/eserte/src/srezic-misc/scripts
    PERL5LIB = /home/eserte/.cpan/build/AnyEvent-CacheDNS-0.08-ORMRa0/blib/arch:/home/eserte/.cpan/build/AnyEvent-CacheDNS-0.08-ORMRa0/blib/lib:/home/eserte/.cpan/build/Tree-DAG_Node-1.22-SvMgWU/blib/arch:/home/eserte/.cpan/build/Tree-DAG_Node-1.22-SvMgWU/blib/lib:/home/eserte/.cpan/build/XML-DOM-XPath-0.14-gzx8iQ/blib/arch:/home/eserte/.cpan/build/XML-DOM-XPath-0.14-gzx8iQ/blib/lib
    PERL5OPT = 
    PERL5_CPANPLUS_IS_RUNNING = 93854
    PERL5_CPAN_IS_RUNNING = 93854
    PERL5_CPAN_IS_RUNNING_IN_RECURSION = 93832,93854
    PERLDOC = -MPod::Perldoc::ToTextOverstrike
    PERL_BATCH = yes
    PERL_CPAN_REPORTER_CONFIG = /var/tmp/cpansmoker-1023/SgEngYsjP5_config.ini
    PERL_EXTUTILS_AUTOINSTALL = --defaultdeps
    PERL_HTML_DISPLAY_CLASS = HTML::Display::Mozilla
    SHELL = /usr/local/bin/zsh
    TERM = screen
    TMPDIR = /var/tmp/cpansmoker-1023

Perl special variables (and OS-specific diagnostics, for MSWin32):

    $^X = /usr/perl5.8.9/bin/perl5.8.9
    $UID/$EUID = 1023 / 1023
    $GID = 1023 1023
    $EGID = 1023 1023

Perl module toolchain versions installed:

    Module              Have    
    ------------------- --------
    CPAN                2.05    
    CPAN::Meta          2.142060
    Cwd                 3.47    
    ExtUtils::CBuilder  0.280219
    ExtUtils::Command   1.16    
    ExtUtils::Install   1.68    
    ExtUtils::MakeMaker 6.98    
    ExtUtils::Manifest  1.60    
    ExtUtils::ParseXS   3.24    
    File::Spec          3.47    
    JSON                2.90    
    JSON::PP            2.27203 
    Module::Build       0.4208  
    Module::Signature   0.73    
    Parse::CPAN::Meta   1.4414  
    Test::Harness       3.32    
    Test::More          1.001003
    YAML                1.11    
    YAML::Syck          1.27    
    version             0.9908  


--

Summary of my perl5 (revision 5 version 8 subversion 9) configuration:
  Platform:
    osname=freebsd, osvers=9.2-release-p4, archname=amd64-freebsd
    uname='freebsd cvrsnica-freebsd-92 9.2-release-p4 freebsd 9.2-release-p4 #0: tue apr 8 18:08:22 utc 2014 root@amd64-builder.daemonology.net:usrobjusrsrcsysgeneric amd64 '
    config_args='-ds -e -Dprefix=/usr/perl5.8.9'
    hint=recommended, useposix=true, d_sigaction=define
    usethreads=undef use5005threads=undef useithreads=undef usemultiplicity=undef
    useperlio=define d_sfio=undef uselargefiles=define usesocks=undef
    use64bitint=define use64bitall=define uselongdouble=undef
    usemymalloc=n, bincompat5005=undef
  Compiler:
    cc='cc', ccflags ='-DHAS_FPSETMASK -DHAS_FLOATINGPOINT_H -fno-strict-aliasing -pipe -I/usr/local/include',
    optimize='-O',
    cppflags='-DHAS_FPSETMASK -DHAS_FLOATINGPOINT_H -fno-strict-aliasing -pipe -I/usr/local/include'
    ccversion='', gccversion='4.2.1 20070831 patched [FreeBSD]', gccosandvers=''
    intsize=4, longsize=8, ptrsize=8, doublesize=8, byteorder=12345678
    d_longlong=define, longlongsize=8, d_longdbl=define, longdblsize=16
    ivtype='long', ivsize=8, nvtype='double', nvsize=8, Off_t='off_t', lseeksize=8
    alignbytes=8, prototype=define
  Linker and Libraries:
    ld='cc', ldflags ='-Wl,-E  -L/usr/local/lib'
    libpth=/usr/lib /usr/local/lib
    libs=-lgdbm -lm -lcrypt -lutil -lc
    perllibs=-lm -lcrypt -lutil -lc
    libc=, so=so, useshrplib=false, libperl=libperl.a
    gnulibc_version=''
  Dynamic Linking:
    dlsrc=dl_dlopen.xs, dlext=so, d_dlsymun=undef, ccdlflags=' '
    cccdlflags='-DPIC -fPIC', lddlflags='-shared  -L/usr/local/lib'


Characteristics of this binary (from libperl): 
  Compile-time options: PERL_MALLOC_WRAP USE_64_BIT_ALL USE_64_BIT_INT
                        USE_FAST_STDIO USE_LARGE_FILES USE_PERLIO
  Built under freebsd
  Compiled at May 15 2014 22:27:57
  %ENV:
    PERL5LIB="/home/eserte/.cpan/build/AnyEvent-CacheDNS-0.08-ORMRa0/blib/arch:/home/eserte/.cpan/build/AnyEvent-CacheDNS-0.08-ORMRa0/blib/lib:/home/eserte/.cpan/build/Tree-DAG_Node-1.22-SvMgWU/blib/arch:/home/eserte/.cpan/build/Tree-DAG_Node-1.22-SvMgWU/blib/lib:/home/eserte/.cpan/build/XML-DOM-XPath-0.14-gzx8iQ/blib/arch:/home/eserte/.cpan/build/XML-DOM-XPath-0.14-gzx8iQ/blib/lib"
    PERL5OPT=""
    PERL5_CPANPLUS_IS_RUNNING="93854"
    PERL5_CPAN_IS_RUNNING="93854"
    PERL5_CPAN_IS_RUNNING_IN_RECURSION="93832,93854"
    PERLDOC="-MPod::Perldoc::ToTextOverstrike"
    PERL_BATCH="yes"
    PERL_CPAN_REPORTER_CONFIG="/var/tmp/cpansmoker-1023/SgEngYsjP5_config.ini"
    PERL_EXTUTILS_AUTOINSTALL="--defaultdeps"
    PERL_HTML_DISPLAY_CLASS="HTML::Display::Mozilla"
  @INC:
    /home/eserte/.cpan/build/AnyEvent-CacheDNS-0.08-ORMRa0/blib/arch
    /home/eserte/.cpan/build/AnyEvent-CacheDNS-0.08-ORMRa0/blib/lib
    /home/eserte/.cpan/build/Tree-DAG_Node-1.22-SvMgWU/blib/arch
    /home/eserte/.cpan/build/Tree-DAG_Node-1.22-SvMgWU/blib/lib
    /home/eserte/.cpan/build/XML-DOM-XPath-0.14-gzx8iQ/blib/arch
    /home/eserte/.cpan/build/XML-DOM-XPath-0.14-gzx8iQ/blib/lib
    /usr/perl5.8.9/lib/5.8.9/amd64-freebsd
    /usr/perl5.8.9/lib/5.8.9
    /usr/perl5.8.9/lib/site_perl/5.8.9/amd64-freebsd
    /usr/perl5.8.9/lib/site_perl/5.8.9
    .