Archive-Tar-Wrapper v0.33 Perl 5 v5.18.2 darwin-thread-multi-2level

Status
Pass
From
Serguei Trouchelle (STRO)
Dist
Archive-Tar-Wrapper v0.33
Platform
Perl 5 v5.18.2 darwin-thread-multi-2level
Date
2018-08-22 01:08:37
ID
e5e8b9fe-a5a7-11e8-92f9-1edf5caa421b
This distribution has been tested as part of the CPAN Testers
project, supporting the Perl programming language.  See
http://wiki.cpantesters.org/ for more information or email
questions to cpan-testers-discuss@perl.org


--
Dear Alceu Rodrigues de Freitas Junior,

This is a computer-generated report for Archive-Tar-Wrapper-0.33
on perl 5.18.2, created by CPAN-Reporter-1.2018.

Thank you for uploading your work to CPAN.  Congratulations!
All tests were successful.

Sections of this report:

    * Tester comments
    * Program output
    * Prerequisites
    * Environment and other context

------------------------------
TESTER COMMENTS
------------------------------

Additional comments from tester:

none provided

------------------------------
PROGRAM OUTPUT
------------------------------

Output from '/usr/bin/make test':

PERL_DL_NONLAZY=1 "/usr/bin/perl" "-MExtUtils::Command::MM" "-MTest::Harness" "-e" "undef *Test::Harness::Switches; test_harness(0, 'blib/lib', 'blib/arch')" t/*.t
t/001Basic.t .............. ok
t/002Mult.t ............... ok
t/003Dirs.t ............... ok
t/004Utf8.t ............... ok
t/005Cwd.t ................ ok
t/006DirPerms.t ........... ok
t/007bzip.t ............... ok
# with grep: Ran 1274 iterations (241 outliers).
# with grep: Rounded run time per iteration: 0.001471 +/- 0.000000 (0.0%)
# with grep and compiled regex: Ran 1274 iterations (260 outliers).
# with grep and compiled regex: Rounded run time per iteration: 0.001786 +/- 0.000000 (0.0%)
# with eq: Ran 1274 iterations (221 outliers).
# with eq: Rounded run time per iteration: 0.001450 +/- 0.000001 (0.1%)
# with enhanced eq: Ran 1214 iterations (199 outliers).
# with enhanced eq: Rounded run time per iteration: 0.001429 +/- 0.000001 (0.1%)
# with enhanced eq mark2: Ran 1403 iterations (249 outliers).
# with enhanced eq mark2: Rounded run time per iteration: 0.002158 +/- 0.000011 (0.5%)
# with enhanced eq mark3: Ran 1050 iterations (33 outliers).
# with enhanced eq mark3: Rounded run time per iteration: 0.001426 +/- 0.000002 (0.1%)
# sort and shift: Ran 1878 iterations (817 outliers).
# sort and shift: Rounded run time per iteration: 0.005837 +/- 0.000001 (0.0%)
t/008performance.t ........ ok
# with grep: Ran 1102 iterations (57 outliers).
# with grep: Rounded run time per iteration: 0.000157 +/- 0.000000 (0.0%)
# with grep and compiled regex: Ran 1157 iterations (111 outliers).
# with grep and compiled regex: Rounded run time per iteration: 0.000175 +/- 0.000000 (0.0%)
# with eq: Ran 1102 iterations (74 outliers).
# with eq: Rounded run time per iteration: 0.000147 +/- 0.000000 (0.0%)
# with enhanced eq: Ran 1274 iterations (255 outliers).
# with enhanced eq: Rounded run time per iteration: 0.000148 +/- 0.000000 (0.0%)
# with enhanced eq mark2: Ran 1274 iterations (230 outliers).
# with enhanced eq mark2: Rounded run time per iteration: 0.000142 +/- 0.000000 (0.0%)
# with enhanced eq mark3: Ran 1050 iterations (38 outliers).
# with enhanced eq mark3: Rounded run time per iteration: 0.000139 +/- 0.000000 (0.0%)
# sort and shift: Ran 1050 iterations (46 outliers).
# sort and shift: Rounded run time per iteration: 0.000137 +/- 0.000000 (0.0%)
t/009performance-small.t .. ok
All tests successful.

Test Summary Report
-------------------
t/008performance.t      (Wstat: 0 Tests: 1 Failed: 0)
  TODO passed:   1
t/009performance-small.t (Wstat: 0 Tests: 1 Failed: 0)
  TODO passed:   1
Files=9, Tests=54, 76 wallclock secs ( 0.05 usr  0.03 sys + 27.51 cusr 15.48 csys = 43.07 CPU)
Result: PASS

------------------------------
PREREQUISITES
------------------------------

Prerequisite modules loaded:

requires:

    Module              Need     Have      
    ------------------- -------- ----------
    Cwd                 0        3.40      
    File::Temp          0        0.2308    
    File::Which         0        1.22      
    IPC::Run            0        20180523.0
    Log::Log4perl       0        1.49      
    perl                5.008001 5.018002  

build_requires:

    Module              Need     Have      
    ------------------- -------- ----------
    Dumbbench           0.111    0.111     
    ExtUtils::MakeMaker 0        7.34      
    Test::Simple        1.302073 1.302138  

configure_requires:

    Module              Need     Have      
    ------------------- -------- ----------
    ExtUtils::MakeMaker 0        7.34      
    File::Which         0        1.22      


------------------------------
ENVIRONMENT AND OTHER CONTEXT
------------------------------

Environment variables:

    LANG = en_US.UTF-8
    NONINTERACTIVE_TESTING = 1
    PATH = /Users/strushel/perl5/bin:/usr/local/bin:/usr/bin:/bin:/usr/sbin:/sbin
    PERL5LIB = /Users/strushel/perl5/lib/perl5
    PERL5OPT = 
    PERL5_CPANPLUS_IS_RUNNING = 62498
    PERL5_CPAN_IS_RUNNING = 62498
    PERL_LOCAL_LIB_ROOT = /Users/strushel/perl5
    PERL_MB_OPT = --install_base "/Users/strushel/perl5"
    PERL_MM_OPT = INSTALL_BASE=/Users/strushel/perl5
    PERL_MM_USE_DEFAULT = 1
    SHELL = /bin/bash
    TERM = xterm-256color
    TMPDIR = /var/folders/59/vg8z2y5j06jctjrv0_6g42q0n7dx3w/T/
    VERSIONER_PERL_PREFER_32_BIT = no
    VERSIONER_PERL_VERSION = 5.18

Perl special variables (and OS-specific diagnostics, for MSWin32):

    $^X = /usr/bin/perl
    $UID/$EUID = 712438908 / 712438908
    $GID = 180014856 180014856 12 62 79 80 81 98 702 704 703 33 100 204 250 395 398 399 701
    $EGID = 180014856 180014856 12 62 79 80 81 98 702 704 703 33 100 204 250 395 398 399 701

Perl module toolchain versions installed:

    Module              Have    
    ------------------- --------
    CPAN                2.16    
    CPAN::Meta          2.150010
    Cwd                 3.40    
    ExtUtils::CBuilder  0.280210
    ExtUtils::Command   7.34    
    ExtUtils::Install   2.06    
    ExtUtils::MakeMaker 7.34    
    ExtUtils::Manifest  1.70    
    ExtUtils::ParseXS   3.35    
    File::Spec          3.40    
    JSON                2.97001 
    JSON::PP            2.97001 
    Module::Build       0.4224  
    Module::Signature   n/a     
    Parse::CPAN::Meta   2.150010
    Test::Harness       3.42    
    Test::More          1.302138
    YAML                1.26    
    YAML::Syck          1.27    
    version             0.9924  


--

Summary of my perl5 (revision 5 version 18 subversion 2) configuration:
   
  Platform:
    osname=darwin, osvers=17.0, archname=darwin-thread-multi-2level
    uname='darwin osx361.sd.apple.com 17.0 darwin kernel version 16.1.0: mon oct 9 13:05:29 pdt 2017; root:xnu-3789.21.4.1.7~1development_x86_64 x86_64 '
    config_args='-ds -e -Dprefix=/usr -Dccflags=-g  -pipe  -Dldflags= -Dman3ext=3pm -Duseithreads -Duseshrplib -Dinc_version_list=none -Dcc=cc'
    hint=recommended, useposix=true, d_sigaction=define
    useithreads=define, usemultiplicity=define
    useperlio=define, d_sfio=undef, uselargefiles=define, usesocks=undef
    use64bitint=define, use64bitall=define, uselongdouble=undef
    usemymalloc=n, bincompat5005=undef
  Compiler:
    cc='cc', ccflags ='-arch x86_64 -arch i386 -g -pipe -fno-common -DPERL_DARWIN -fno-strict-aliasing -fstack-protector',
    optimize='-Os',
    cppflags='-g -pipe -fno-common -DPERL_DARWIN -fno-strict-aliasing -fstack-protector'
    ccversion='', gccversion='4.2.1 Compatible Apple LLVM 9.0.0 (clang-900.0.31)', gccosandvers=''
    intsize=4, longsize=8, ptrsize=8, doublesize=8, byteorder=12345678
    d_longlong=define, longlongsize=8, d_longdbl=define, longdblsize=16
    ivtype='long', ivsize=8, nvtype='double', nvsize=8, Off_t='off_t', lseeksize=8
    alignbytes=8, prototype=define
  Linker and Libraries:
    ld='cc', ldflags ='-arch x86_64 -arch i386 -fstack-protector'
    libpth=/usr/lib /usr/local/lib
    libs= 
    perllibs=
    libc=, so=dylib, useshrplib=true, libperl=libperl.dylib
    gnulibc_version=''
  Dynamic Linking:
    dlsrc=dl_dlopen.xs, dlext=bundle, d_dlsymun=undef, ccdlflags=' '
    cccdlflags=' ', lddlflags='-arch x86_64 -arch i386 -bundle -undefined dynamic_lookup -fstack-protector'


Characteristics of this binary (from libperl): 
  Compile-time options: HAS_TIMES MULTIPLICITY PERLIO_LAYERS
                        PERL_DONT_CREATE_GVSV
                        PERL_HASH_FUNC_ONE_AT_A_TIME_HARD
                        PERL_IMPLICIT_CONTEXT PERL_MALLOC_WRAP
                        PERL_PRESERVE_IVUV PERL_SAWAMPERSAND USE_64_BIT_ALL
                        USE_64_BIT_INT USE_ITHREADS USE_LARGE_FILES
                        USE_LOCALE USE_LOCALE_COLLATE USE_LOCALE_CTYPE
                        USE_LOCALE_NUMERIC USE_PERLIO USE_PERL_ATOF
                        USE_REENTRANT_API
  Locally applied patches:
	/Library/Perl/Updates/<version> comes before system perl directories
	installprivlib and installarchlib points to the Updates directory
  Built under darwin
  Compiled at May  1 2018 17:43:05
  %ENV:
    PERL5LIB="/Users/strushel/perl5/lib/perl5"
    PERL5OPT=""
    PERL5_CPANPLUS_IS_RUNNING="62498"
    PERL5_CPAN_IS_RUNNING="62498"
    PERL_LOCAL_LIB_ROOT="/Users/strushel/perl5"
    PERL_MB_OPT="--install_base "/Users/strushel/perl5""
    PERL_MM_OPT="INSTALL_BASE=/Users/strushel/perl5"
    PERL_MM_USE_DEFAULT="1"
  @INC:
    /Users/strushel/perl5/lib/perl5/5.18.2/darwin-thread-multi-2level
    /Users/strushel/perl5/lib/perl5/5.18.2
    /Users/strushel/perl5/lib/perl5/darwin-thread-multi-2level
    /Users/strushel/perl5/lib/perl5
    /Library/Perl/5.18/darwin-thread-multi-2level
    /Library/Perl/5.18
    /Network/Library/Perl/5.18/darwin-thread-multi-2level
    /Network/Library/Perl/5.18
    /Library/Perl/Updates/5.18.2
    /System/Library/Perl/5.18/darwin-thread-multi-2level
    /System/Library/Perl/5.18
    /System/Library/Perl/Extras/5.18/darwin-thread-multi-2level
    /System/Library/Perl/Extras/5.18
    .