Report for Padre-0.98

Back
From: metabase:user:9762ed18-1c33-11e1-8beb-fb37bdc4c604
Subject: PASS Padre-0.98 v5.17.10 GNU/Linux
Date: 2013-04-30T14:47:36Z

This distribution has been tested as part of the CPAN Testers
project, supporting the Perl programming language.  See
http://wiki.cpantesters.org/ for more information or email
questions to cpan-testers-discuss@perl.org


--
Dear Peter Lavender,

This is a computer-generated report for Padre-0.98
on perl 5.17.10, created by CPAN-Reporter-1.2009.

Thank you for uploading your work to CPAN.  Congratulations!
All tests were successful.

Sections of this report:

    * Tester comments
    * Program output
    * Prerequisites
    * Environment and other context

------------------------------
TESTER COMMENTS
------------------------------

Additional comments from tester:

none provided

------------------------------
PROGRAM OUTPUT
------------------------------

Output from '/usr/bin/make test':

blib/lib/auto/share/dist/Padre/locale -> blib/lib/auto/share/dist/Padre/locale
blib/lib/auto/share/dist/Padre/locale/ar.po -> blib/lib/auto/share/dist/Padre/locale/ar.mo
blib/lib/auto/share/dist/Padre/locale/pl.po -> blib/lib/auto/share/dist/Padre/locale/pl.mo
blib/lib/auto/share/dist/Padre/locale/es-es.po -> blib/lib/auto/share/dist/Padre/locale/es-es.mo
blib/lib/auto/share/dist/Padre/locale/fa.po -> blib/lib/auto/share/dist/Padre/locale/fa.mo
blib/lib/auto/share/dist/Padre/locale/he.po -> blib/lib/auto/share/dist/Padre/locale/he.mo
blib/lib/auto/share/dist/Padre/locale/nl-nl.po -> blib/lib/auto/share/dist/Padre/locale/nl-nl.mo
blib/lib/auto/share/dist/Padre/locale/it-it.po -> blib/lib/auto/share/dist/Padre/locale/it-it.mo
blib/lib/auto/share/dist/Padre/locale/pt-br.po -> blib/lib/auto/share/dist/Padre/locale/pt-br.mo
blib/lib/auto/share/dist/Padre/locale/tr.po -> blib/lib/auto/share/dist/Padre/locale/tr.mo
blib/lib/auto/share/dist/Padre/locale/ko.po -> blib/lib/auto/share/dist/Padre/locale/ko.mo
blib/lib/auto/share/dist/Padre/locale/ru.po -> blib/lib/auto/share/dist/Padre/locale/ru.mo
blib/lib/auto/share/dist/Padre/locale/zh-cn.po -> blib/lib/auto/share/dist/Padre/locale/zh-cn.mo
blib/lib/auto/share/dist/Padre/locale/fr.po -> blib/lib/auto/share/dist/Padre/locale/fr.mo
blib/lib/auto/share/dist/Padre/locale/cz.po -> blib/lib/auto/share/dist/Padre/locale/cz.mo
blib/lib/auto/share/dist/Padre/locale/hu.po -> blib/lib/auto/share/dist/Padre/locale/hu.mo
blib/lib/auto/share/dist/Padre/locale/no.po -> blib/lib/auto/share/dist/Padre/locale/no.mo
blib/lib/auto/share/dist/Padre/locale/ja.po -> blib/lib/auto/share/dist/Padre/locale/ja.mo
blib/lib/auto/share/dist/Padre/locale/zh-tw.po -> blib/lib/auto/share/dist/Padre/locale/zh-tw.mo
blib/lib/auto/share/dist/Padre/locale/de.po -> blib/lib/auto/share/dist/Padre/locale/de.mo
-blib/lib/auto/share/dist/Padre/locale/messages.pot
make[1]: Entering directory `/home/kevin/.cpan/build/Padre-0.98-_7SAUN/winxs'
make[1]: Nothing to be done for `all'.
make[1]: Leaving directory `/home/kevin/.cpan/build/Padre-0.98-_7SAUN/winxs'
PERL_DL_NONLAZY=1 /home/kevin/perl5/perlbrew/perls/perl-5.17.10/bin/perl5.17.10 "-MExtUtils::Command::MM" "-e" "test_harness(0, 'inc', 'blib/lib', 'blib/arch')" t/*.t t/perl/*.t t/python/*.t t/ruby/*.t t/java/*.t t/csharp/*.t
# Tests find Wx: 0.9917 wxWidgets 2.8.12
t/01_compile.t ............. ok
t/02_new.t ................. ok
t/03_db.t .................. ok
t/04_config.t .............. ok
t/05_project.t ............. ok
t/06_utils.t ............... ok
t/07_version.t ............. ok
t/08_style.t ............... ok
t/09_search.t .............. ok
t/10_delta.t ............... ok
t/11_svn.t ................. skipped: Not in an SVN checkout
t/12_mime.t ................ ok
t/13_findinfiles.t ......... ok
t/14_warnings.t ............ ok
15:45:17: Error: Cannot set locale to 'de_DE'.
t/15_locale.t .............. ok
t/16_locale_format.t ....... ok
t/17_messages.t ............ ok
t/18_newline.t ............. ok
t/19_search.t .............. ok
t/20_comment.t ............. ok
t/21_sloc.t ................ ok
t/31_task_queue.t .......... ok
t/32_task_worker.t ......... ok
t/33_task_chain.t .......... ok
t/34_task_master.t ......... ok
t/35_task_handle.t ......... ok
t/36_task_eval.t ........... ok
t/37_task_signal.t ......... ok
t/38_task_manager.t ........ ok
t/39_task_nothreads.t ...... ok
t/40_display.t ............. ok
t/41_editor.t .............. ok
t/42_document.t ............ ok
t/43_frame_html.t .......... ok
t/50_browser.t ............. ok
t/61_directory_path.t ...... ok
t/74_history_combobox.t .... ok
t/75_autocomplete.t ........ ok
t/76_preferences.t ......... ok
t/82_plugin_manager.t ...... ok
t/83_autosave.t ............ ok
t/85_commandline.t ......... ok
t/90_autocomplete.t ........ ok
t/91_vi.t .................. ok
t/92_padre_file.t .......... ok
t/93_padre_filename_win.t .. ok
t/94_padre_file_remote.t ... ok
t/95_edit_patch.t .......... ok
t/96_help_about.t .......... ok
t/97_debug_debugger.t ...... ok
t/98_debug_breakpoints.t ... ok
t/99_debug_debugoutput.t ... ok
t/csharp/functionlist.t .... ok
t/java/functionlist.t ...... ok
t/perl/functionlist.t ...... ok
t/perl/general.t ........... ok
t/perl/project.t ........... ok
t/perl/project_temp.t ...... ok
t/perl/starter.t ........... ok
Useless use of '\'; doesn't escape metacharacter '{' at (eval 1922) line 6.
Useless use of '\'; doesn't escape metacharacter '{' at (eval 1922) line 9.
Useless use of '\'; doesn't escape metacharacter '{' at (eval 1922) line 45.
Useless use of '\'; doesn't escape metacharacter '{' at (eval 1922) line 54.
Useless use of '\'; doesn't escape metacharacter '{' at (eval 1922) line 57.
Useless use of '\'; doesn't escape metacharacter '{' at (eval 1922) line 88.
Useless use of '\'; doesn't escape metacharacter '{' at (eval 1922) line 136.
Useless use of '\'; doesn't escape metacharacter '{' at (eval 1922) line 177.
Useless use of '\'; doesn't escape metacharacter '{' at (eval 1922) line 177.
Useless use of '\'; doesn't escape metacharacter '{' at (eval 1922) line 184.
Useless use of '\'; doesn't escape metacharacter '{' at (eval 1922) line 187.
Useless use of '\'; doesn't escape metacharacter '{' at (eval 1922) line 187.
Useless use of '\'; doesn't escape metacharacter '{' at (eval 1922) line 312.
Useless use of '\'; doesn't escape metacharacter '{' at (eval 1922) line 401.
Useless use of '\'; doesn't escape metacharacter '{' at (eval 1922) line 866.
Useless use of '\'; doesn't escape metacharacter '{' at (eval 1922) line 937.
Useless use of '\'; doesn't escape metacharacter '{' at (eval 1922) line 1342.
Useless use of '\'; doesn't escape metacharacter '{' at (eval 1922) line 1702.
Useless use of '\'; doesn't escape metacharacter '{' at (eval 1922) line 1708.
Useless use of '\'; doesn't escape metacharacter '{' at (eval 1927) line 6.
Useless use of '\'; doesn't escape metacharacter '{' at (eval 1927) line 9.
Useless use of '\'; doesn't escape metacharacter '{' at (eval 1927) line 45.
Useless use of '\'; doesn't escape metacharacter '{' at (eval 1927) line 54.
Useless use of '\'; doesn't escape metacharacter '{' at (eval 1927) line 57.
Useless use of '\'; doesn't escape metacharacter '{' at (eval 1927) line 85.
Useless use of '\'; doesn't escape metacharacter '{' at (eval 1927) line 130.
Useless use of '\'; doesn't escape metacharacter '{' at (eval 1927) line 176.
Useless use of '\'; doesn't escape metacharacter '{' at (eval 1927) line 176.
Useless use of '\'; doesn't escape metacharacter '{' at (eval 1927) line 187.
Useless use of '\'; doesn't escape metacharacter '{' at (eval 1927) line 187.
Useless use of '\'; doesn't escape metacharacter '{' at (eval 1927) line 190.
Useless use of '\'; doesn't escape metacharacter '{' at (eval 1927) line 326.
Useless use of '\'; doesn't escape metacharacter '{' at (eval 1927) line 401.
Useless use of '\'; doesn't escape metacharacter '{' at (eval 1927) line 868.
Useless use of '\'; doesn't escape metacharacter '{' at (eval 1927) line 976.
Useless use of '\'; doesn't escape metacharacter '{' at (eval 1927) line 1327.
Useless use of '\'; doesn't escape metacharacter '{' at (eval 1927) line 1675.
Useless use of '\'; doesn't escape metacharacter '{' at (eval 1927) line 1681.
Useless use of '\'; doesn't escape metacharacter '{' at (eval 1932) line 6.
Useless use of '\'; doesn't escape metacharacter '{' at (eval 1932) line 9.
Useless use of '\'; doesn't escape metacharacter '{' at (eval 1932) line 45.
Useless use of '\'; doesn't escape metacharacter '{' at (eval 1932) line 54.
Useless use of '\'; doesn't escape metacharacter '{' at (eval 1932) line 57.
Useless use of '\'; doesn't escape metacharacter '{' at (eval 1932) line 85.
Useless use of '\'; doesn't escape metacharacter '{' at (eval 1932) line 130.
Useless use of '\'; doesn't escape metacharacter '{' at (eval 1932) line 177.
Useless use of '\'; doesn't escape metacharacter '{' at (eval 1932) line 177.
Useless use of '\'; doesn't escape metacharacter '{' at (eval 1932) line 178.
Useless use of '\'; doesn't escape metacharacter '{' at (eval 1932) line 178.
Useless use of '\'; doesn't escape metacharacter '{' at (eval 1932) line 181.
Useless use of '\'; doesn't escape metacharacter '{' at (eval 1932) line 312.
Useless use of '\'; doesn't escape metacharacter '{' at (eval 1932) line 395.
Useless use of '\'; doesn't escape metacharacter '{' at (eval 1932) line 853.
Useless use of '\'; doesn't escape metacharacter '{' at (eval 1932) line 938.
Useless use of '\'; doesn't escape metacharacter '{' at (eval 1932) line 1345.
Useless use of '\'; doesn't escape metacharacter '{' at (eval 1932) line 1684.
Useless use of '\'; doesn't escape metacharacter '{' at (eval 1932) line 1690.
Useless use of '\'; doesn't escape metacharacter '{' at (eval 1937) line 6.
Useless use of '\'; doesn't escape metacharacter '{' at (eval 1937) line 9.
Useless use of '\'; doesn't escape metacharacter '{' at (eval 1937) line 45.
Useless use of '\'; doesn't escape metacharacter '{' at (eval 1937) line 54.
Useless use of '\'; doesn't escape metacharacter '{' at (eval 1937) line 57.
Useless use of '\'; doesn't escape metacharacter '{' at (eval 1937) line 85.
Useless use of '\'; doesn't escape metacharacter '{' at (eval 1937) line 130.
Useless use of '\'; doesn't escape metacharacter '{' at (eval 1937) line 177.
Useless use of '\'; doesn't escape metacharacter '{' at (eval 1937) line 177.
Useless use of '\'; doesn't escape metacharacter '{' at (eval 1937) line 178.
Useless use of '\'; doesn't escape metacharacter '{' at (eval 1937) line 178.
Useless use of '\'; doesn't escape metacharacter '{' at (eval 1937) line 181.
Useless use of '\'; doesn't escape metacharacter '{' at (eval 1937) line 309.
Useless use of '\'; doesn't escape metacharacter '{' at (eval 1937) line 395.
Useless use of '\'; doesn't escape metacharacter '{' at (eval 1937) line 854.
Useless use of '\'; doesn't escape metacharacter '{' at (eval 1937) line 941.
Useless use of '\'; doesn't escape metacharacter '{' at (eval 1937) line 1345.
Useless use of '\'; doesn't escape metacharacter '{' at (eval 1937) line 1683.
Useless use of '\'; doesn't escape metacharacter '{' at (eval 1937) line 1693.
Useless use of '\'; doesn't escape metacharacter '{' at (eval 1942) line 6.
Useless use of '\'; doesn't escape metacharacter '{' at (eval 1942) line 9.
Useless use of '\'; doesn't escape metacharacter '{' at (eval 1942) line 45.
Useless use of '\'; doesn't escape metacharacter '{' at (eval 1942) line 54.
Useless use of '\'; doesn't escape metacharacter '{' at (eval 1942) line 57.
Useless use of '\'; doesn't escape metacharacter '{' at (eval 1942) line 88.
Useless use of '\'; doesn't escape metacharacter '{' at (eval 1942) line 136.
Useless use of '\'; doesn't escape metacharacter '{' at (eval 1942) line 176.
Useless use of '\'; doesn't escape metacharacter '{' at (eval 1942) line 176.
Useless use of '\'; doesn't escape metacharacter '{' at (eval 1942) line 187.
Useless use of '\'; doesn't escape metacharacter '{' at (eval 1942) line 187.
Useless use of '\'; doesn't escape metacharacter '{' at (eval 1942) line 196.
Useless use of '\'; doesn't escape metacharacter '{' at (eval 1942) line 326.
Useless use of '\'; doesn't escape metacharacter '{' at (eval 1942) line 398.
Useless use of '\'; doesn't escape metacharacter '{' at (eval 1942) line 877.
Useless use of '\'; doesn't escape metacharacter '{' at (eval 1942) line 974.
Useless use of '\'; doesn't escape metacharacter '{' at (eval 1942) line 1334.
Useless use of '\'; doesn't escape metacharacter '{' at (eval 1942) line 1675.
Useless use of '\'; doesn't escape metacharacter '{' at (eval 1942) line 1694.
Useless use of '\'; doesn't escape metacharacter '{' at (eval 1947) line 6.
Useless use of '\'; doesn't escape metacharacter '{' at (eval 1947) line 9.
Useless use of '\'; doesn't escape metacharacter '{' at (eval 1947) line 45.
Useless use of '\'; doesn't escape metacharacter '{' at (eval 1947) line 54.
Useless use of '\'; doesn't escape metacharacter '{' at (eval 1947) line 57.
Useless use of '\'; doesn't escape metacharacter '{' at (eval 1947) line 88.
Useless use of '\'; doesn't escape metacharacter '{' at (eval 1947) line 136.
Useless use of '\'; doesn't escape metacharacter '{' at (eval 1947) line 177.
Useless use of '\'; doesn't escape metacharacter '{' at (eval 1947) line 177.
Useless use of '\'; doesn't escape metacharacter '{' at (eval 1947) line 178.
Useless use of '\'; doesn't escape metacharacter '{' at (eval 1947) line 178.
Useless use of '\'; doesn't escape metacharacter '{' at (eval 1947) line 187.
Useless use of '\'; doesn't escape metacharacter '{' at (eval 1947) line 312.
Useless use of '\'; doesn't escape metacharacter '{' at (eval 1947) line 392.
Useless use of '\'; doesn't escape metacharacter '{' at (eval 1947) line 861.
Useless use of '\'; doesn't escape metacharacter '{' at (eval 1947) line 939.
Useless use of '\'; doesn't escape metacharacter '{' at (eval 1947) line 1352.
Useless use of '\'; doesn't escape metacharacter '{' at (eval 1947) line 1683.
Useless use of '\'; doesn't escape metacharacter '{' at (eval 1947) line 1709.
Useless use of '\'; doesn't escape metacharacter '{' at (eval 1952) line 6.
Useless use of '\'; doesn't escape metacharacter '{' at (eval 1952) line 9.
Useless use of '\'; doesn't escape metacharacter '{' at (eval 1952) line 45.
Useless use of '\'; doesn't escape metacharacter '{' at (eval 1952) line 54.
Useless use of '\'; doesn't escape metacharacter '{' at (eval 1952) line 57.
Useless use of '\'; doesn't escape metacharacter '{' at (eval 1952) line 85.
Useless use of '\'; doesn't escape metacharacter '{' at (eval 1952) line 130.
Useless use of '\'; doesn't escape metacharacter '{' at (eval 1952) line 177.
Useless use of '\'; doesn't escape metacharacter '{' at (eval 1952) line 177.
Useless use of '\'; doesn't escape metacharacter '{' at (eval 1952) line 178.
Useless use of '\'; doesn't escape metacharacter '{' at (eval 1952) line 187.
Useless use of '\'; doesn't escape metacharacter '{' at (eval 1952) line 187.
Useless use of '\'; doesn't escape metacharacter '{' at (eval 1952) line 312.
Useless use of '\'; doesn't escape metacharacter '{' at (eval 1952) line 404.
Useless use of '\'; doesn't escape metacharacter '{' at (eval 1952) line 858.
Useless use of '\'; doesn't escape metacharacter '{' at (eval 1952) line 936.
Useless use of '\'; doesn't escape metacharacter '{' at (eval 1952) line 1335.
Useless use of '\'; doesn't escape metacharacter '{' at (eval 1952) line 1686.
Useless use of '\'; doesn't escape metacharacter '{' at (eval 1952) line 1709.
Useless use of '\'; doesn't escape metacharacter '{' at (eval 1957) line 6.
Useless use of '\'; doesn't escape metacharacter '{' at (eval 1957) line 9.
Useless use of '\'; doesn't escape metacharacter '{' at (eval 1957) line 45.
Useless use of '\'; doesn't escape metacharacter '{' at (eval 1957) line 54.
Useless use of '\'; doesn't escape metacharacter '{' at (eval 1957) line 57.
Useless use of '\'; doesn't escape metacharacter '{' at (eval 1957) line 85.
Useless use of '\'; doesn't escape metacharacter '{' at (eval 1957) line 130.
Useless use of '\'; doesn't escape metacharacter '{' at (eval 1957) line 176.
Useless use of '\'; doesn't escape metacharacter '{' at (eval 1957) line 176.
Useless use of '\'; doesn't escape metacharacter '{' at (eval 1957) line 187.
Useless use of '\'; doesn't escape metacharacter '{' at (eval 1957) line 187.
Useless use of '\'; doesn't escape metacharacter '{' at (eval 1957) line 190.
Useless use of '\'; doesn't escape metacharacter '{' at (eval 1957) line 326.
Useless use of '\'; doesn't escape metacharacter '{' at (eval 1957) line 398.
Useless use of '\'; doesn't escape metacharacter '{' at (eval 1957) line 867.
Useless use of '\'; doesn't escape metacharacter '{' at (eval 1957) line 979.
Useless use of '\'; doesn't escape metacharacter '{' at (eval 1957) line 1325.
Useless use of '\'; doesn't escape metacharacter '{' at (eval 1957) line 1671.
Useless use of '\'; doesn't escape metacharacter '{' at (eval 1957) line 1677.
Useless use of '\'; doesn't escape metacharacter '{' at (eval 1962) line 6.
Useless use of '\'; doesn't escape metacharacter '{' at (eval 1962) line 9.
Useless use of '\'; doesn't escape metacharacter '{' at (eval 1962) line 45.
Useless use of '\'; doesn't escape metacharacter '{' at (eval 1962) line 54.
Useless use of '\'; doesn't escape metacharacter '{' at (eval 1962) line 57.
Useless use of '\'; doesn't escape metacharacter '{' at (eval 1962) line 85.
Useless use of '\'; doesn't escape metacharacter '{' at (eval 1962) line 130.
Useless use of '\'; doesn't escape metacharacter '{' at (eval 1962) line 176.
Useless use of '\'; doesn't escape metacharacter '{' at (eval 1962) line 176.
Useless use of '\'; doesn't escape metacharacter '{' at (eval 1962) line 187.
Useless use of '\'; doesn't escape metacharacter '{' at (eval 1962) line 196.
Useless use of '\'; doesn't escape metacharacter '{' at (eval 1962) line 196.
Useless use of '\'; doesn't escape metacharacter '{' at (eval 1962) line 323.
Useless use of '\'; doesn't escape metacharacter '{' at (eval 1962) line 404.
Useless use of '\'; doesn't escape metacharacter '{' at (eval 1962) line 874.
Useless use of '\'; doesn't escape metacharacter '{' at (eval 1962) line 977.
Useless use of '\'; doesn't escape metacharacter '{' at (eval 1962) line 1313.
Useless use of '\'; doesn't escape metacharacter '{' at (eval 1962) line 1672.
Useless use of '\'; doesn't escape metacharacter '{' at (eval 1962) line 1691.
t/perl/syntax.t ............ ok
t/python/functionlist.t .... ok
t/ruby/functionlist.t ...... ok
All tests successful.
Files=62, Tests=2536, 197 wallclock secs ( 0.66 usr  0.09 sys + 46.17 cusr  3.13 csys = 50.05 CPU)
Result: PASS
make[1]: Entering directory `/home/kevin/.cpan/build/Padre-0.98-_7SAUN/winxs'
make[1]: Nothing to be done for `test'.
make[1]: Leaving directory `/home/kevin/.cpan/build/Padre-0.98-_7SAUN/winxs'

------------------------------
PREREQUISITES
------------------------------

Prerequisite modules loaded:

requires:

    Module                   Need     Have      
    ------------------------ -------- ----------
    Algorithm::Diff          1.19     1.1902    
    App::cpanminus           0.9923   1.6100    
    B::Deparse               0        1.19      
    Capture::Tiny            0.06     0.21      
    CGI                      3.47     3.63      
    Class::Adapter           1.05     1.08      
    Class::Inspector         1.22     1.28      
    Class::XSAccessor        1.13     1.16      
    Cwd                      3.2701   3.40      
    Data::Dumper             2.101    2.145     
    DBD::SQLite              1.35     1.37      
    DBI                      1.58     1.624     
    Debug::Client            0.24     0.25      
    Devel::Dumpvar           0.04     1.06      
    Devel::Refactor          0.05     0.05      
    Encode                   2.26     2.49      
    ExtUtils::MakeMaker      6.56     6.65_01   
    ExtUtils::Manifest       1.56     1.63      
    File::Basename           0        2.84      
    File::Copy::Recursive    0.37     0.38      
    File::Find::Rule         0.30     0.33      
    File::Glob               0        1.19      
    File::HomeDir            0.91     1.00      
    File::Path               2.08     2.09      
    File::pushd              1.00     1.005     
    File::Remove             1.40     1.52      
    File::ShareDir           1.00     1.03      
    File::Spec               3.2701   3.40      
    File::Spec::Functions    3.2701   3.40      
    File::Temp               0.20     0.2301    
    File::Which              1.08     1.09      
    FindBin                  0        1.51      
    Getopt::Long             0        2.39      
    HTML::Entities           3.57     3.69      
    HTML::Parser             3.58     3.69      
    IO::Scalar               2.110    2.110     
    IO::Socket               1.30     1.35      
    IO::String               1.08     1.08      
    IPC::Open2               0        1.04      
    IPC::Open3               0        1.13      
    IPC::Run                 0.83     0.92      
    JSON::XS                 2.29     2.33      
    List::MoreUtils          0.22     0.33      
    List::Util               1.18     1.27      
    LWP                      5.815    6.05      
    LWP::UserAgent           5.815    6.05      
    Module::Build            0.3603   0.4003    
    Module::CoreList         2.22     2.88      
    Module::Manifest         0.07     1.08      
    Module::Starter          1.60     1.60      
    ORLite                   1.98     1.98      
    ORLite::Migrate          1.10     1.10      
    Params::Util             0.33     1.07      
    Parse::ErrorString::Perl 0.14     0.15      
    Parse::ExuberantCTags    1.00     1.02      
    perl                     5.008005 5.017010  
    POD2::Base               0.043    0.043     
    Pod::Abstract            0.16     0.20      
    Pod::Functions           0        1.06      
    Pod::Perldoc             3.15     3.19      
    Pod::POM                 0.17     0.27      
    Pod::Simple              3.07     3.26      
    Pod::Simple::XHTML       3.04     3.26      
    POSIX                    0        1.32      
    PPI                      1.215    1.215     
    PPIx::EditorTools        0.18     0.18      
    PPIx::Regexp             0.011    0.033     
    Probe::Perl              0.01     0.01      
    Sort::Versions           1.5      1.5       
    Storable                 2.16     2.40      
    Template::Tiny           0.11     1.12      
    Term::ReadLine           0        1.12      
    Text::Balanced           2.01     2.02      
    Text::Diff               1.41     1.41      
    Text::FindIndent         0.10     0.10      
    Text::Patch              1.8      1.8       
    threads                  1.71     1.86      
    threads::shared          1.33     1.43      
    Time::HiRes              1.9718   1.9725    
    URI                      0        1.60      
    version                  0.80     0.9902    
    Wx                       0.9916   0.9917    
    Wx::Perl::ProcessStream  0.32     0.32      
    Wx::Scintilla            0.39     0.39      
    YAML::Tiny               1.32     1.51      

build_requires:

    Module                   Need     Have      
    ------------------------ -------- ----------
    Alien::wxWidgets         0.62     0.62      
    ExtUtils::Embed          1.250601 1.30      
    ExtUtils::MakeMaker      6.59     6.65_01   
    Locale::Msgfmt           0.15     0.15      
    Test::Exception          0.27     0.31      
    Test::MockObject         1.09     1.20120301
    Test::More               0.98     0.98      
    Test::NoWarnings         1.04     1.04      
    Test::Script             1.07     1.07      
    Test::Warn               0.24     0.24      

configure_requires:

    Module                   Need     Have      
    ------------------------ -------- ----------
    Alien::wxWidgets         0.62     0.62      
    ExtUtils::Embed          1.250601 1.30      
    ExtUtils::MakeMaker      6.59     6.65_01   


------------------------------
ENVIRONMENT AND OTHER CONTEXT
------------------------------

Environment variables:

    LANG = en_GB.UTF-8
    LANGUAGE = en_GB:en
    LC_COLLATE = en_GB.UTF-8
    LC_CTYPE = en_GB.UTF-8
    LC_MESSAGES = en_GB.UTF-8
    LC_TIME = en_DK.utf8
    PATH = /home/kevin/perl5/perlbrew/bin:/home/kevin/perl5/perlbrew/perls/perl-5.17.10/bin:/home/kevin/perl5/perlbrew/bin:/home/kevin/perl5/perlbrew/perls/perl-5.16.3/bin:/home/kevin/bin:/usr/local/sbin:/usr/local/bin:/usr/sbin:/usr/bin:/sbin:/bin:/usr/games:/usr/local/games
    PERL5LIB = 
    PERL5OPT = 
    PERL5_CPANPLUS_IS_RUNNING = 9097
    PERL5_CPAN_IS_RUNNING = 9097
    PERLBREW_BASHRC_VERSION = 0.61
    PERLBREW_HOME = /home/kevin/.perlbrew
    PERLBREW_MANPATH = /home/kevin/perl5/perlbrew/perls/perl-5.17.10/man
    PERLBREW_PATH = /home/kevin/perl5/perlbrew/bin:/home/kevin/perl5/perlbrew/perls/perl-5.17.10/bin
    PERLBREW_PERL = perl-5.17.10
    PERLBREW_ROOT = /home/kevin/perl5/perlbrew
    PERLBREW_VERSION = 0.61
    SHELL = /bin/bash
    TERM = screen

Perl special variables (and OS-specific diagnostics, for MSWin32):

    $^X = /home/kevin/perl5/perlbrew/perls/perl-5.17.10/bin/perl5.17.10
    $UID/$EUID = 1001 / 1001
    $GID = 1001 4 20 21 24 25 26 29 30 39 40 44 46 104 105 112 119 122 1000 1001
    $EGID = 1001 4 20 21 24 25 26 29 30 39 40 44 46 104 105 112 119 122 1000 1001

Perl module toolchain versions installed:

    Module              Have    
    ------------------- --------
    CPAN                2.00    
    CPAN::Meta          2.120921
    Cwd                 3.40    
    ExtUtils::CBuilder  0.280209
    ExtUtils::Command   1.17    
    ExtUtils::Install   1.59    
    ExtUtils::MakeMaker 6.65_01 
    ExtUtils::Manifest  1.63    
    ExtUtils::ParseXS   3.18    
    File::Spec          3.40    
    JSON                2.53    
    JSON::PP            2.27202 
    Module::Build       0.4003  
    Module::Signature   n/a     
    Parse::CPAN::Meta   1.4404  
    Test::Harness       3.26    
    Test::More          0.98    
    YAML                0.84    
    YAML::Syck          n/a     
    version             0.9902  


--

Summary of my perl5 (revision 5 version 17 subversion 10) configuration:
   
  Platform:
    osname=linux, osvers=3.5.0-22-generic, archname=i686-linux-thread-multi
    uname='linux vinny 3.5.0-22-generic #34-ubuntu smp tue jan 8 21:41:11 utc 2013 i686 i686 i686 gnulinux '
    config_args='-de -Dprefix=/home/kevin/perl5/perlbrew/perls/perl-5.17.10 -Dusethreads -Dusedevel -Aeval:scriptdir=/home/kevin/perl5/perlbrew/perls/perl-5.17.10/bin'
    hint=recommended, useposix=true, d_sigaction=define
    useithreads=define, usemultiplicity=define
    useperlio=define, d_sfio=undef, uselargefiles=define, usesocks=undef
    use64bitint=undef, use64bitall=undef, uselongdouble=undef
    usemymalloc=n, bincompat5005=undef
  Compiler:
    cc='cc', ccflags ='-D_REENTRANT -D_GNU_SOURCE -fno-strict-aliasing -pipe -fstack-protector -I/usr/local/include -D_LARGEFILE_SOURCE -D_FILE_OFFSET_BITS=64',
    optimize='-O2',
    cppflags='-D_REENTRANT -D_GNU_SOURCE -fno-strict-aliasing -pipe -fstack-protector -I/usr/local/include'
    ccversion='', gccversion='4.7.2', gccosandvers=''
    intsize=4, longsize=4, ptrsize=4, doublesize=8, byteorder=1234
    d_longlong=define, longlongsize=8, d_longdbl=define, longdblsize=12
    ivtype='long', ivsize=4, nvtype='double', nvsize=8, Off_t='off_t', lseeksize=8
    alignbytes=4, prototype=define
  Linker and Libraries:
    ld='cc', ldflags =' -fstack-protector -L/usr/local/lib'
    libpth=/usr/local/lib /lib/i386-linux-gnu /lib/../lib /usr/lib/i386-linux-gnu /usr/lib/../lib /lib /usr/lib
    libs=-lnsl -ldl -lm -lcrypt -lutil -lpthread -lc
    perllibs=-lnsl -ldl -lm -lcrypt -lutil -lpthread -lc
    libc=, so=so, useshrplib=false, libperl=libperl.a
    gnulibc_version='2.15'
  Dynamic Linking:
    dlsrc=dl_dlopen.xs, dlext=so, d_dlsymun=undef, ccdlflags='-Wl,-E'
    cccdlflags='-fPIC', lddlflags='-shared -O2 -L/usr/local/lib -fstack-protector'


Characteristics of this binary (from libperl): 
  Compile-time options: HAS_TIMES MULTIPLICITY PERLIO_LAYERS
                        PERL_DONT_CREATE_GVSV PERL_IMPLICIT_CONTEXT
                        PERL_MALLOC_WRAP PERL_PRESERVE_IVUV PERL_SAWAMPERSAND
                        PERL_USE_DEVEL USE_ITHREADS USE_LARGE_FILES
                        USE_LOCALE USE_LOCALE_COLLATE USE_LOCALE_CTYPE
                        USE_LOCALE_NUMERIC USE_PERLIO USE_PERL_ATOF
                        USE_REENTRANT_API
  Built under linux
  Compiled at Mar 22 2013 14:23:47
  %ENV:
    PERL5LIB=""
    PERL5OPT=""
    PERL5_CPANPLUS_IS_RUNNING="9097"
    PERL5_CPAN_IS_RUNNING="9097"
    PERLBREW_BASHRC_VERSION="0.61"
    PERLBREW_HOME="/home/kevin/.perlbrew"
    PERLBREW_MANPATH="/home/kevin/perl5/perlbrew/perls/perl-5.17.10/man"
    PERLBREW_PATH="/home/kevin/perl5/perlbrew/bin:/home/kevin/perl5/perlbrew/perls/perl-5.17.10/bin"
    PERLBREW_PERL="perl-5.17.10"
    PERLBREW_ROOT="/home/kevin/perl5/perlbrew"
    PERLBREW_VERSION="0.61"
  @INC:
    /home/kevin/perl5/perlbrew/perls/perl-5.17.10/lib/site_perl/5.17.10/i686-linux-thread-multi
    /home/kevin/perl5/perlbrew/perls/perl-5.17.10/lib/site_perl/5.17.10
    /home/kevin/perl5/perlbrew/perls/perl-5.17.10/lib/5.17.10/i686-linux-thread-multi
    /home/kevin/perl5/perlbrew/perls/perl-5.17.10/lib/5.17.10
    .