Report for HTML-Shakan-2.00

Back
From: metabase:user:320bfe00-2aae-11df-837a-5e0a49663a4f
Subject: PASS HTML-Shakan-2.00 v5.19.9 GNU/Linux
Date: 2014-01-29T07:49:35Z

This distribution has been tested as part of the CPAN Testers
project, supporting the Perl programming language.  See
http://wiki.cpantesters.org/ for more information or email
questions to cpan-testers-discuss@perl.org


--
Dear Masayuki Matsuki,

This is a computer-generated report for HTML-Shakan-2.00
on perl 5.19.9, created by CPAN-Reporter-1.2010.

Thank you for uploading your work to CPAN.  Congratulations!
All tests were successful.

Sections of this report:

    * Tester comments
    * Program output
    * Prerequisites
    * Environment and other context

------------------------------
TESTER COMMENTS
------------------------------

Additional comments from tester:

this report is from an automated smoke testing program
and was not reviewed by a human for accuracy

------------------------------
PROGRAM OUTPUT
------------------------------

Output from './Build test':

Module::Build will be removed from the Perl core distribution in the next major release. Please install it from CPAN. It is being used at /tmp/loop_over_bdir-13790-7geO4O/HTML-Shakan-2.00-kO2fP2/_build/lib/MyBuilder.pm, line 2.
t/00_compile.t ............................. ok
CGI will be removed from the Perl core distribution in the next major release. Please install it from CPAN. It is being used at t/Util.pm, line 5.
t/010_core/001_render.t .................... ok
CGI will be removed from the Perl core distribution in the next major release. Please install it from CPAN. It is being used at t/Util.pm, line 5.
# FVL: 0.37
t/010_core/002_validator.t ................. ok
CGI will be removed from the Perl core distribution in the next major release. Please install it from CPAN. It is being used at t/Util.pm, line 5.
t/010_core/003_widgets.t ................... ok
t/010_core/004_filter.t .................... ok
CGI will be removed from the Perl core distribution in the next major release. Please install it from CPAN. It is being used at t/Util.pm, line 5.
t/010_core/005_bind_filter.t ............... skipped: Test requires module 'Lingua::JA::Regular::Unicode' but it's not found
CGI will be removed from the Perl core distribution in the next major release. Please install it from CPAN. It is being used at t/Util.pm, line 5.
t/010_core/006_fillin_form.t ............... ok
CGI will be removed from the Perl core distribution in the next major release. Please install it from CPAN. It is being used at t/Util.pm, line 5.
t/010_core/007_fillin_date.t ............... ok
CGI will be removed from the Perl core distribution in the next major release. Please install it from CPAN. It is being used at t/Util.pm, line 5.
t/010_core/008_declare.t ................... ok
CGI will be removed from the Perl core distribution in the next major release. Please install it from CPAN. It is being used at t/Util.pm, line 5.
t/010_core/009_validator_message.t ......... ok
CGI will be removed from the Perl core distribution in the next major release. Please install it from CPAN. It is being used at t/Util.pm, line 5.
t/010_core/010_submitted.t ................. ok
CGI will be removed from the Perl core distribution in the next major release. Please install it from CPAN. It is being used at t/Util.pm, line 5.
t/010_core/011_custom_validation_form.t .... ok
CGI will be removed from the Perl core distribution in the next major release. Please install it from CPAN. It is being used at t/Util.pm, line 5.
t/010_core/012_custom_validation_field.t ... ok
CGI will be removed from the Perl core distribution in the next major release. Please install it from CPAN. It is being used at t/Util.pm, line 5.
t/010_core/013_render_field.t .............. ok
CGI will be removed from the Perl core distribution in the next major release. Please install it from CPAN. It is being used at t/Util.pm, line 5.
t/010_core/014_multi_value.t ............... ok
t/020_inflator/001_datetime.t .............. skipped: Test requires module 'DateTime' but it's not found
CGI will be removed from the Perl core distribution in the next major release. Please install it from CPAN. It is being used at t/Util.pm, line 5.
t/020_inflator/002_dt_join.t ............... skipped: Test requires module 'DateTime' but it's not found
CGI will be removed from the Perl core distribution in the next major release. Please install it from CPAN. It is being used at t/Util.pm, line 5.
# FVL: 0.37
t/030_field/001_file.t ..................... ok
CGI will be removed from the Perl core distribution in the next major release. Please install it from CPAN. It is being used at t/Util.pm, line 5.
# FVL: 0.37
t/030_field/002_image.t .................... ok
CGI will be removed from the Perl core distribution in the next major release. Please install it from CPAN. It is being used at t/Util.pm, line 5.
t/030_field/003_duplication.t .............. ok
CGI will be removed from the Perl core distribution in the next major release. Please install it from CPAN. It is being used at t/Util.pm, line 5.
t/040_model/001_datamodel.t ................ skipped: Test requires module 'Data::Model' but it's not found
CGI will be removed from the Perl core distribution in the next major release. Please install it from CPAN. It is being used at t/Util.pm, line 5.
t/040_model/002_skinny.t ................... skipped: Test requires module 'DBD::SQLite' but it's not found
CGI will be removed from the Perl core distribution in the next major release. Please install it from CPAN. It is being used at t/Util.pm, line 5.
t/999_regression/001_destructive_widget.t .. ok
t/upload_submitted.t ....................... ok
All tests successful.
Files=24, Tests=83,  3 wallclock secs ( 0.07 usr  0.02 sys +  2.55 cusr  0.32 csys =  2.96 CPU)
Result: PASS

------------------------------
PREREQUISITES
------------------------------

Prerequisite modules loaded:

requires:

    Module              Need     Have    
    ------------------- -------- --------
    Email::Valid::Loose 0.05     0.05    
    FormValidator::Lite 0.24     0.37    
    Hash::MultiValue    0        0.15    
    HTML::Escape        0        1.08    
    List::MoreUtils     0.22     0.33    
    List::Util          1.32     1.38    
    Mouse               0.9      2.1.0   
    parent              0        0.228   
    perl                5.008001 5.019009

build_requires:

    Module              Need     Have    
    ------------------- -------- --------
    CGI                 0        3.64    
    ExtUtils::CBuilder  0        0.280214
    Test::More          0.98     1.001002
    Test::Requires      0.06     0.07    

configure_requires:

    Module              Need     Have    
    ------------------- -------- --------
    CPAN::Meta          0        2.133380
    CPAN::Meta::Prereqs 0        2.133380
    Module::Build       0.38     0.4204  


------------------------------
ENVIRONMENT AND OTHER CONTEXT
------------------------------

Environment variables:

    AUTOMATED_TESTING = 1
    LANG = en_US.UTF-8
    LANGUAGE = en_US:en
    PATH = /usr/lib/ccache:/home/sand/bin:/usr/local/bin:/usr/bin:/bin:/usr/bin/X11:/usr/games:/usr/local/perl/bin:/usr/X11/bin:/sbin:/usr/sbin
    PERL5LIB = 
    PERL5OPT = 
    PERL5_CPANPLUS_IS_RUNNING = 13793
    PERL5_CPAN_IS_RUNNING = 13793
    PERL_MM_USE_DEFAULT = 1
    SHELL = /usr/bin/zsh
    TERM = screen

Perl special variables (and OS-specific diagnostics, for MSWin32):

    $^X = /tmp/basesmoker-reloperl-UDYE/bin/perl
    $UID/$EUID = 1005 / 1005
    $GID = 1005 1005
    $EGID = 1005 1005

Perl module toolchain versions installed:

    Module              Have    
    ------------------- --------
    CPAN                2.03    
    CPAN::Meta          2.133380
    Cwd                 3.46    
    ExtUtils::CBuilder  0.280214
    ExtUtils::Command   1.18    
    ExtUtils::Install   1.62    
    ExtUtils::MakeMaker 6.86    
    ExtUtils::Manifest  1.63    
    ExtUtils::ParseXS   3.23    
    File::Spec          3.46    
    JSON                2.90    
    JSON::PP            2.27203 
    Module::Build       0.4204  
    Module::Signature   0.73    
    Parse::CPAN::Meta   1.4409  
    Test::Harness       3.30    
    Test::More          1.001002
    YAML                0.88    
    YAML::Syck          1.27    
    version             0.9907  


--

Summary of my perl5 (revision 5 version 19 subversion 9) configuration:
  Commit id: 4d7db1b9da573ce828cd700a0f88a8e5cf401038
  Platform:
    osname=linux, osvers=3.10-3-amd64, archname=x86_64-linux-thread-multi
    uname='linux k83 3.10-3-amd64 #1 smp debian 3.10.11-1 (2013-09-10) x86_64 gnulinux '
    config_args='-Dprefix=/home/sand/src/perl/repoperls/installed-perls/perl/v5.19.8-216-g4d7db1b/9980 -Dmyhostname=k83 -Dinstallusrbinperl=n -Uversiononly -Dusedevel -des -Ui_db -Duseithreads -Uuselongdouble -DDEBUGGING=-g'
    hint=recommended, useposix=true, d_sigaction=define
    useithreads=define, usemultiplicity=define
    use64bitint=define, use64bitall=define, uselongdouble=undef
    usemymalloc=n, bincompat5005=undef
  Compiler:
    cc='cc', ccflags ='-D_REENTRANT -D_GNU_SOURCE -fno-strict-aliasing -pipe -fstack-protector -I/usr/local/include -D_LARGEFILE_SOURCE -D_FILE_OFFSET_BITS=64',
    optimize='-O2 -g',
    cppflags='-D_REENTRANT -D_GNU_SOURCE -fno-strict-aliasing -pipe -fstack-protector -I/usr/local/include'
    ccversion='', gccversion='4.8.2', gccosandvers=''
    intsize=4, longsize=8, ptrsize=8, doublesize=8, byteorder=12345678
    d_longlong=define, longlongsize=8, d_longdbl=define, longdblsize=16
    ivtype='long', ivsize=8, nvtype='double', nvsize=8, Off_t='off_t', lseeksize=8
    alignbytes=8, prototype=define
  Linker and Libraries:
    ld='cc', ldflags =' -fstack-protector -L/usr/local/lib'
    libpth=/usr/local/lib /usr/lib/gcc/x86_64-linux-gnu/4.8/include-fixed /usr/include/x86_64-linux-gnu /usr/lib /lib/x86_64-linux-gnu /lib/../lib /usr/lib/x86_64-linux-gnu /usr/lib/../lib /lib
    libs=-lnsl -lgdbm -ldb -ldl -lm -lcrypt -lutil -lpthread -lc -lgdbm_compat
    perllibs=-lnsl -ldl -lm -lcrypt -lutil -lpthread -lc
    libc=libc-2.17.so, so=so, useshrplib=false, libperl=libperl.a
    gnulibc_version='2.17'
  Dynamic Linking:
    dlsrc=dl_dlopen.xs, dlext=so, d_dlsymun=undef, ccdlflags='-Wl,-E'
    cccdlflags='-fPIC', lddlflags='-shared -O2 -g -L/usr/local/lib -fstack-protector'


Characteristics of this binary (from libperl): 
  Compile-time options: HAS_TIMES MULTIPLICITY PERLIO_LAYERS
                        PERL_DONT_CREATE_GVSV
                        PERL_HASH_FUNC_ONE_AT_A_TIME_HARD
                        PERL_IMPLICIT_CONTEXT PERL_MALLOC_WRAP
                        PERL_NEW_COPY_ON_WRITE PERL_PRESERVE_IVUV
                        PERL_USE_DEVEL USE_64_BIT_ALL USE_64_BIT_INT
                        USE_ITHREADS USE_LARGE_FILES USE_LOCALE
                        USE_LOCALE_COLLATE USE_LOCALE_CTYPE
                        USE_LOCALE_NUMERIC USE_PERLIO USE_PERL_ATOF
                        USE_REENTRANT_API
  Built under linux
  Compiled at Jan 29 2014 06:31:05
  %ENV:
    PERL5LIB=""
    PERL5OPT=""
    PERL5_CPANPLUS_IS_RUNNING="13793"
    PERL5_CPAN_IS_RUNNING="13793"
    PERL_MM_USE_DEFAULT="1"
  @INC:
    /home/sand/src/perl/repoperls/installed-perls/perl/v5.19.8-216-g4d7db1b/9980/lib/site_perl/5.19.9/x86_64-linux-thread-multi
    /home/sand/src/perl/repoperls/installed-perls/perl/v5.19.8-216-g4d7db1b/9980/lib/site_perl/5.19.9
    /home/sand/src/perl/repoperls/installed-perls/perl/v5.19.8-216-g4d7db1b/9980/lib/5.19.9/x86_64-linux-thread-multi
    /home/sand/src/perl/repoperls/installed-perls/perl/v5.19.8-216-g4d7db1b/9980/lib/5.19.9
    .