Connector v1.55 Perl 5 v5.16.3 x86_64-linux-thread-multi

Status
Pass
From
Andreas J. König (ANDK)
Dist
Connector v1.55
Platform
Perl 5 v5.16.3 x86_64-linux-thread-multi
Date
2025-05-17 18:15:21
ID
e55fae10-334a-11f0-a5af-8cf055497f9e
This distribution has been tested as part of the CPAN Testers
project, supporting the Perl programming language.  See
http://wiki.cpantesters.org/ for more information or email
questions to cpan-testers-discuss@perl.org


--
Dear Scott T. Hardin,

This is a computer-generated report for Connector-1.55
on perl 5.16.3, created by CPAN-Reporter-1.2019.

Thank you for uploading your work to CPAN.  Congratulations!
All tests were successful.

Sections of this report:

    * Tester comments
    * Program output
    * Prerequisites
    * Environment and other context

------------------------------
TESTER COMMENTS
------------------------------

Additional comments from tester:

this report is from an automated smoke testing program
and was not reviewed by a human for accuracy

------------------------------
PROGRAM OUTPUT
------------------------------

Output from './Build test':

t/00-base.t ..................... ok
t/01-builtin-env.t .............. ok
t/01-builtin-file-path.t ........ ok
t/01-builtin-file-scp.t ......... skipped: Skipping SCP tests - setup ssh-key auth and set CONN_HAVE_SSH_CONFIG=1
t/01-builtin-file-simple.t ...... ok
t/01-builtin-inline.t ........... ok
t/01-builtin-memory.t ........... ok
t/01-builtin-null.t ............. ok
t/01-builtin-password-scheme.t .. ok
t/01-builtin-password.t ......... ok
t/01-builtin-static.t ........... ok
t/01-iterator.t ................. ok
t/01-multi-merge.t .............. ok
t/01-multi-reference.t .......... ok
t/01-multi.t .................... ok
t/01-proxy-config-std.t ......... ok
t/01-proxy-ftp.t ................ ok
t/01-proxy-http.t ............... ok
t/01-proxy-json.t ............... ok
t/01-proxy-net-ldap.t ........... skipped: Skipping LDAP tests because there might be no server
t/01-proxy-proc-safeexec.t ...... ok
t/01-proxy-yaml.t ............... ok
t/01-tee.t ...................... ok
t/01-wrapper.t .................. ok
2025/05/17 20:15:08 Ambiguous (multi-valued) result
2025/05/17 20:15:08 Ambiguous (multi-valued) result
2025/05/17 20:15:08 Ambiguous (multi-valued) result
t/10-proxy-dbi.t ................ ok
All tests successful.
Files=25, Tests=429, 22 wallclock secs ( 0.12 usr  0.05 sys +  7.53 cusr  1.50 csys =  9.20 CPU)
Result: PASS

------------------------------
PREREQUISITES
------------------------------

Prerequisite modules loaded:

requires:

    Module               Need     Have    
    -------------------- -------- --------
    Log::Log4perl        0        1.57    
    Moose                0        2.2207  
    perl                 5.010001 5.016003

build_requires:

    Module               Need     Have    
    -------------------- -------- --------
    Config::Merge        0        1.04    
    Config::Std          0        0.903   
    DBD::SQLite          0        1.76    
    DBI                  0        1.647   
    ExtUtils::MakeMaker  6.59     7.70    
    IO::Socket::SSL      0        2.083   
    JSON                 0        4.10    
    LWP::Protocol::https 0        6.14    
    LWP::UserAgent       0        6.77    
    Proc::SafeExec       0        1.5     
    Syntax::Keyword::Try 0        0.30    
    Template             0        3.101   
    Test::More           0        1.302207
    YAML                 0        1.30    

configure_requires:

    Module               Need     Have    
    -------------------- -------- --------
    Module::Build::Tiny  0.035    0.048   

opt_requires:

    Module               Need     Have    
    -------------------- -------- --------
    Config::Std          0        0.903   
    DBI                  0        1.647   
    IO::Socket::SSL      0        2.083   
    JSON                 0        4.10    
    LWP::Protocol::https 0        6.14    
    LWP::UserAgent       0        6.77    
    Net::LDAP            0        0.68    
    Proc::SafeExec       0        1.5     
    Template             0        3.101   
    Text::CSV_XS         0        1.60    
    YAML                 0        1.30    


------------------------------
ENVIRONMENT AND OTHER CONTEXT
------------------------------

Environment variables:

    AUTOMATED_TESTING = 1
    LANG = en_US.UTF-8
    LANGUAGE = en_US:en
    PATH = /home/sand/bin:/usr/local/bin:/usr/bin:/bin:/usr/games:/usr/local/perl/bin:/usr/X11/bin:/sbin:/usr/sbin
    PERL5LIB = 
    PERL5OPT = 
    PERL5_CPANPLUS_IS_RUNNING = 1219244
    PERL5_CPAN_IS_RUNNING = 1219244
    PERL_CANARY_STABILITY_NOPROMPT = 1
    PERL_MM_USE_DEFAULT = 1
    PERL_USE_UNSAFE_INC = 1
    SHELL = /usr/bin/zsh
    TERM = screen

Perl special variables (and OS-specific diagnostics, for MSWin32):

    $^X = /home/sand/src/perl/repoperls/installed-perls/host/k93msid/v5.16.3/1e0c/bin/perl
    $UID/$EUID = 1005 / 1005
    $GID = 1005 1005
    $EGID = 1005 1005

Perl module toolchain versions installed:

    Module              Have    
    ------------------- --------
    CPAN                2.36    
    CPAN::Meta          2.150010
    Cwd                 3.75    
    ExtUtils::CBuilder  0.280236
    ExtUtils::Command   7.70    
    ExtUtils::Install   2.22    
    ExtUtils::MakeMaker 7.70    
    ExtUtils::Manifest  1.75    
    ExtUtils::ParseXS   3.51    
    File::Spec          3.75    
    JSON                4.10    
    JSON::PP            4.16    
    Module::Build       0.4234  
    Module::Signature   0.88    
    Parse::CPAN::Meta   2.150010
    Test2               1.302207
    Test::Harness       3.51_01 
    Test::More          1.302207
    YAML                1.30    
    YAML::Syck          1.34    
    version             0.9929  


--

Summary of my perl5 (revision 5 version 16 subversion 3) configuration:
  Derived from: fd04d42d38f4751b981eb6e9213ee1ab8ef11ea6
  Platform:
    osname=linux, osvers=6.1.0-7-amd64, archname=x86_64-linux-thread-multi
    uname='linux k93msid 6.1.0-7-amd64 #1 smp preempt_dynamic debian 6.1.20-1 (2023-03-19) x86_64 gnulinux '
    config_args='-Dprefix=/home/sand/src/perl/repoperls/installed-perls/host/k93msid/v5.16.3/1e0c -Dmyhostname=k93msid -Dinstallusrbinperl=n -Uversiononly -Dusedevel -des -Ui_db -Dlibswanted=cl pthread socket inet nsl gdbm dbm malloc dl ld sun m crypt sec util c cposix posix ucb BSD gdbm_compat -Duseithreads -Uuselongdouble -DEBUGGING=-g'
    hint=recommended, useposix=true, d_sigaction=define
    useithreads=define, usemultiplicity=define
    useperlio=define, d_sfio=undef, uselargefiles=define, usesocks=undef
    use64bitint=define, use64bitall=define, uselongdouble=undef
    usemymalloc=n, bincompat5005=undef
  Compiler:
    cc='cc', ccflags ='-D_REENTRANT -D_GNU_SOURCE -fwrapv -fno-strict-aliasing -pipe -fstack-protector -I/usr/local/include -D_LARGEFILE_SOURCE -D_FILE_OFFSET_BITS=64',
    optimize='-O2 -g',
    cppflags='-D_REENTRANT -D_GNU_SOURCE -fwrapv -fno-strict-aliasing -pipe -fstack-protector -I/usr/local/include'
    ccversion='', gccversion='12.2.0', gccosandvers=''
    intsize=4, longsize=8, ptrsize=8, doublesize=8, byteorder=12345678
    d_longlong=define, longlongsize=8, d_longdbl=define, longdblsize=16
    ivtype='long', ivsize=8, nvtype='double', nvsize=8, Off_t='off_t', lseeksize=8
    alignbytes=8, prototype=define
  Linker and Libraries:
    ld='cc', ldflags =' -fstack-protector -L/usr/local/lib'
    libpth=/usr/local/lib /lib/x86_64-linux-gnu /lib/../lib /usr/lib/x86_64-linux-gnu /usr/lib/../lib /lib /usr/lib /lib64 /usr/lib64
    libs=-lpthread -lnsl -ldl -lm -lcrypt -lutil -lc
    perllibs=-lpthread -lnsl -ldl -lm -lcrypt -lutil -lc
    libc=/lib/x86_64-linux-gnu/libc.so.6, so=so, useshrplib=false, libperl=libperl.a
    gnulibc_version='2.36'
  Dynamic Linking:
    dlsrc=dl_dlopen.xs, dlext=so, d_dlsymun=undef, ccdlflags='-Wl,-E'
    cccdlflags='-fPIC', lddlflags='-shared -O2 -g -L/usr/local/lib -fstack-protector'


Characteristics of this binary (from libperl): 
  Compile-time options: HAS_TIMES MULTIPLICITY PERLIO_LAYERS
                        PERL_DONT_CREATE_GVSV PERL_IMPLICIT_CONTEXT
                        PERL_MALLOC_WRAP PERL_PRESERVE_IVUV PERL_USE_DEVEL
                        USE_64_BIT_ALL USE_64_BIT_INT USE_ITHREADS
                        USE_LARGE_FILES USE_LOCALE USE_LOCALE_COLLATE
                        USE_LOCALE_CTYPE USE_LOCALE_NUMERIC USE_PERLIO
                        USE_PERL_ATOF USE_REENTRANT_API
  Locally applied patches:
	uncommitted-changes
  Built under linux
  Compiled at Jun 17 2023 07:59:30
  %ENV:
    PERL5LIB=""
    PERL5OPT=""
    PERL5_CPANPLUS_IS_RUNNING="1219244"
    PERL5_CPAN_IS_RUNNING="1219244"
    PERL_CANARY_STABILITY_NOPROMPT="1"
    PERL_MM_USE_DEFAULT="1"
    PERL_USE_UNSAFE_INC="1"
  @INC:
    /home/sand/src/perl/repoperls/installed-perls/host/k93msid/v5.16.3/1e0c/lib/site_perl/5.16.3/x86_64-linux-thread-multi
    /home/sand/src/perl/repoperls/installed-perls/host/k93msid/v5.16.3/1e0c/lib/site_perl/5.16.3
    /home/sand/src/perl/repoperls/installed-perls/host/k93msid/v5.16.3/1e0c/lib/5.16.3/x86_64-linux-thread-multi
    /home/sand/src/perl/repoperls/installed-perls/host/k93msid/v5.16.3/1e0c/lib/5.16.3
    .