Report for Rex-Repositorio-1.0.0

Back
From: metabase:user:30ae4450-2aae-11df-837a-5e0a49663a4f
Subject: PASS Rex-Repositorio-1.0.0 v5.16.3 
Date: 2015-04-06T17:38:52Z

This distribution has been tested as part of the CPAN Testers
project, supporting the Perl programming language.  See
http://wiki.cpantesters.org/ for more information or email
questions to cpan-testers-discuss@perl.org


--
Dear Jan Gehring,

This is a computer-generated report for Rex-Repositorio-1.0.0
on perl 5.16.3, created by CPAN-Reporter-1.2011_02.

Thank you for uploading your work to CPAN.  Congratulations!
All tests were successful.

Sections of this report:

    * Tester comments
    * Program output
    * Prerequisites
    * Environment and other context

------------------------------
TESTER COMMENTS
------------------------------

Additional comments from tester:

this report is from an automated smoke testing program
and was not reviewed by a human for accuracy

------------------------------
PROGRAM OUTPUT
------------------------------

Output from 'C:\strawberry163\c\bin\dmake.exe test':

C:\strawberry163\perl\bin\perl.exe "-MExtUtils::Command::MM" "-e" "test_harness(0, 'blib\lib', 'blib\arch')" t/*.t
t/author-critic.t ....... skipped: these tests are for testing by the author
t/base.t ................ ok
t/release-pod-syntax.t .. skipped: these tests are for release candidate testing
All tests successful.
Files=3, Tests=6,  1 wallclock secs ( 0.01 usr +  0.06 sys =  0.07 CPU)
Result: PASS

------------------------------
PREREQUISITES
------------------------------

Prerequisite modules loaded:

requires:

    Module                Need Have    
    --------------------- ---- --------
    base                  0    2.18    
    Carp                  0    1.26    
    common::sense         0    3.6     
    Compress::Zlib        0    2.060   
    Config::General       0    2.52    
    Data::Dumper          0    2.143   
    Digest::MD5           0    2.53    
    Digest::SHA           0    5.84    
    Encode                0    2.57    
    English               0    1.05    
    File::Basename        0    2.84    
    File::Copy            0    2.23    
    File::Path            0    2.09    
    File::Spec            0    3.40    
    File::Spec::Functions 0    3.40    
    FindBin               0    1.51    
    Getopt::Long          0    2.42    
    IO::All               0    0.59    
    JSON::XS              0    2.33    
    lib                   0    0.63    
    List::MoreUtils       0    0.33    
    Log::Log4perl         0    1.42    
    LWP::UserAgent        0    6.05    
    MIME::Base64          0    3.13    
    Mojo::Base            0    0       
    Mojo::DOM             0    0       
    Mojo::UserAgent       0    0       
    Mojo::Util            0    0       
    Mojolicious::Commands 0    0       
    Mojolicious::Plugin   0    0       
    Moose                 0    2.1204  
    Params::Validate      0    1.07    
    strict                0    1.07    
    Term::ANSIColor       0    4.02    
    Term::ProgressBar     0    2.17    
    Term::ReadKey         0    2.32    
    Try::Tiny             0    0.19    
    warnings              0    1.13    
    XML::LibXML           0    2.0014  
    XML::Simple           0    2.20    

build_requires:

    Module                Need Have    
    --------------------- ---- --------
    ExtUtils::MakeMaker   0    6.64    
    Test::More            0    1.001002

configure_requires:

    Module                Need Have    
    --------------------- ---- --------
    ExtUtils::MakeMaker   0    6.64    


------------------------------
ENVIRONMENT AND OTHER CONTEXT
------------------------------

Environment variables:

    AUTOMATED_TESTING = 1
    COMSPEC = C:\WINDOWS\system32\cmd.exe
    NUMBER_OF_PROCESSORS = 1
    PATH = C:\WINDOWS\system32;C:\WINDOWS;C:\WINDOWS\System32\Wbem;C:\strawberry163\c\bin;C:\strawberry163\perl\site\bin;C:\strawberry163\perl\bin
    PERL5LIB = C:\strawberry163\cpan\build\Term-ProgressBar-2.17-sof4rF/blib/arch;C:\strawberry163\cpan\build\Term-ProgressBar-2.17-sof4rF/blib/lib;C:\strawberry163\cpan\build\Class-MethodMaker-2.24-WOM1y_/blib/arch;C:\strawberry163\cpan\build\Class-MethodMaker-2.24-WOM1y_/blib/lib;C:\strawberry163\cpan\build\TermReadKey-2.32-UHuB8j/blib/arch;C:\strawberry163\cpan\build\TermReadKey-2.32-UHuB8j/blib/lib
    PERL5OPT = 
    PERL5_CPANPLUS_IS_RUNNING = 1288
    PERL5_CPAN_IS_RUNNING = 1288
    PERL5_CPAN_IS_RUNNING_IN_RECURSION = 1856,1288
    PERL_CR_SMOKER_CURRENT = Rex-Repositorio-1.0.0
    PERL_CR_SMOKER_RUNONCE = 1
    PERL_EXTUTILS_AUTOINSTALL = --defaultdeps
    PERL_MM_USE_DEFAULT = 1
    PROCESSOR_IDENTIFIER = x86 Family 16 Model 5 Stepping 3, AuthenticAMD
    TEMP = C:\DOCUME~1\c\LOCALS~1\Temp
    TERM = dumb

Perl special variables (and OS-specific diagnostics, for MSWin32):

    $^X = C:\strawberry163\perl\bin\perl.exe
    $UID/$EUID = 0 / 0
    $GID = 0
    $EGID = 0
    Win32::GetOSName = WinXP/.Net
    Win32::GetOSVersion = Service Pack 3, 5, 1, 2600, 2, 3, 0, 256, 1
    Win32::FsType = NTFS
    Win32::IsAdminUser = 1

Perl module toolchain versions installed:

    Module              Have    
    ------------------- --------
    CPAN                2.00    
    CPAN::Meta          2.140640
    Cwd                 3.40    
    ExtUtils::CBuilder  0.280206
    ExtUtils::Command   1.17    
    ExtUtils::Install   1.58    
    ExtUtils::MakeMaker 6.64    
    ExtUtils::Manifest  1.61    
    ExtUtils::ParseXS   3.24    
    File::Spec          3.40    
    JSON                2.90    
    JSON::PP            2.27203 
    Module::Build       0.4205  
    Module::Signature   0.70    
    Parse::CPAN::Meta   1.4414  
    Test::Harness       3.30    
    Test::More          1.001002
    YAML                0.90    
    YAML::Syck          1.24    
    version             0.9902  


--

Summary of my perl5 (revision 5 version 16 subversion 3) configuration:
   
  Platform:
    osname=MSWin32, osvers=4.0, archname=MSWin32-x86-multi-thread
    uname='Win32 strawberry-perl 5.16.3.1 #1 Tue Mar 12 13:55:20 2013 i386'
    config_args='undef'
    hint=recommended, useposix=true, d_sigaction=undef
    useithreads=define, usemultiplicity=define
    useperlio=define, d_sfio=undef, uselargefiles=define, usesocks=undef
    use64bitint=undef, use64bitall=undef, uselongdouble=undef
    usemymalloc=n, bincompat5005=undef
  Compiler:
    cc='gcc', ccflags =' -s -O2 -DWIN32  -DPERL_TEXTMODE_SCRIPTS -DPERL_IMPLICIT_CONTEXT -DPERL_IMPLICIT_SYS -fno-strict-aliasing -mms-bitfields',
    optimize='-s -O2',
    cppflags='-DWIN32'
    ccversion='', gccversion='4.6.3', gccosandvers=''
    intsize=4, longsize=4, ptrsize=4, doublesize=8, byteorder=1234
    d_longlong=undef, longlongsize=8, d_longdbl=define, longdblsize=12
    ivtype='long', ivsize=4, nvtype='double', nvsize=8, Off_t='long long', lseeksize=8
    alignbytes=8, prototype=define
  Linker and Libraries:
    ld='g++', ldflags ='-s -L"C:\strawberry163\perl\lib\CORE" -L"C:\strawberry163\c\lib"'
    libpth=C:\strawberry163\c\lib C:\strawberry163\c\i686-w64-mingw32\lib
    libs=-lmoldname -lkernel32 -luser32 -lgdi32 -lwinspool -lcomdlg32 -ladvapi32 -lshell32 -lole32 -loleaut32 -lnetapi32 -luuid -lws2_32 -lmpr -lwinmm -lversion -lodbc32 -lodbccp32 -lcomctl32
    perllibs=-lmoldname -lkernel32 -luser32 -lgdi32 -lwinspool -lcomdlg32 -ladvapi32 -lshell32 -lole32 -loleaut32 -lnetapi32 -luuid -lws2_32 -lmpr -lwinmm -lversion -lodbc32 -lodbccp32 -lcomctl32
    libc=, so=dll, useshrplib=true, libperl=libperl516.a
    gnulibc_version=''
  Dynamic Linking:
    dlsrc=dl_win32.xs, dlext=dll, d_dlsymun=undef, ccdlflags=' '
    cccdlflags=' ', lddlflags='-mdll -s -L"C:\strawberry163\perl\lib\CORE" -L"C:\strawberry163\c\lib"'


Characteristics of this binary (from libperl): 
  Compile-time options: HAS_TIMES HAVE_INTERP_INTERN MULTIPLICITY
                        PERLIO_LAYERS PERL_DONT_CREATE_GVSV
                        PERL_IMPLICIT_CONTEXT PERL_IMPLICIT_SYS
                        PERL_MALLOC_WRAP PERL_PRESERVE_IVUV PL_OP_SLAB_ALLOC
                        USE_ITHREADS USE_LARGE_FILES USE_LOCALE
                        USE_LOCALE_COLLATE USE_LOCALE_CTYPE
                        USE_LOCALE_NUMERIC USE_PERLIO USE_PERL_ATOF
  Built under MSWin32
  Compiled at Mar 12 2013 14:01:07
  %ENV:
    PERL5LIB="C:\strawberry163\cpan\build\Term-ProgressBar-2.17-sof4rF/blib/arch;C:\strawberry163\cpan\build\Term-ProgressBar-2.17-sof4rF/blib/lib;C:\strawberry163\cpan\build\Class-MethodMaker-2.24-WOM1y_/blib/arch;C:\strawberry163\cpan\build\Class-MethodMaker-2.24-WOM1y_/blib/lib;C:\strawberry163\cpan\build\TermReadKey-2.32-UHuB8j/blib/arch;C:\strawberry163\cpan\build\TermReadKey-2.32-UHuB8j/blib/lib"
    PERL5_CPANPLUS_IS_RUNNING="1288"
    PERL5_CPAN_IS_RUNNING="1288"
    PERL5_CPAN_IS_RUNNING_IN_RECURSION="1856,1288"
    PERL_CR_SMOKER_CURRENT="Rex-Repositorio-1.0.0"
    PERL_CR_SMOKER_RUNONCE="1"
    PERL_EXTUTILS_AUTOINSTALL="--defaultdeps"
    PERL_MM_USE_DEFAULT="1"
  @INC:
    C:\strawberry163\cpan\build\Term-ProgressBar-2.17-sof4rF/blib/arch
    C:\strawberry163\cpan\build\Term-ProgressBar-2.17-sof4rF/blib/lib
    C:\strawberry163\cpan\build\Class-MethodMaker-2.24-WOM1y_/blib/arch
    C:\strawberry163\cpan\build\Class-MethodMaker-2.24-WOM1y_/blib/lib
    C:\strawberry163\cpan\build\TermReadKey-2.32-UHuB8j/blib/arch
    C:\strawberry163\cpan\build\TermReadKey-2.32-UHuB8j/blib/lib
    C:/strawberry163/perl/site/lib
    C:/strawberry163/perl/vendor/lib
    C:/strawberry163/perl/lib
    .