Back
From: metabase:user:320bfe00-2aae-11df-837a-5e0a49663a4f
Subject: PASS MooseX-WithCache-0.01002 v5.15.8 GNU/Linux
Date: 2012-02-28T09:59:25Z
This distribution has been tested as part of the CPAN Testers
project, supporting the Perl programming language. See
http://wiki.cpantesters.org/ for more information or email
questions to cpan-testers-discuss@perl.org
--
Dear Daisuke Maki,
This is a computer-generated report for MooseX-WithCache-0.01002
on perl 5.15.8, created by CPAN-Reporter-1.2004.
Thank you for uploading your work to CPAN. Congratulations!
All tests were successful.
Sections of this report:
* Tester comments
* Program output
* Prerequisites
* Environment and other context
------------------------------
TESTER COMMENTS
------------------------------
Additional comments from tester:
this report is from an automated smoke testing program
and was not reviewed by a human for accuracy
------------------------------
PROGRAM OUTPUT
------------------------------
Output from '/usr/bin/make test':
PERL_DL_NONLAZY=1 /home/sand/src/perl/repoperls/installed-perls/perl/v5.15.8-47-g55d3f3e/127e/bin/perl "-MExtUtils::Command::MM" "-e" "test_harness(0, 'inc', 'blib/lib', 'blib/arch')" t/*.t t/*/*.t
t/00_compile.t ............... ok
Use of qw(...) as parentheses is deprecated at t/02_memcached.t line 25.
t/02_memcached.t ............. skipped: no memcached server found
Use of uninitialized value $^WARNING_BITS in bitwise xor (^) at /home/src/perl/repoperls/installed-perls/perl/v5.15.8-47-g55d3f3e/127e/lib/site_perl/5.15.8/common/sense.pm line 237.
must specify either 'datastore' hashref or 'global' flag at /home/src/perl/repoperls/installed-perls/perl/v5.15.8-47-g55d3f3e/127e/lib/site_perl/5.15.8/CHI/Driver/Memory.pm line 37.
CHI::Driver::Memory::BUILD('Moose::Meta::Class::__ANON__::SERIAL::4=HASH(0x3380e70)', 'HASH(0x33af848)') called at /home/src/perl/repoperls/installed-perls/perl/v5.15.8-47-g55d3f3e/127e/lib/site_perl/5.15.8/x86_64-linux-ld/Class/MOP/Method.pm line 125
Class::MOP::Method::execute('Moose::Meta::Method=HASH(0x33acc18)', 'Moose::Meta::Class::__ANON__::SERIAL::4=HASH(0x3380e70)', 'HASH(0x33af848)') called at /home/src/perl/repoperls/installed-perls/perl/v5.15.8-47-g55d3f3e/127e/lib/site_perl/5.15.8/x86_64-linux-ld/Moose/Object.pm line 59
Moose::Object::BUILDALL('Moose::Meta::Class::__ANON__::SERIAL::4=HASH(0x3380e70)', 'HASH(0x33af848)') called at /home/src/perl/repoperls/installed-perls/perl/v5.15.8-47-g55d3f3e/127e/lib/site_perl/5.15.8/x86_64-linux-ld/Moose/Meta/Class.pm line 278
Moose::Meta::Class::new_object('Moose::Meta::Class=HASH(0x2fd7100)', 'HASH(0x33af848)') called at /home/src/perl/repoperls/installed-perls/perl/v5.15.8-47-g55d3f3e/127e/lib/site_perl/5.15.8/x86_64-linux-ld/Moose/Object.pm line 28
Moose::Object::new('Moose::Meta::Class::__ANON__::SERIAL::4', 'chi_root_class', 'CHI', 'driver_class', 'CHI::Driver::Memory') called at constructor CHI::Driver::Memory::new (defined at /home/src/perl/repoperls/installed-perls/perl/v5.15.8-47-g55d3f3e/127e/lib/site_perl/5.15.8/CHI/Driver/Memory.pm line 18) line 4
CHI::Driver::Memory::new('Moose::Meta::Class::__ANON__::SERIAL::4', 'chi_root_class', 'CHI', 'driver_class', 'CHI::Driver::Memory') called at /home/src/perl/repoperls/installed-perls/perl/v5.15.8-47-g55d3f3e/127e/lib/site_perl/5.15.8/CHI.pm line 77
CHI::new('CHI', 'driver', 'Memory') called at t/03_chi.t line 29
t/03_chi.t ................... ok
t/04_fastmmap.t .............. skipped: no Cache::FastMmap found
t/deprecated/00_compile.t .... ok
Use of qw(...) as parentheses is deprecated at t/deprecated/02_memcached.t line 20.
t/deprecated/02_memcached.t .. skipped: no memcached server found
Use of uninitialized value $^WARNING_BITS in bitwise xor (^) at /home/src/perl/repoperls/installed-perls/perl/v5.15.8-47-g55d3f3e/127e/lib/site_perl/5.15.8/common/sense.pm line 237.
must specify either 'datastore' hashref or 'global' flag at /home/src/perl/repoperls/installed-perls/perl/v5.15.8-47-g55d3f3e/127e/lib/site_perl/5.15.8/CHI/Driver/Memory.pm line 37.
CHI::Driver::Memory::BUILD('Moose::Meta::Class::__ANON__::SERIAL::4=HASH(0x371c958)', 'HASH(0x374aee0)') called at /home/src/perl/repoperls/installed-perls/perl/v5.15.8-47-g55d3f3e/127e/lib/site_perl/5.15.8/x86_64-linux-ld/Class/MOP/Method.pm line 125
Class::MOP::Method::execute('Moose::Meta::Method=HASH(0x374c360)', 'Moose::Meta::Class::__ANON__::SERIAL::4=HASH(0x371c958)', 'HASH(0x374aee0)') called at /home/src/perl/repoperls/installed-perls/perl/v5.15.8-47-g55d3f3e/127e/lib/site_perl/5.15.8/x86_64-linux-ld/Moose/Object.pm line 59
Moose::Object::BUILDALL('Moose::Meta::Class::__ANON__::SERIAL::4=HASH(0x371c958)', 'HASH(0x374aee0)') called at /home/src/perl/repoperls/installed-perls/perl/v5.15.8-47-g55d3f3e/127e/lib/site_perl/5.15.8/x86_64-linux-ld/Moose/Meta/Class.pm line 278
Moose::Meta::Class::new_object('Moose::Meta::Class=HASH(0x3379fb0)', 'HASH(0x374aee0)') called at /home/src/perl/repoperls/installed-perls/perl/v5.15.8-47-g55d3f3e/127e/lib/site_perl/5.15.8/x86_64-linux-ld/Moose/Object.pm line 28
Moose::Object::new('Moose::Meta::Class::__ANON__::SERIAL::4', 'chi_root_class', 'CHI', 'driver_class', 'CHI::Driver::Memory') called at constructor CHI::Driver::Memory::new (defined at /home/src/perl/repoperls/installed-perls/perl/v5.15.8-47-g55d3f3e/127e/lib/site_perl/5.15.8/CHI/Driver/Memory.pm line 18) line 4
CHI::Driver::Memory::new('Moose::Meta::Class::__ANON__::SERIAL::4', 'chi_root_class', 'CHI', 'driver_class', 'CHI::Driver::Memory') called at /home/src/perl/repoperls/installed-perls/perl/v5.15.8-47-g55d3f3e/127e/lib/site_perl/5.15.8/CHI.pm line 77
CHI::new('CHI', 'driver', 'Memory') called at t/deprecated/03_chi.t line 30
t/deprecated/03_chi.t ........ ok
t/deprecated/04_fastmmap.t ... skipped: no Cache::FastMmap found
All tests successful.
Files=8, Tests=21, 3 wallclock secs ( 0.03 usr 0.02 sys + 1.78 cusr 0.18 csys = 2.01 CPU)
Result: PASS
------------------------------
PREREQUISITES
------------------------------
Prerequisite modules loaded:
requires:
Module Need Have
--------------------------- ----- --------
Cache::Memcached 0 1.29
Data::Dumper 0 2.135_05
Digest::MD5 0 2.51
Moose 0.59 2.0402
MooseX::Role::Parameterized 0 1.00
perl 5.008 5.015008
build_requires:
Module Need Have
--------------------------- ----- --------
ExtUtils::MakeMaker 6.42 6.63_02
IO::Socket::INET 0 1.33
Test::Exception 0 0.31
Test::More 0 0.98
configure_requires:
Module Need Have
--------------------------- ----- --------
ExtUtils::MakeMaker 6.42 6.63_02
------------------------------
ENVIRONMENT AND OTHER CONTEXT
------------------------------
Environment variables:
AUTOMATED_TESTING = 1
LANG = en_US.UTF-8
LANGUAGE = en_US:en
PATH = /home/sand/bin:/usr/local/bin:/usr/bin:/bin:/usr/bin/X11:/usr/games:/usr/local/perl/bin:/usr/X11/bin:/sbin:/usr/sbin
PERL5LIB =
PERL5OPT =
PERL5_CPANPLUS_IS_RUNNING = 24951
PERL5_CPAN_IS_RUNNING = 24951
PERL_MM_USE_DEFAULT = 1
SHELL = /usr/bin/zsh
TERM = screen
Perl special variables (and OS-specific diagnostics, for MSWin32):
$^X = /home/sand/src/perl/repoperls/installed-perls/perl/v5.15.8-47-g55d3f3e/127e/bin/perl
$UID/$EUID = 1005 / 1005
$GID = 1005 1005
$EGID = 1005 1005
Perl module toolchain versions installed:
Module Have
------------------- --------
CPAN 1.9800
CPAN::Meta 2.120351
Cwd 3.39_02
ExtUtils::CBuilder 0.280206
ExtUtils::Command 1.17
ExtUtils::Install 1.58
ExtUtils::MakeMaker 6.63_02
ExtUtils::Manifest 1.61
ExtUtils::ParseXS 3.16
File::Spec 3.39_02
JSON 2.53
JSON::PP 2.27200
Module::Build 0.40
Module::Signature 0.68
Parse::CPAN::Meta 1.4402
Test::Harness 3.23
Test::More 0.98
YAML 0.80
YAML::Syck 1.20
version 0.96
--
Summary of my perl5 (revision 5 version 15 subversion 8) configuration:
Commit id: 55d3f3e53492b8cc2dcf2c5ff35f6b379b1685e8
Platform:
osname=linux, osvers=3.2.0-1-amd64, archname=x86_64-linux-ld
uname='linux k83 3.2.0-1-amd64 #1 smp sun feb 5 15:17:15 utc 2012 x86_64 gnulinux '
config_args='-Dprefix=/home/src/perl/repoperls/installed-perls/perl/v5.15.8-47-g55d3f3e/127e -Dmyhostname=k83 -Dinstallusrbinperl=n -Uversiononly -Dusedevel -des -Ui_db -Uuseithreads -Duselongdouble -DDEBUGGING=-g'
hint=recommended, useposix=true, d_sigaction=define
useithreads=undef, usemultiplicity=undef
useperlio=define, d_sfio=undef, uselargefiles=define, usesocks=undef
use64bitint=define, use64bitall=define, uselongdouble=define
usemymalloc=n, bincompat5005=undef
Compiler:
cc='cc', ccflags ='-fno-strict-aliasing -pipe -fstack-protector -I/usr/local/include -D_LARGEFILE_SOURCE -D_FILE_OFFSET_BITS=64',
optimize='-O2 -g',
cppflags='-fno-strict-aliasing -pipe -fstack-protector -I/usr/local/include'
ccversion='', gccversion='4.6.2', gccosandvers=''
intsize=4, longsize=8, ptrsize=8, doublesize=8, byteorder=12345678
d_longlong=define, longlongsize=8, d_longdbl=define, longdblsize=16
ivtype='long', ivsize=8, nvtype='long double', nvsize=16, Off_t='off_t', lseeksize=8
alignbytes=16, prototype=define
Linker and Libraries:
ld='cc', ldflags =' -fstack-protector -L/usr/local/lib'
libpth=/usr/local/lib /lib/x86_64-linux-gnu /lib/../lib /usr/lib/x86_64-linux-gnu /usr/lib/../lib /lib /usr/lib
libs=-lnsl -ldb -ldl -lm -lcrypt -lutil -lc
perllibs=-lnsl -ldl -lm -lcrypt -lutil -lc
libc=, so=so, useshrplib=false, libperl=libperl.a
gnulibc_version='2.13'
Dynamic Linking:
dlsrc=dl_dlopen.xs, dlext=so, d_dlsymun=undef, ccdlflags='-Wl,-E'
cccdlflags='-fPIC', lddlflags='-shared -O2 -g -L/usr/local/lib -fstack-protector'
Characteristics of this binary (from libperl):
Compile-time options: HAS_TIMES PERLIO_LAYERS PERL_DONT_CREATE_GVSV
PERL_MALLOC_WRAP PERL_PRESERVE_IVUV PERL_USE_DEVEL
USE_64_BIT_ALL USE_64_BIT_INT USE_LARGE_FILES
USE_LOCALE USE_LOCALE_COLLATE USE_LOCALE_CTYPE
USE_LOCALE_NUMERIC USE_LONG_DOUBLE USE_PERLIO
USE_PERL_ATOF
Built under linux
Compiled at Feb 27 2012 12:57:13
%ENV:
PERL5LIB=""
PERL5OPT=""
PERL5_CPANPLUS_IS_RUNNING="24951"
PERL5_CPAN_IS_RUNNING="24951"
PERL_MM_USE_DEFAULT="1"
@INC:
/home/src/perl/repoperls/installed-perls/perl/v5.15.8-47-g55d3f3e/127e/lib/site_perl/5.15.8/x86_64-linux-ld
/home/src/perl/repoperls/installed-perls/perl/v5.15.8-47-g55d3f3e/127e/lib/site_perl/5.15.8
/home/src/perl/repoperls/installed-perls/perl/v5.15.8-47-g55d3f3e/127e/lib/5.15.8/x86_64-linux-ld
/home/src/perl/repoperls/installed-perls/perl/v5.15.8-47-g55d3f3e/127e/lib/5.15.8
.