Report for Dist-Zilla-Plugin-CheckExtraTests-0.021

Back
From: metabase:user:31dd1d2e-2aae-11df-837a-5e0a49663a4f
Subject: PASS Dist-Zilla-Plugin-CheckExtraTests-0.021 v5.16.3 
Date: 2014-07-02T20:40:12Z

This distribution has been tested as part of the CPAN Testers
project, supporting the Perl programming language.  See
http://wiki.cpantesters.org/ for more information or email
questions to cpan-testers-discuss@perl.org


--
Dear David Golden,

This is a computer-generated report for Dist-Zilla-Plugin-CheckExtraTests-0.021
on perl 5.16.3, created by CPAN-Reporter-1.2011.

Thank you for uploading your work to CPAN.  Congratulations!
All tests were successful.

Sections of this report:

    * Tester comments
    * Program output
    * Prerequisites
    * Environment and other context

------------------------------
TESTER COMMENTS
------------------------------

Additional comments from tester:

none provided

------------------------------
PROGRAM OUTPUT
------------------------------

Output from 'C:\Perl\site\bin\dmake.exe test':

C:\Perl\bin\perl.exe "-MExtUtils::Command::MM" "-MTest::Harness" "-e" "undef *Test::Harness::Switches; test_harness(0, 'blib\lib', 'blib\arch')" t/*.t
# 
# Versions for all modules listed in MYMETA.json (including optional ones):
#    Version Module                          
#   -------- --------------------------------
#       3.30 App::Prove                      
#       1.96 Archive::Tar                    
#   2.132830 CPAN::Meta                      
#      2.125 CPAN::Meta::Requirements        
#       0.24 Capture::Tiny                   
#      5.019 Dist::Zilla                     
#      5.019 Dist::Zilla::App                
#      5.019 Dist::Zilla::App::Tester        
#      5.019 Dist::Zilla::Role::BeforeRelease
#      5.019 Dist::Zilla::Role::TestRunner   
#      5.019 Dist::Zilla::Tester             
#       6.98 ExtUtils::MakeMaker             
#       3.40 File::Spec::Functions           
#      1.006 File::pushd                     
#       1.38 List::Util                      
#     2.1205 Moose                           
#       0.15 Moose::Autobox                  
#       1.07 Params::Util                    
#      1.008 Path::Iterator::Rule            
#      0.055 Path::Tiny                      
#      0.987 Sub::Exporter                   
#   1.001003 Test::More                      
#       0.07 Test::Requires                  
#       0.22 Try::Tiny                       
#       0.63 lib                             
#       0.15 namespace::autoclean            
#       1.07 strict                          
#     0.9904 version                         
#       1.13 warnings                        
t/00-report-prereqs.t .. ok
t/checkxt.t ............ ok
t/runxt.t .............. ok
t/withblib.t ........... ok
All tests successful.
Files=4, Tests=16, 33 wallclock secs ( 0.08 usr +  0.00 sys =  0.08 CPU)
Result: PASS

------------------------------
PREREQUISITES
------------------------------

Prerequisite modules loaded:

requires:

    Module                           Need  Have    
    -------------------------------- ----- --------
    App::Prove                       3.00  3.30    
    Archive::Tar                     0     1.96    
    Dist::Zilla                      4.3   5.019   
    Dist::Zilla::App                 0     5.019   
    Dist::Zilla::Role::BeforeRelease 0     5.019   
    Dist::Zilla::Role::TestRunner    0     5.019   
    File::pushd                      0     1.006   
    Moose                            2     2.1205  
    Moose::Autobox                   0     0.15    
    namespace::autoclean             0.09  0.15    
    Path::Iterator::Rule             0     1.008   
    Path::Tiny                       0.013 0.055   
    strict                           0     1.07    
    warnings                         0     1.13    

build_requires:

    Module                           Need  Have    
    -------------------------------- ----- --------
    Capture::Tiny                    0     0.24    
    Dist::Zilla::App::Tester         0     5.019   
    Dist::Zilla::Tester              0     5.019   
    ExtUtils::MakeMaker              0     6.98    
    File::Spec::Functions            0     3.40    
    lib                              0     0.63    
    List::Util                       0     1.38    
    Params::Util                     0     1.07    
    Sub::Exporter                    0     0.987   
    Test::More                       0.88  1.001003
    Test::Requires                   0     0.07    
    Try::Tiny                        0     0.22    
    version                          0     0.9904  

configure_requires:

    Module                           Need  Have    
    -------------------------------- ----- --------
    ExtUtils::MakeMaker              6.17  6.98    


------------------------------
ENVIRONMENT AND OTHER CONTEXT
------------------------------

Environment variables:

    ACTIVEPERL_CONFIG_SILENT = 1
    COMSPEC = C:\Windows\system32\cmd.exe
    LANG = en_US.utf8
    NUMBER_OF_PROCESSORS = 8
    PATH = C:\Program Files (x86)\NVIDIA Corporation\PhysX\Common;C:\Program Files (x86)\ActiveState Komodo IDE 7\;%CommonProgramFiles%\Microsoft Shared\Windows Live;C:\Perl\site\bin;C:\Perl\bin;C:\Windows\system32;C:\Windows;C:\Windows\System32\Wbem;C:\Program Files\ThinkPad\Bluetooth Software\;C:\Program Files\ThinkPad\Bluetooth Software\syswow64;C:\SWTOOLS\ReadyApps;C:\Program Files (x86)\Lenovo\Access Connections\;c:\Program Files (x86)\PuTTY\;c:\cygwin\bin\;C:\Program Files (x86)\GtkSharp\2.12\bin;d:\j\MeCab\bin\;c:\Python27\;c:\Python27\Scripts\;c:\Program Files (x86)\CMake 2.8\bin\;C:\Program Files (x86)\Calibre2\;C:\Program Files (x86)\GNU\GnuPG\pub;C:\Windows\System32\WindowsPowerShell\v1.0\;D:\scala\\bin;C:\Ruby193\bin;C:\Program Files (x86)\OpenVPN\bin;C:\Program Files\Mercurial;c:\Program Files (x86)\Java\jre7\bin;C:\Windows\System32\WindowsPowerShell\v1.0\;C:\Program Files (x86)\Intel\Services\IPT\;C:\Program Files\OpenVPN\bin;C:\Program Files\Intel\WiFi\bin\;C:\Program Files\Common Files\Intel\WirelessCommon\;C:\Program Files (x86)\nodejs\;C:\Program Files (x86)\Dr. Memory\bin;C:\Program Files (x86)\Git\cmd;C:\Program Files\TortoiseSVN\bin;C:\Program Files (x86)\QuickTime\QTSystem\;d:\cpan\ConsoleZ\;C:\Program Files\Btcd Suite\Btcd\;C:\Program Files\TortoiseGit\bin;C:\KFFirstAide;C:\Users\Mithaldu\AppData\Roaming\npm;C:\Program Files (x86)\Sophos\Sophos SSL VPN Client\bin
    PERL5LIB = 
    PERL5OPT = 
    PERL5_CPANPLUS_IS_RUNNING = 126508
    PERL5_CPAN_IS_RUNNING = 126508
    PERL_STRICTURES_EXTRA = 1
    PROCESSOR_IDENTIFIER = Intel64 Family 6 Model 42 Stepping 7, GenuineIntel
    TEMP = C:\Users\Mithaldu\AppData\Local\Temp

Perl special variables (and OS-specific diagnostics, for MSWin32):

    $^X = C:\Perl\bin\perl.exe
    $UID/$EUID = 0 / 0
    $GID = 0
    $EGID = 0
    Win32::GetOSName = Win7
    Win32::GetOSVersion = Service Pack 1, 6, 1, 7601, 2, 1, 0, 256, 1
    Win32::FsType = NTFS
    Win32::IsAdminUser = 0

Perl module toolchain versions installed:

    Module              Have    
    ------------------- --------
    CPAN                2.05    
    CPAN::Meta          2.132830
    Cwd                 3.40    
    ExtUtils::CBuilder  0.280216
    ExtUtils::Command   1.18    
    ExtUtils::Install   1.67    
    ExtUtils::MakeMaker 6.98    
    ExtUtils::Manifest  1.63    
    ExtUtils::ParseXS   3.24    
    File::Spec          3.40    
    JSON                2.61    
    JSON::PP            2.27203 
    Module::Build       0.4205  
    Module::Signature   n/a     
    Parse::CPAN::Meta   1.4414  
    Test::Harness       3.30    
    Test::More          1.001003
    YAML                0.90    
    YAML::Syck          n/a     
    version             0.9904  


--

Summary of my perl5 (revision 5 version 16 subversion 3) configuration:
   
  Platform:
    osname=MSWin32, osvers=5.2, archname=MSWin32-x86-multi-thread
    uname=''
    config_args='undef'
    hint=recommended, useposix=true, d_sigaction=undef
    useithreads=define, usemultiplicity=define
    useperlio=define, d_sfio=undef, uselargefiles=define, usesocks=undef
    use64bitint=undef, use64bitall=undef, uselongdouble=undef
    usemymalloc=n, bincompat5005=undef
  Compiler:
    cc='C:\Perl\site\bin\gcc.exe', ccflags ='-DNDEBUG -DWIN32 -D_CONSOLE -DNO_STRICT -DPERL_TEXTMODE_SCRIPTS -DUSE_SITECUSTOMIZE -DPERL_IMPLICIT_CONTEXT -DPERL_IMPLICIT_SYS -DUSE_PERLIO -D_USE_32BIT_TIME_T -DHASATTRIBUTE -fno-strict-aliasing -mms-bitfields',
    optimize='-O2',
    cppflags='-DWIN32'
    ccversion='', gccversion='3.4.5 (mingw-vista special r3)', gccosandvers=''
    intsize=4, longsize=4, ptrsize=4, doublesize=8, byteorder=1234
    d_longlong=undef, longlongsize=8, d_longdbl=define, longdblsize=8
    ivtype='long', ivsize=4, nvtype='double', nvsize=8, Off_t='__int64', lseeksize=8
    alignbytes=8, prototype=define
  Linker and Libraries:
    ld='C:\Perl\site\bin\g++.exe', ldflags ='-L"C:\Perl\lib\CORE"'
    libpth=\lib
    libs=-lkernel32 -luser32 -lgdi32 -lwinspool -lcomdlg32 -ladvapi32 -lshell32 -lole32 -loleaut32 -lnetapi32 -luuid -lws2_32 -lmpr -lwinmm -lversion -lodbc32 -lodbccp32 -lcomctl32 -lmsvcrt
    perllibs=-lkernel32 -luser32 -lgdi32 -lwinspool -lcomdlg32 -ladvapi32 -lshell32 -lole32 -loleaut32 -lnetapi32 -luuid -lws2_32 -lmpr -lwinmm -lversion -lodbc32 -lodbccp32 -lcomctl32 -lmsvcrt
    libc=msvcrt.lib, so=dll, useshrplib=true, libperl=perl516.lib
    gnulibc_version=''
  Dynamic Linking:
    dlsrc=dl_win32.xs, dlext=dll, d_dlsymun=undef, ccdlflags=' '
    cccdlflags=' ', lddlflags='-mdll -L"C:\Perl\lib\CORE"'


Characteristics of this binary (from libperl): 
  Compile-time options: HAS_TIMES HAVE_INTERP_INTERN MULTIPLICITY
                        PERLIO_LAYERS PERL_DONT_CREATE_GVSV
                        PERL_IMPLICIT_CONTEXT PERL_IMPLICIT_SYS
                        PERL_MALLOC_WRAP PERL_PRESERVE_IVUV PL_OP_SLAB_ALLOC
                        USE_ITHREADS USE_LARGE_FILES USE_LOCALE
                        USE_LOCALE_COLLATE USE_LOCALE_CTYPE
                        USE_LOCALE_NUMERIC USE_PERLIO USE_PERL_ATOF
                        USE_SITECUSTOMIZE
  Locally applied patches:
	ActivePerl Build 1604 [298023]
  Built under MSWin32
  Compiled at Apr 14 2014 14:32:20
  %ENV:
    PERL5_CPANPLUS_IS_RUNNING="126508"
    PERL5_CPAN_IS_RUNNING="126508"
    PERL_STRICTURES_EXTRA="1"
  @INC:
    C:/Perl/site/lib
    C:/Perl/lib
    .