Monkey-Patch-Action v0.061 Perl 5 v5.24.4 x86_64-linux-thread-multi-ld

Status
Pass
From
Nigel Horne
Dist
Monkey-Patch-Action v0.061
Platform
Perl 5 v5.24.4 x86_64-linux-thread-multi-ld
Date
2019-11-18 14:08:27
ID
e46189d8-0a0c-11ea-b186-4a0ac5d8730e
This distribution has been tested as part of the CPAN Testers
project, supporting the Perl programming language.  See
http://wiki.cpantesters.org/ for more information or email
questions to cpan-testers-discuss@perl.org


--
Dear perlancar,

This is a computer-generated report for Monkey-Patch-Action-0.061
on perl 5.24.4, created by CPAN-Reporter-1.2018.

Thank you for uploading your work to CPAN.  Congratulations!
All tests were successful.

Sections of this report:

    * Tester comments
    * Program output
    * Prerequisites
    * Environment and other context

------------------------------
TESTER COMMENTS
------------------------------

Additional comments from tester:

none provided

------------------------------
PROGRAM OUTPUT
------------------------------

Output from '/usr/bin/make test':

PERL_DL_NONLAZY=1 "/home/njh/perl5/perlbrew/perls/perl-5.24.4-thread-multi-ld/bin/perl5.24.4" "-MExtUtils::Command::MM" "-MTest::Harness" "-e" "undef *Test::Harness::Switches; test_harness(0, 'blib/lib', 'blib/arch')" t/*.t
t/00-compile.t ........... ok
t/author-critic.t ........ skipped: these tests are for testing by the author
t/author-pod-coverage.t .. skipped: these tests are for testing by the author
t/author-pod-syntax.t .... skipped: these tests are for testing by the author
t/patch_object.t ......... ok
Use of uninitialized value $name in concatenation (.) or string at /home/njh/perl5/perlbrew/perls/perl-5.24.4-thread-multi-ld/lib/5.24.4/Test/Builder.pm line 260.
Use of uninitialized value $name in concatenation (.) or string at /home/njh/perl5/perlbrew/perls/perl-5.24.4-thread-multi-ld/lib/5.24.4/Test/Builder.pm line 260.
Use of uninitialized value $name in concatenation (.) or string at /home/njh/perl5/perlbrew/perls/perl-5.24.4-thread-multi-ld/lib/5.24.4/Test/Builder.pm line 260.
Use of uninitialized value $name in concatenation (.) or string at /home/njh/perl5/perlbrew/perls/perl-5.24.4-thread-multi-ld/lib/5.24.4/Test/Builder.pm line 260.
Use of uninitialized value $name in concatenation (.) or string at /home/njh/perl5/perlbrew/perls/perl-5.24.4-thread-multi-ld/lib/5.24.4/Test/Builder.pm line 260.
Use of uninitialized value $name in concatenation (.) or string at /home/njh/perl5/perlbrew/perls/perl-5.24.4-thread-multi-ld/lib/5.24.4/Test/Builder.pm line 260.
Use of uninitialized value $name in concatenation (.) or string at /home/njh/perl5/perlbrew/perls/perl-5.24.4-thread-multi-ld/lib/5.24.4/Test/Builder.pm line 260.
Use of uninitialized value $name in concatenation (.) or string at /home/njh/perl5/perlbrew/perls/perl-5.24.4-thread-multi-ld/lib/5.24.4/Test/Builder.pm line 260.
Use of uninitialized value $name in concatenation (.) or string at /home/njh/perl5/perlbrew/perls/perl-5.24.4-thread-multi-ld/lib/5.24.4/Test/Builder.pm line 260.
Use of uninitialized value $name in concatenation (.) or string at /home/njh/perl5/perlbrew/perls/perl-5.24.4-thread-multi-ld/lib/5.24.4/Test/Builder.pm line 260.
Use of uninitialized value $name in concatenation (.) or string at /home/njh/perl5/perlbrew/perls/perl-5.24.4-thread-multi-ld/lib/5.24.4/Test/Builder.pm line 260.
Warning: unapplying patch to Foo::f1 (applied in t/patch_package.t:289) before a wrapping patch at /home/njh/.cpan/build/Monkey-Patch-Action-0.061-LwLOJt/blib/lib/Monkey/Patch/Action/Handle.pm line 88.
Use of uninitialized value $name in concatenation (.) or string at /home/njh/perl5/perlbrew/perls/perl-5.24.4-thread-multi-ld/lib/5.24.4/Test/Builder.pm line 260.
Use of uninitialized value $name in concatenation (.) or string at /home/njh/perl5/perlbrew/perls/perl-5.24.4-thread-multi-ld/lib/5.24.4/Test/Builder.pm line 260.
t/patch_package.t ........ ok
All tests successful.
Files=6, Tests=25,  1 wallclock secs ( 0.15 usr  0.22 sys +  0.53 cusr  0.15 csys =  1.05 CPU)
Result: PASS

------------------------------
PREREQUISITES
------------------------------

Prerequisite modules loaded:

requires:

    Module              Need     Have    
    ------------------- -------- --------
    Exporter            5.57     5.72    
    perl                5.010001 5.024004
    Scalar::Util        0        1.42_02 
    strict              0        1.11    
    Sub::Delete         0        1.00002 
    warnings            0        1.36    

build_requires:

    Module              Need     Have    
    ------------------- -------- --------
    ExtUtils::MakeMaker 0        7.38    
    File::Spec          0        3.63_01 
    IO::Handle          0        1.36    
    IPC::Open3          0        1.20    
    Test::More          0.98     1.001014

configure_requires:

    Module              Need     Have    
    ------------------- -------- --------
    ExtUtils::MakeMaker 0        7.38    


------------------------------
ENVIRONMENT AND OTHER CONTEXT
------------------------------

Environment variables:

    LANG = C.UTF-8
    NONINTERACTIVE_TESTING = 1
    PATH = /home/njh/perl5/perlbrew/bin:/home/njh/perl5/perlbrew/perls/perl-5.24.4-thread-multi-ld/bin:/home/njh/perl5/perlbrew/bin:/home/njh/src/njh/smoker/bin:/usr/bin:/bin
    PERL5LIB = 
    PERL5OPT = 
    PERL5_CPANPLUS_IS_RUNNING = 5726
    PERL5_CPAN_IS_RUNNING = 5726
    PERL5_CPAN_IS_RUNNING_IN_RECURSION = 5723,5726
    PERLBREW_LIB = 
    PERLBREW_MANPATH = /home/njh/perl5/perlbrew/perls/perl-5.24.4-thread-multi-ld/man
    PERLBREW_PATH = /home/njh/perl5/perlbrew/bin:/home/njh/perl5/perlbrew/perls/perl-5.24.4-thread-multi-ld/bin
    PERLBREW_PERL = perl-5.24.4-thread-multi-ld
    PERLBREW_ROOT = /home/njh/perl5/perlbrew
    PERLBREW_SHELLRC_VERSION = 0.87
    PERLBREW_VERSION = 0.87
    PERL_LOCAL_LIB_ROOT = 
    PERL_MM_USE_DEFAULT = 1
    SHELL = /usr/bin/bash
    TEMP = /tmp/user/1002
    TMPDIR = /tmp/user/1002

Perl special variables (and OS-specific diagnostics, for MSWin32):

    $^X = /home/njh/perl5/perlbrew/perls/perl-5.24.4-thread-multi-ld/bin/perl5.24.4
    $UID/$EUID = 1002 / 1002
    $GID = 1002 1002
    $EGID = 1002 1002

Perl module toolchain versions installed:

    Module              Have      
    ------------------- ----------
    CPAN                2.11_01   
    CPAN::Meta          2.150005  
    Cwd                 3.63_01   
    ExtUtils::CBuilder  0.280225  
    ExtUtils::Command   7.38      
    ExtUtils::Install   2.06      
    ExtUtils::MakeMaker 7.38      
    ExtUtils::Manifest  1.70      
    ExtUtils::ParseXS   3.31      
    File::Spec          3.63_01   
    JSON                4.02      
    JSON::PP            2.27300_01
    Module::Build       0.4229    
    Module::Signature   n/a       
    Parse::CPAN::Meta   1.4417_001
    Test::Harness       3.36_01   
    Test::More          1.001014  
    YAML                1.29      
    YAML::Syck          n/a       
    version             0.9916    


--

Summary of my perl5 (revision 5 version 24 subversion 4) configuration:
   
  Platform:
    osname=linux, osvers=4.15.0-1025-oracle, archname=x86_64-linux-thread-multi-ld
    uname='linux oracle1 4.15.0-1025-oracle #28-ubuntu smp mon sep 16 12:54:27 utc 2019 x86_64 x86_64 x86_64 gnulinux '
    config_args='-de -Dprefix=/home/njh/perl5/perlbrew/perls/perl-5.24.4-thread-multi-ld -Dusedevel -Duselongdouble -Dusethreads -Dusemultiplicity -Accflags=-O2 -W -Wformat=2 -Wswitch -Wshadow -Wwrite-strings -Wuninitialized -Wall -pipe -fomit-frame-pointer -pedantic -D_FORTIFY_SOURCE=2 -Wpointer-arith -Wstrict-prototypes -fstack-protector -Wstack-protector -Wextra -Wbad-function-cast -Wcast-align -Wcast-qual -Wdisabled-optimization -Wendif-labels -Wfloat-equal -Wformat-nonliteral -Winline -Wmissing-declarations -Wmissing-prototypes -Wnested-externs -Wpointer-arith -Wundef -Wformat-security -ftree-vectorize -msse -mfpmath=sse -msse2 -mssse3 -msse4.1 -msse4.2 -maes -fdiagnostics-color=auto -mtune=native -march=native -Aeval:scriptdir=/home/njh/perl5/perlbrew/perls/perl-5.24.4-thread-multi-ld/bin'
    hint=recommended, useposix=true, d_sigaction=define
    useithreads=define, usemultiplicity=define
    use64bitint=define, use64bitall=define, uselongdouble=define
    usemymalloc=n, bincompat5005=undef
  Compiler:
    cc='cc', ccflags ='-D_REENTRANT -D_GNU_SOURCE -O2 -W -Wformat=2 -Wswitch -Wshadow -Wwrite-strings -Wuninitialized -Wall -pipe -fomit-frame-pointer -pedantic -D_FORTIFY_SOURCE=2 -Wpointer-arith -Wstrict-prototypes -fstack-protector -Wstack-protector -Wextra -Wbad-function-cast -Wcast-align -Wcast-qual -Wdisabled-optimization -Wendif-labels -Wfloat-equal -Wformat-nonliteral -Winline -Wmissing-declarations -Wmissing-prototypes -Wnested-externs -Wpointer-arith -Wundef -Wformat-security -ftree-vectorize -msse -mfpmath=sse -msse2 -mssse3 -msse4.1 -msse4.2 -maes -fdiagnostics-color=auto -mtune=native -march=native -fwrapv -fno-strict-aliasing -fstack-protector-strong -I/usr/local/include -D_LARGEFILE_SOURCE -D_FILE_OFFSET_BITS=64',
    optimize='-O2',
    cppflags='-D_REENTRANT -D_GNU_SOURCE -O2 -W -Wformat=2 -Wswitch -Wshadow -Wwrite-strings -Wuninitialized -Wall -pipe -fomit-frame-pointer -pedantic -D_FORTIFY_SOURCE=2 -Wpointer-arith -Wstrict-prototypes -fstack-protector -Wstack-protector -Wextra -Wbad-function-cast -Wcast-align -Wcast-qual -Wdisabled-optimization -Wendif-labels -Wfloat-equal -Wformat-nonliteral -Winline -Wmissing-declarations -Wmissing-prototypes -Wnested-externs -Wpointer-arith -Wundef -Wformat-security -ftree-vectorize -msse -mfpmath=sse -msse2 -mssse3 -msse4.1 -msse4.2 -maes -fdiagnostics-color=auto -mtune=native -march=native -fwrapv -fno-strict-aliasing -fstack-protector-strong -I/usr/local/include'
    ccversion='', gccversion='7.4.0', gccosandvers=''
    intsize=4, longsize=8, ptrsize=8, doublesize=8, byteorder=12345678, doublekind=3
    d_longlong=define, longlongsize=8, d_longdbl=define, longdblsize=16, longdblkind=3
    ivtype='long', ivsize=8, nvtype='long double', nvsize=16, Off_t='off_t', lseeksize=8
    alignbytes=16, prototype=define
  Linker and Libraries:
    ld='cc', ldflags =' -fstack-protector-strong -L/usr/local/lib'
    libpth=/usr/local/lib /usr/lib/gcc/x86_64-linux-gnu/7/include-fixed /usr/include/x86_64-linux-gnu /usr/lib /lib/x86_64-linux-gnu /lib/../lib /usr/lib/x86_64-linux-gnu /usr/lib/../lib /lib
    libs=-lpthread -lnsl -lgdbm -ldb -ldl -lm -lcrypt -lutil -lc
    perllibs=-lpthread -lnsl -ldl -lm -lcrypt -lutil -lc
    libc=libc-2.27.so, so=so, useshrplib=false, libperl=libperl.a
    gnulibc_version='2.27'
  Dynamic Linking:
    dlsrc=dl_dlopen.xs, dlext=so, d_dlsymun=undef, ccdlflags='-Wl,-E'
    cccdlflags='-fPIC', lddlflags='-shared -O2 -L/usr/local/lib -fstack-protector-strong'


Characteristics of this binary (from libperl): 
  Compile-time options: HAS_TIMES MULTIPLICITY PERLIO_LAYERS
                        PERL_COPY_ON_WRITE PERL_DONT_CREATE_GVSV
                        PERL_HASH_FUNC_ONE_AT_A_TIME_HARD
                        PERL_IMPLICIT_CONTEXT PERL_MALLOC_WRAP
                        PERL_PRESERVE_IVUV PERL_USE_DEVEL USE_64_BIT_ALL
                        USE_64_BIT_INT USE_ITHREADS USE_LARGE_FILES
                        USE_LOCALE USE_LOCALE_COLLATE USE_LOCALE_CTYPE
                        USE_LOCALE_NUMERIC USE_LOCALE_TIME USE_LONG_DOUBLE
                        USE_PERLIO USE_PERL_ATOF USE_REENTRANT_API
  Locally applied patches:
	Devel::PatchPerl 1.64
  Built under linux
  Compiled at Sep 21 2019 19:47:46
  %ENV:
    PERL5LIB=""
    PERL5OPT=""
    PERL5_CPANPLUS_IS_RUNNING="5726"
    PERL5_CPAN_IS_RUNNING="5726"
    PERL5_CPAN_IS_RUNNING_IN_RECURSION="5723,5726"
    PERLBREW_LIB=""
    PERLBREW_MANPATH="/home/njh/perl5/perlbrew/perls/perl-5.24.4-thread-multi-ld/man"
    PERLBREW_PATH="/home/njh/perl5/perlbrew/bin:/home/njh/perl5/perlbrew/perls/perl-5.24.4-thread-multi-ld/bin"
    PERLBREW_PERL="perl-5.24.4-thread-multi-ld"
    PERLBREW_ROOT="/home/njh/perl5/perlbrew"
    PERLBREW_SHELLRC_VERSION="0.87"
    PERLBREW_VERSION="0.87"
    PERL_LOCAL_LIB_ROOT=""
    PERL_MM_USE_DEFAULT="1"
  @INC:
    /home/njh/perl5/perlbrew/perls/perl-5.24.4-thread-multi-ld/lib/site_perl/5.24.4/x86_64-linux-thread-multi-ld
    /home/njh/perl5/perlbrew/perls/perl-5.24.4-thread-multi-ld/lib/site_perl/5.24.4
    /home/njh/perl5/perlbrew/perls/perl-5.24.4-thread-multi-ld/lib/5.24.4/x86_64-linux-thread-multi-ld
    /home/njh/perl5/perlbrew/perls/perl-5.24.4-thread-multi-ld/lib/5.24.4
    .