Report for BioX-Workflow-1.0.2

Back
From: metabase:user:314402c4-2aae-11df-837a-5e0a49663a4f
Subject: PASS BioX-Workflow-1.0.2 v5.22.1 FreeBSD
Date: 2016-06-17T06:29:49Z

This distribution has been tested as part of the CPAN Testers
project, supporting the Perl programming language.  See
http://wiki.cpantesters.org/ for more information or email
questions to cpan-testers-discuss@perl.org


--
Dear Jillian Rowe,

This is a computer-generated report for BioX-Workflow-1.0.2
on perl 5.22.1, created by CPAN-Reporter-1.2015.

Thank you for uploading your work to CPAN.  Congratulations!
All tests were successful.

Sections of this report:

    * Tester comments
    * Program output
    * Prerequisites
    * Environment and other context

------------------------------
TESTER COMMENTS
------------------------------

Additional comments from tester:

none provided

------------------------------
PROGRAM OUTPUT
------------------------------

Output from './Build test':

t/author-pod-syntax.t .. skipped: these tests are for testing by the author
t/basic.t .............. ok
t/test_class_tests.t ... ok
All tests successful.
Files=3, Tests=4,  4 wallclock secs ( 0.02 usr  0.04 sys +  1.48 cusr  0.23 csys =  1.77 CPU)
Result: PASS

------------------------------
PREREQUISITES
------------------------------

Prerequisite modules loaded:

requires:

    Module                           Need     Have    
    -------------------------------- -------- --------
    BioX::Wrapper                    0        1.5     
    Carp::Always                     0        0.13    
    Class::Load                      0        0.23    
    Config::Any                      0        0.26    
    Cwd                              0        3.62    
    Data::Dumper                     0        2.158   
    Data::Pairs                      0        0.07    
    DateTime                         0        1.28    
    File::Basename                   0        2.85    
    File::Find::Rule                 0        0.34    
    File::Path                       0        2.09    
    Interpolation                    0        0.74    
    IO::File                         0        1.16    
    List::Compare                    0        0.53    
    List::Uniq                       0        0.20    
    Moose                            0        2.1802  
    Moose::Role                      0        2.1802  
    MooseX::FileAttribute            0        0.02    
    MooseX::Getopt                   0        0.70    
    MooseX::Getopt::Usage            0        0.24    
    MooseX::Getopt::Usage::Role::Man 0        0.24    
    MooseX::Object::Pluggable        0        0.0014  
    MooseX::SimpleConfig             0        0.11    
    MooseX::Types::Path::Tiny        0        0.011   
    perl                             5.008005 5.022001
    Slurp                            0        0.4     
    Storable                         0        2.53_01 
    String::CamelCase                0        0.02    
    Text::Template                   0        1.46    
    YAML::XS                         0        0.62    

build_requires:

    Module                           Need     Have    
    -------------------------------- -------- --------
    Capture::Tiny                    0        0.40    
    FindBin                          0        1.51    
    IPC::Cmd                         0        0.94    
    Module::Build                    0.28     0.4214  
    Slurp                            0        0.4     
    strict                           0        1.09    
    Test::Class::Moose               0        0.68    
    Test::Class::Moose::Load         0        0.68    
    Test::Class::Moose::Runner       0        0.68    
    Test::More                       0        1.302026

configure_requires:

    Module                           Need     Have    
    -------------------------------- -------- --------
    Module::Build                    0.28     0.4214  


------------------------------
ENVIRONMENT AND OTHER CONTEXT
------------------------------

Environment variables:

    LC_ALL = de_DE.ISO8859-1
    PATH = /usr/local/bin:/usr/bin:/bin:/usr/local/sbin:/usr/sbin:/sbin:/home/cpansand/bin/freebsd10.1:/home/cpansand/bin/sh:/home/cpansand/bin:/usr/games:/home/cpansand/devel:/home/eserte/src/srezic-misc/scripts
    PERL5LIB = /home/cpansand/.cpan/build/2016061706/MooseX-FileAttribute-0.02-NH_E9E/blib/arch:/home/cpansand/.cpan/build/2016061706/MooseX-FileAttribute-0.02-NH_E9E/blib/lib:/home/cpansand/.cpan/build/2016061706/App-hr-0.25-aUEsGJ/blib/arch:/home/cpansand/.cpan/build/2016061706/App-hr-0.25-aUEsGJ/blib/lib:/home/cpansand/.cpan/build/2016061706/PONAPI-Server-0.003000-nGBl_P/blib/arch:/home/cpansand/.cpan/build/2016061706/PONAPI-Server-0.003000-nGBl_P/blib/lib:/home/cpansand/.cpan/build/2016061706/PONAPI-Tools-0.001001-iUIcJ3/blib/arch:/home/cpansand/.cpan/build/2016061706/PONAPI-Tools-0.001001-iUIcJ3/blib/lib:/home/cpansand/.cpan/build/2016061706/Language-Expr-0.23-xd37Jx/blib/arch:/home/cpansand/.cpan/build/2016061706/Language-Expr-0.23-xd37Jx/blib/lib
    PERL5OPT = 
    PERL5_CPANPLUS_IS_RUNNING = 96054
    PERL5_CPAN_IS_RUNNING = 96054
    PERL5_CPAN_IS_RUNNING_IN_RECURSION = 96017,96054
    PERLDOC = -MPod::Perldoc::ToTextOverstrike
    PERL_BATCH = yes
    PERL_CANARY_STABILITY_NOPROMPT = 1
    PERL_CPAN_REPORTER_CONFIG = /var/tmp/cpansmoker-1023/2016061706/cpanreporter_000_config.ini
    PERL_EXTUTILS_AUTOINSTALL = --defaultdeps
    SHELL = /usr/local/bin/zsh
    TERM = screen
    TMPDIR = /var/tmp/cpansmoker-1023/2016061706

Perl special variables (and OS-specific diagnostics, for MSWin32):

    $^X = /usr/perl5.22.1p/bin/perl5.22.1
    $UID/$EUID = 1023 / 1023
    $GID = 1023 1023
    $EGID = 1023 1023

Perl module toolchain versions installed:

    Module              Have    
    ------------------- --------
    CPAN                2.11    
    CPAN::Meta          2.150005
    Cwd                 3.62    
    ExtUtils::CBuilder  0.280221
    ExtUtils::Command   7.18    
    ExtUtils::Install   2.04    
    ExtUtils::MakeMaker 7.18    
    ExtUtils::Manifest  1.70    
    ExtUtils::ParseXS   3.30    
    File::Spec          3.62    
    JSON                2.90    
    JSON::PP            2.27300 
    Module::Build       0.4214  
    Module::Signature   0.79    
    Parse::CPAN::Meta   1.4414  
    Test::Harness       3.35    
    Test::More          1.302026
    YAML                1.15    
    YAML::Syck          1.29    
    version             0.9917  


--

Summary of my perl5 (revision 5 version 22 subversion 1) configuration:
   
  Platform:
    osname=freebsd, osvers=10.1-release, archname=amd64-freebsd
    uname='freebsd cvrsnica-freebsd-101.herceg.de 10.1-release freebsd 10.1-release #0 r274401: tue nov 11 21:02:49 utc 2014 root@releng1.nyi.freebsd.org:usrobjusrsrcsysgeneric amd64 '
    config_args='-ds -e -Dprefix=/usr/perl5.22.1p -Dcf_email=srezic@cpan.org'
    hint=recommended, useposix=true, d_sigaction=define
    useithreads=undef, usemultiplicity=undef
    use64bitint=define, use64bitall=define, uselongdouble=undef
    usemymalloc=n, bincompat5005=undef
  Compiler:
    cc='cc', ccflags ='-DHAS_FPSETMASK -DHAS_FLOATINGPOINT_H -fno-strict-aliasing -pipe -fstack-protector -I/usr/local/include -D_FORTIFY_SOURCE=2',
    optimize='-O',
    cppflags='-DHAS_FPSETMASK -DHAS_FLOATINGPOINT_H -fno-strict-aliasing -pipe -fstack-protector -I/usr/local/include'
    ccversion='', gccversion='4.2.1 Compatible FreeBSD Clang 3.4.1 (tags/RELEASE_34/dot1-final 208032)', gccosandvers=''
    intsize=4, longsize=8, ptrsize=8, doublesize=8, byteorder=12345678, doublekind=3
    d_longlong=define, longlongsize=8, d_longdbl=define, longdblsize=16, longdblkind=3
    ivtype='long', ivsize=8, nvtype='double', nvsize=8, Off_t='off_t', lseeksize=8
    alignbytes=8, prototype=define
  Linker and Libraries:
    ld='cc', ldflags ='-pthread -Wl,-E  -fstack-protector -L/usr/local/lib'
    libpth=/usr/lib /usr/local/lib /usr/include/clang/3.4.1 /usr/lib
    libs=-lpthread -lgdbm -lm -lcrypt -lutil -lc
    perllibs=-lpthread -lm -lcrypt -lutil -lc
    libc=, so=so, useshrplib=false, libperl=libperl.a
    gnulibc_version=''
  Dynamic Linking:
    dlsrc=dl_dlopen.xs, dlext=so, d_dlsymun=undef, ccdlflags=' '
    cccdlflags='-DPIC -fPIC', lddlflags='-shared  -L/usr/local/lib -fstack-protector'


Characteristics of this binary (from libperl): 
  Compile-time options: HAS_TIMES PERLIO_LAYERS PERL_DONT_CREATE_GVSV
                        PERL_HASH_FUNC_ONE_AT_A_TIME_HARD PERL_MALLOC_WRAP
                        PERL_NEW_COPY_ON_WRITE PERL_PRESERVE_IVUV
                        USE_64_BIT_ALL USE_64_BIT_INT USE_LARGE_FILES
                        USE_LOCALE USE_LOCALE_COLLATE USE_LOCALE_CTYPE
                        USE_LOCALE_NUMERIC USE_LOCALE_TIME USE_PERLIO
                        USE_PERL_ATOF
  Built under freebsd
  Compiled at Dec 15 2015 07:47:22
  %ENV:
    PERL5LIB="/home/cpansand/.cpan/build/2016061706/MooseX-FileAttribute-0.02-NH_E9E/blib/arch:/home/cpansand/.cpan/build/2016061706/MooseX-FileAttribute-0.02-NH_E9E/blib/lib:/home/cpansand/.cpan/build/2016061706/App-hr-0.25-aUEsGJ/blib/arch:/home/cpansand/.cpan/build/2016061706/App-hr-0.25-aUEsGJ/blib/lib:/home/cpansand/.cpan/build/2016061706/PONAPI-Server-0.003000-nGBl_P/blib/arch:/home/cpansand/.cpan/build/2016061706/PONAPI-Server-0.003000-nGBl_P/blib/lib:/home/cpansand/.cpan/build/2016061706/PONAPI-Tools-0.001001-iUIcJ3/blib/arch:/home/cpansand/.cpan/build/2016061706/PONAPI-Tools-0.001001-iUIcJ3/blib/lib:/home/cpansand/.cpan/build/2016061706/Language-Expr-0.23-xd37Jx/blib/arch:/home/cpansand/.cpan/build/2016061706/Language-Expr-0.23-xd37Jx/blib/lib"
    PERL5OPT=""
    PERL5_CPANPLUS_IS_RUNNING="96054"
    PERL5_CPAN_IS_RUNNING="96054"
    PERL5_CPAN_IS_RUNNING_IN_RECURSION="96017,96054"
    PERLDOC="-MPod::Perldoc::ToTextOverstrike"
    PERL_BATCH="yes"
    PERL_CANARY_STABILITY_NOPROMPT="1"
    PERL_CPAN_REPORTER_CONFIG="/var/tmp/cpansmoker-1023/2016061706/cpanreporter_000_config.ini"
    PERL_EXTUTILS_AUTOINSTALL="--defaultdeps"
  @INC:
    /home/cpansand/.cpan/build/2016061706/MooseX-FileAttribute-0.02-NH_E9E/blib/arch
    /home/cpansand/.cpan/build/2016061706/MooseX-FileAttribute-0.02-NH_E9E/blib/lib
    /home/cpansand/.cpan/build/2016061706/App-hr-0.25-aUEsGJ/blib/arch
    /home/cpansand/.cpan/build/2016061706/App-hr-0.25-aUEsGJ/blib/lib
    /home/cpansand/.cpan/build/2016061706/PONAPI-Server-0.003000-nGBl_P/blib/arch
    /home/cpansand/.cpan/build/2016061706/PONAPI-Server-0.003000-nGBl_P/blib/lib
    /home/cpansand/.cpan/build/2016061706/PONAPI-Tools-0.001001-iUIcJ3/blib/arch
    /home/cpansand/.cpan/build/2016061706/PONAPI-Tools-0.001001-iUIcJ3/blib/lib
    /home/cpansand/.cpan/build/2016061706/Language-Expr-0.23-xd37Jx/blib/arch
    /home/cpansand/.cpan/build/2016061706/Language-Expr-0.23-xd37Jx/blib/lib
    /usr/perl5.22.1p/lib/site_perl/5.22.1/amd64-freebsd
    /usr/perl5.22.1p/lib/site_perl/5.22.1
    /usr/perl5.22.1p/lib/5.22.1/amd64-freebsd
    /usr/perl5.22.1p/lib/5.22.1
    .