Search-Elasticsearch-Client-2_0-Async v7.30_1 Perl 5 v5.18.4 x86_64-linux-thread-multi

Status
Unknown
From
David Cantrell (DCANTRELL)
Dist
Search-Elasticsearch-Client-2_0-Async v7.30_1
Platform
Perl 5 v5.18.4 x86_64-linux-thread-multi
Date
2020-08-06T17:40:16
ID
e3aa4b38-d80b-11ea-9445-818fa1724e2f
This distribution has been tested as part of the CPAN Testers
project, supporting the Perl programming language.  See
http://wiki.cpantesters.org/ for more information or email
questions to cpan-testers-discuss@perl.org


--
Dear Enrico Zimuel,

This is a computer-generated report for Search-Elasticsearch-Client-2_0-Async-7.30_1
on perl 5.18.4, created by CPAN-Reporter-1.2018.

Thank you for uploading your work to CPAN.  However, attempting to
test your distribution gave an inconclusive result.

This could be because your distribution had an error during the make/build
stage, did not define tests, tests could not be found, because your tests were
interrupted before they finished, or because the results of the tests could not
be parsed.  You may wish to consult the CPAN Testers Wiki:

http://wiki.cpantesters.org/wiki/CPANAuthorNotes

Sections of this report:

    * Tester comments
    * Program output
    * Prerequisites
    * Environment and other context

------------------------------
TESTER COMMENTS
------------------------------

Additional comments from tester:

this report is from an automated smoke testing program
and was not reviewed by a human for accuracy

------------------------------
PROGRAM OUTPUT
------------------------------

Output from '/usr/bin/make test':

PERL_DL_NONLAZY=1 /home/david/cpantesting/perl-5.18.4/bin/perl "-MExtUtils::Command::MM" "-e" "test_harness(0, 'blib/lib', 'blib/arch')" t/*.t t/Client_2_0_Async/*.t
t/author-eol.t ........................... skipped: these tests are for testing by the author
t/author-no-tabs.t ....................... skipped: these tests are for testing by the author
t/author-pod-syntax.t .................... skipped: these tests are for testing by the author
t/Client_2_0_Async/00_print_version.t .... skipped: No $ENV{CLIENT_VER} specified
t/Client_2_0_Async/10_live.t ............. skipped: No $ENV{CLIENT_VER} specified
t/Client_2_0_Async/15_conflict.t ......... skipped: No $ENV{CLIENT_VER} specified
t/Client_2_0_Async/20_fork_aehttp.t ...... skipped: No $ENV{CLIENT_VER} specified
t/Client_2_0_Async/21_fork_mojo.t ........ skipped: No $ENV{CLIENT_VER} specified
t/Client_2_0_Async/30_bulk_add_action.t .. skipped: No $ENV{CLIENT_VER} specified
t/Client_2_0_Async/31_bulk_helpers.t ..... skipped: No $ENV{CLIENT_VER} specified
t/Client_2_0_Async/32_bulk_flush.t ....... skipped: No $ENV{CLIENT_VER} specified
t/Client_2_0_Async/33_bulk_errors.t ...... skipped: No $ENV{CLIENT_VER} specified
t/Client_2_0_Async/34_bulk_cxn_errors.t .. skipped: No $ENV{CLIENT_VER} specified
t/Client_2_0_Async/40_scroll.t ........... skipped: No $ENV{CLIENT_VER} specified
t/Client_2_0_Async/50_reindex.t .......... skipped: No $ENV{CLIENT_VER} specified
t/Client_2_0_Async/60_auth_aehttp.t ...... skipped: AEHTTP - No https server specified in ES_SSL
t/Client_2_0_Async/61_auth_mojo.t ........ skipped: Mojo - No https server specified in ES_SSL
Files=17, Tests=0,  8 wallclock secs ( 0.04 usr  0.03 sys +  1.13 cusr  0.14 csys =  1.34 CPU)
Result: NOTESTS

------------------------------
PREREQUISITES
------------------------------

Prerequisite modules loaded:

requires:

    Module                                           Need Have    
    ------------------------------------------------ ---- --------
    Moo                                              0    2.004000
    namespace::clean                                 0    0.27    
    Promises                                         0    1.04    
    Scalar::Util                                     0    1.55    
    Search::Elasticsearch::Async::Util               0    7.30_1  
    Search::Elasticsearch::Client::2_0               7.00 7.30_1  
    Search::Elasticsearch::Client::2_0::Role::Bulk   0    7.30_1  
    Search::Elasticsearch::Client::2_0::Role::Scroll 0    7.30_1  
    Search::Elasticsearch::Role::Is_Async            0    7.30_1  
    Search::Elasticsearch::Util                      0    7.30_1  
    Try::Tiny                                        0    0.30    

build_requires:

    Module                                           Need Have    
    ------------------------------------------------ ---- --------
    AE                                               0    7.17    
    Data::Dumper                                     0    2.145   
    EV                                               0    4.33    
    ExtUtils::MakeMaker                              0    6.66    
    lib                                              0    0.63    
    Log::Any::Adapter                                0    1.708   
    Log::Any::Adapter::Callback                      0.09 0.101   
    Mojo::UserAgent                                  0    0       
    POSIX                                            0    1.32    
    Search::Elasticsearch                            0    7.30_1  
    Search::Elasticsearch::Async                     0    7.30_1  
    Search::Elasticsearch::Role::Cxn                 0    7.30_1  
    Search::Elasticsearch::Role::Cxn::Async          0    7.30_1  
    Search::Elasticsearch::Transport::Async          0    7.30_1  
    strict                                           0    1.07    
    Sub::Exporter                                    0    0.987   
    Test::Deep                                       0    1.128   
    Test::Exception                                  0    0.43    
    Test::More                                       0.98 1.302175
    warnings                                         0    1.18    


------------------------------
ENVIRONMENT AND OTHER CONTEXT
------------------------------

Environment variables:

    AUTOMATED_TESTING = 1
    LANG = en_US.UTF-8
    NONINTERACTIVE_TESTING = 1
    PATH = /usr/local/bin:/usr/bin:/bin:/usr/local/games:/usr/games
    PERL = 5.18.4
    PERL5LIB = 
    PERL5OPT = 
    PERL5_CPANPLUS_IS_RUNNING = 10653
    PERL5_CPAN_IS_RUNNING = 10653
    PERLVER = 5.18.4
    PERL_INLINE_DIRECTORY = /home/david/.Inline-5.18.4
    PERL_MM_USE_DEFAULT = 1
    PERL_USE_UNSAFE_INC = 0
    SHELL = /bin/bash
    TERM = screen

Perl special variables (and OS-specific diagnostics, for MSWin32):

    $^X = /home/david/cpantesting/perl-5.18.4/bin/perl
    $UID/$EUID = 1000 / 1000
    $GID = 1000 27 1000
    $EGID = 1000 27 1000

Perl module toolchain versions installed:

    Module              Have    
    ------------------- --------
    CPAN                2.00    
    CPAN::Meta          2.150010
    Cwd                 3.40    
    ExtUtils::CBuilder  0.280234
    ExtUtils::Command   1.17    
    ExtUtils::Install   1.59    
    ExtUtils::MakeMaker 6.66    
    ExtUtils::Manifest  1.63    
    ExtUtils::ParseXS   3.35    
    File::Spec          3.40    
    JSON                n/a     
    JSON::PP            4.02    
    Module::Build       0.4003  
    Module::Signature   n/a     
    Parse::CPAN::Meta   2.150010
    Test::Harness       3.42    
    Test::More          1.302175
    YAML                n/a     
    YAML::Syck          n/a     
    version             0.9902  


--

Summary of my perl5 (revision 5 version 18 subversion 4) configuration:
   
  Platform:
    osname=linux, osvers=4.9.0-8-amd64, archname=x86_64-linux-thread-multi
    uname='linux pigsty 4.9.0-8-amd64 #1 smp debian 4.9.144-3 (2019-02-02) x86_64 gnulinux '
    config_args='-de -Duse64bitall -Dusethreads -Dprefix=/home/david/cpantesting/perl-5.18.4 -A ccflags=-fwrapv'
    hint=previous, useposix=true, d_sigaction=define
    useithreads=define, usemultiplicity=define
    useperlio=define, d_sfio=undef, uselargefiles=define, usesocks=undef
    use64bitint=define, use64bitall=define, uselongdouble=undef
    usemymalloc=n, bincompat5005=undef
  Compiler:
    cc='cc', ccflags ='-D_REENTRANT -D_GNU_SOURCE -fno-strict-aliasing -pipe -fstack-protector -I/usr/local/include -D_LARGEFILE_SOURCE -D_FILE_OFFSET_BITS=64 -fwrapv -fwrapv',
    optimize='-O2',
    cppflags='-D_REENTRANT -D_GNU_SOURCE -fno-strict-aliasing -pipe -fstack-protector -I/usr/local/include -D_REENTRANT -D_GNU_SOURCE -fno-strict-aliasing -pipe -fstack-protector -I/usr/local/include -D_LARGEFILE_SOURCE -D_FILE_OFFSET_BITS=64 -fwrapv -D_REENTRANT -D_GNU_SOURCE -fno-strict-aliasing -pipe -fstack-protector -I/usr/local/include -D_LARGEFILE_SOURCE -D_FILE_OFFSET_BITS=64 -fwrapv -fwrapv'
    ccversion='', gccversion='6.3.0 20170516', gccosandvers=''
    intsize=4, longsize=8, ptrsize=8, doublesize=8, byteorder=12345678
    d_longlong=define, longlongsize=8, d_longdbl=define, longdblsize=16
    ivtype='long', ivsize=8, nvtype='double', nvsize=8, Off_t='off_t', lseeksize=8
    alignbytes=8, prototype=define
  Linker and Libraries:
    ld='cc', ldflags =' -fstack-protector -L/usr/local/lib'
    libpth=/usr/local/lib /lib/x86_64-linux-gnu /lib/../lib /usr/lib/x86_64-linux-gnu /usr/lib/../lib /lib /usr/lib
    libs=-lnsl -ldb -ldl -lm -lcrypt -lutil -lpthread -lc
    perllibs=-lnsl -ldl -lm -lcrypt -lutil -lpthread -lc
    libc=libc-2.24.so, so=so, useshrplib=false, libperl=libperl.a
    gnulibc_version='2.24'
  Dynamic Linking:
    dlsrc=dl_dlopen.xs, dlext=so, d_dlsymun=undef, ccdlflags='-Wl,-E'
    cccdlflags='-fPIC', lddlflags='-shared -O2 -L/usr/local/lib -fstack-protector'


Characteristics of this binary (from libperl): 
  Compile-time options: HAS_TIMES MULTIPLICITY PERLIO_LAYERS
                        PERL_DONT_CREATE_GVSV
                        PERL_HASH_FUNC_ONE_AT_A_TIME_HARD
                        PERL_IMPLICIT_CONTEXT PERL_MALLOC_WRAP
                        PERL_PRESERVE_IVUV PERL_SAWAMPERSAND USE_64_BIT_ALL
                        USE_64_BIT_INT USE_ITHREADS USE_LARGE_FILES
                        USE_LOCALE USE_LOCALE_COLLATE USE_LOCALE_CTYPE
                        USE_LOCALE_NUMERIC USE_PERLIO USE_PERL_ATOF
                        USE_REENTRANT_API
  Locally applied patches:
	Devel::PatchPerl 1.56
  Built under linux
  Compiled at Apr 25 2019 17:34:00
  %ENV:
    PERL="5.18.4"
    PERL5LIB=""
    PERL5OPT=""
    PERL5_CPANPLUS_IS_RUNNING="10653"
    PERL5_CPAN_IS_RUNNING="10653"
    PERLVER="5.18.4"
    PERL_INLINE_DIRECTORY="/home/david/.Inline-5.18.4"
    PERL_MM_USE_DEFAULT="1"
    PERL_USE_UNSAFE_INC="0"
  @INC:
    /home/david/cpantesting/perl-5.18.4/lib/site_perl/5.18.4/x86_64-linux-thread-multi
    /home/david/cpantesting/perl-5.18.4/lib/site_perl/5.18.4
    /home/david/cpantesting/perl-5.18.4/lib/5.18.4/x86_64-linux-thread-multi
    /home/david/cpantesting/perl-5.18.4/lib/5.18.4
    .