Report for CGI-Application-Plugin-DBH-4.00

Back
From: metabase:user:e7b34f46-36ca-11e0-a826-945c7ca43f85
Subject: PASS CGI-Application-Plugin-DBH-4.00 v5.14.2 Windows (Cygwin)
Date: 2012-08-05T15:19:02Z

This distribution has been tested as part of the CPAN Testers
project, supporting the Perl programming language.  See
http://wiki.cpantesters.org/ for more information or email
questions to cpan-testers-discuss@perl.org


--
Dear Mark Stosberg,

This is a computer-generated report for CGI-Application-Plugin-DBH-4.00
on perl 5.14.2, created by CPAN-Reporter-1.2006.

Thank you for uploading your work to CPAN.  Congratulations!
All tests were successful.

Sections of this report:

    * Tester comments
    * Program output
    * Prerequisites
    * Environment and other context

------------------------------
TESTER COMMENTS
------------------------------

Additional comments from tester:

this report is from an automated smoke testing program
and was not reviewed by a human for accuracy

------------------------------
PROGRAM OUTPUT
------------------------------

Output from './Build test':

t/auto_config.t ... ok
t/basic.t ......... ok
t/existing_dbh.t .. ok
t/multi_handle.t .. ok
t/pod.t ........... ok
All tests successful.
Files=5, Tests=30,  1 wallclock secs ( 0.02 usr  0.04 sys +  0.55 cusr  0.26 csys =  0.87 CPU)
Result: PASS

------------------------------
PREREQUISITES
------------------------------

Prerequisite modules loaded:

requires:

    Module           Need Have 
    ---------------- ---- -----
    CGI::Application 0    4.50 
    DBD::Mock        0.11 1.43 
    DBI              0    1.622


------------------------------
ENVIRONMENT AND OTHER CONTEXT
------------------------------

Environment variables:

    AUTOMATED_TESTING = 1
    COMSPEC = C:\WINDOWS\system32\cmd.exe
    LANG = en_US.UTF-8
    PATH = /usr/local/bin:/usr/bin:/cygdrive/c/WINDOWS/system32:/cygdrive/c/WINDOWS:/cygdrive/c/WINDOWS/System32/Wbem:/bin
    PERL5LIB = 
    PERL5OPT = 
    PERL5_CPANPLUS_IS_RUNNING = 1880
    PERL5_CPAN_IS_RUNNING = 1880
    PERL5_CPAN_IS_RUNNING_IN_RECURSION = 1532,1880
    PERL_CR_SMOKER_CURRENT = Helios-Panoptes-1.51_3070
    PERL_EXTUTILS_AUTOINSTALL = --defaultdeps
    PERL_MM_USE_DEFAULT = 1
    SHELL = /bin/bash
    TEMP = /tmp
    TERM = screen

Perl special variables (and OS-specific diagnostics, for MSWin32):

    $^X = /usr/bin/perl
    $UID/$EUID = 1003 / 1003
    $GID = 513 0 544 545 513
    $EGID = 513 0 544 545 513

Perl module toolchain versions installed:

    Module              Have     
    ------------------- ---------
    CPAN                1.9600_01
    CPAN::Meta          2.120921 
    Cwd                 3.36     
    ExtUtils::CBuilder  0.280203 
    ExtUtils::Command   1.17     
    ExtUtils::Install   1.56     
    ExtUtils::MakeMaker 6.62     
    ExtUtils::Manifest  1.58     
    ExtUtils::ParseXS   2.2210   
    File::Spec          3.33     
    JSON                2.53     
    JSON::PP            2.27200  
    Module::Build       0.4002   
    Module::Signature   n/a      
    Parse::CPAN::Meta   1.4404   
    Test::Harness       3.23     
    Test::More          0.98     
    YAML                0.84     
    YAML::Syck          1.20     
    version             0.88     


--

Summary of my perl5 (revision 5 version 14 subversion 2) configuration:
   
  Platform:
    osname=cygwin, osvers=1.7.15(0.26053), archname=cygwin-thread-multi-64int
    uname='cygwin_nt-5.1 winxp 1.7.15(0.26053) 2012-05-09 10:25 i686 cygwin '
    config_args='-de -Dlibperl=cygperl5_14.dll -Dcc=gcc-4 -Dld=g++-4 -Darchname=i686-cygwin-threads-64int -Dmksymlinks -Dusethreads -Accflags=-g'
    hint=recommended, useposix=true, d_sigaction=define
    useithreads=define, usemultiplicity=define
    useperlio=define, d_sfio=undef, uselargefiles=define, usesocks=undef
    use64bitint=define, use64bitall=undef, uselongdouble=undef
    usemymalloc=n, bincompat5005=undef
  Compiler:
    cc='gcc-4', ccflags ='-DPERL_USE_SAFE_PUTENV -U__STRICT_ANSI__ -g -fno-strict-aliasing -pipe -fstack-protector',
    optimize='-O3',
    cppflags='-DPERL_USE_SAFE_PUTENV -U__STRICT_ANSI__ -g -fno-strict-aliasing -pipe -fstack-protector'
    ccversion='', gccversion='4.5.3', gccosandvers=''
    intsize=4, longsize=4, ptrsize=4, doublesize=8, byteorder=12345678
    d_longlong=define, longlongsize=8, d_longdbl=define, longdblsize=12
    ivtype='long long', ivsize=8, nvtype='double', nvsize=8, Off_t='off_t', lseeksize=8
    alignbytes=8, prototype=define
  Linker and Libraries:
    ld='g++-4', ldflags =' -Wl,--enable-auto-import -Wl,--export-all-symbols -Wl,--enable-auto-image-base -fstack-protector -L/usr/local/lib'
    libpth=/usr/local/lib /usr/lib /lib
    libs=-lgdbm -ldb -ldl -lcrypt -lgdbm_compat
    perllibs=-ldl -lcrypt
    libc=/usr/lib/libc.a, so=dll, useshrplib=true, libperl=cygperl5_14.dll
    gnulibc_version=''
  Dynamic Linking:
    dlsrc=dl_dlopen.xs, dlext=dll, d_dlsymun=undef, ccdlflags=' '
    cccdlflags=' ', lddlflags=' --shared  -Wl,--enable-auto-import -Wl,--export-all-symbols -Wl,--enable-auto-image-base -L/usr/local/lib -fstack-protector'


Characteristics of this binary (from libperl): 
  Compile-time options: MULTIPLICITY PERL_DONT_CREATE_GVSV
                        PERL_IMPLICIT_CONTEXT PERL_PRESERVE_IVUV
                        PERL_USE_SAFE_PUTENV USE_64_BIT_INT USE_ITHREADS
                        USE_LARGE_FILES USE_PERLIO USE_PERL_ATOF
                        USE_REENTRANT_API
  Locally applied patches:
	Bug#55162 File::Spec::case_tolerant performance
	CYG07 $vendorarch/auto/.rebase
	CYG15 static Win32CORE
	CYG17 cyg-1.7 paths-utf8
	0c612ce82 Fix building static extensions on cygwin, -UUSEIMPORTLIB
	1bac5ecc1 Fix 64-bit threading sv.c: S_anonymise_cv_maybe
	Cygwin::sync_winenv added
  Built under cygwin
  Compiled at Jul 12 2012 14:17:21
  %ENV:
    PERL5LIB=""
    PERL5OPT=""
    PERL5_CPANPLUS_IS_RUNNING="1880"
    PERL5_CPAN_IS_RUNNING="1880"
    PERL5_CPAN_IS_RUNNING_IN_RECURSION="1532,1880"
    PERL_CR_SMOKER_CURRENT="Helios-Panoptes-1.51_3070"
    PERL_EXTUTILS_AUTOINSTALL="--defaultdeps"
    PERL_MM_USE_DEFAULT="1"
  @INC:
    /usr/lib/perl5/site_perl/5.14/i686-cygwin-threads-64int
    /usr/lib/perl5/site_perl/5.14
    /usr/lib/perl5/vendor_perl/5.14/i686-cygwin-threads-64int
    /usr/lib/perl5/vendor_perl/5.14
    /usr/lib/perl5/5.14/i686-cygwin-threads-64int
    /usr/lib/perl5/5.14
    /usr/lib/perl5/site_perl/5.10
    /usr/lib/perl5/vendor_perl/5.10
    /usr/lib/perl5/site_perl/5.8
    .