Geo-Coder-US-Census v0.02 Perl 5 v5.22.3 x86_64-linux-thread-multi

Status
Pass
From
Slaven Rezić (SREZIC)
Dist
Geo-Coder-US-Census v0.02
Platform
Perl 5 v5.22.3 x86_64-linux-thread-multi
Date
2018-02-22 13:32:55
ID
e37d05aa-17d4-11e8-946f-b7842df7b1a6
This distribution has been tested as part of the CPAN Testers
project, supporting the Perl programming language.  See
http://wiki.cpantesters.org/ for more information or email
questions to cpan-testers-discuss@perl.org


--
Dear Nigel Horne,

This is a computer-generated report for Geo-Coder-US-Census-0.02
on perl 5.22.3, created by CPAN-Reporter-1.2018.

Thank you for uploading your work to CPAN.  Congratulations!
All tests were successful.

Sections of this report:

    * Tester comments
    * Program output
    * Prerequisites
    * Environment and other context

------------------------------
TESTER COMMENTS
------------------------------

Additional comments from tester:

none provided

------------------------------
PROGRAM OUTPUT
------------------------------

Output from '/usr/bin/make test':

PERL_DL_NONLAZY=1 "/bbbike/perl-5.22.3t/bin/perl" "-MExtUtils::Command::MM" "-MTest::Harness" "-e" "undef *Test::Harness::Switches; test_harness(0, 'blib/lib', 'blib/arch')" t/*.t
# Testing Geo::Coder::US::Census 0.02, Perl 5.022003, /bbbike/perl-5.22.3t/bin/perl
t/00-load.t ..... ok
t/10-new.t ...... ok
t/boiler.t ...... ok
t/carp.t ........ ok
t/changes.t ..... skipped: Author tests not required for installation
t/coverage.t .... ok
t/critic.t ...... skipped: Author tests not required for installation
t/cv.t .......... skipped: Author tests not required for installation
t/dist.t ........ skipped: Author tests not required for installation
t/gv.t .......... skipped: Author tests not required for installation
t/kwalitee.t .... skipped: Author tests not required for installation
t/manifest.t .... skipped: Author tests not required for installation
t/metrics.t ..... skipped: Author tests not required for installation
t/namespaces.t .. skipped: Author tests not required for installation
t/noplan.t ...... skipped: Author tests not required for installation
t/pod-cm.t ...... skipped: Test::Pod::Spelling::CommonMistakes required for testing POD spelling
t/pod.t ......... skipped: Author tests not required for installation
t/port.t ........ skipped: Test::Portability::Files required for testing filenames portability
t/prereq.t ...... skipped: Author tests not required for installation
t/snippets.t .... skipped: Author tests not required for installation
t/spelling.t .... skipped: Author tests not required for installation
t/strict.t ...... skipped: Author tests not required for installation
t/unused.t ...... skipped: Author tests not required for installation
t/us.t .......... ok
t/used.t ........ skipped: Author tests not required for installation
t/vars.t ........ skipped: Author tests not required for installation
All tests successful.

Test Summary Report
-------------------
t/boiler.t    (Wstat: 0 Tests: 3 Failed: 0)
  TODO passed:   1-3
Files=26, Tests=17,  8 wallclock secs ( 0.09 usr  0.15 sys +  3.24 cusr  0.92 csys =  4.40 CPU)
Result: PASS

------------------------------
PREREQUISITES
------------------------------

Prerequisite modules loaded:

requires:

    Module                 Need     Have    
    ---------------------- -------- --------
    Encode                 0        2.88    
    Geo::StreetAddress::US 0        1.04    
    HTTP::Request          0        6.11    
    JSON                   0        2.90    
    LWP::Protocol::https   0        6.06    
    LWP::UserAgent         0        6.15    
    Net::SSLeay            1.81     1.84    
    perl                   5.006002 5.022003
    URI                    0        1.71    

build_requires:

    Module                 Need     Have    
    ---------------------- -------- --------
    ExtUtils::MakeMaker    0        7.24    
    Test::Carp             0        0.2     
    Test::LWP::UserAgent   0        0.031   
    Test::Most             0        0.35    
    Test::NoWarnings       0        1.04    
    Test::Number::Delta    0        1.06    

configure_requires:

    Module                 Need     Have    
    ---------------------- -------- --------
    ExtUtils::MakeMaker    0        7.24    


------------------------------
ENVIRONMENT AND OTHER CONTEXT
------------------------------

Environment variables:

    LANG = C
    PATH = /usr/local/bin:/usr/bin:/bin:/usr/local/sbin:/usr/sbin:/sbin:/home/cpansand/bin/linux-gnu:/home/cpansand/bin/sh:/home/cpansand/bin:/usr/games:/home/cpansand/devel:/home/eserte/src/srezic-misc/scripts
    PERL5LIB = /home/cpansand/.cpan/build/2018022212/Test-Carp-0.2-XROMlm/blib/arch:/home/cpansand/.cpan/build/2018022212/Test-Carp-0.2-XROMlm/blib/lib:/home/cpansand/.cpan/build/2018022212/Geo-StreetAddress-US-1.04-uWDCoQ/blib/arch:/home/cpansand/.cpan/build/2018022212/Geo-StreetAddress-US-1.04-uWDCoQ/blib/lib:/home/cpansand/.cpan/build/2018022212/Net-SSLeay-1.84-FzzPBO/blib/arch:/home/cpansand/.cpan/build/2018022212/Net-SSLeay-1.84-FzzPBO/blib/lib
    PERL5OPT = 
    PERL5_CPANPLUS_IS_RUNNING = 5447
    PERL5_CPAN_IS_RUNNING = 5447
    PERL5_CPAN_IS_RUNNING_IN_RECURSION = 8535,5447
    PERLDOC = -MPod::Perldoc::ToTextOverstrike
    PERL_BATCH = yes
    PERL_CANARY_STABILITY_NOPROMPT = 1
    PERL_CPAN_REPORTER_CONFIG = /var/tmp/cpansmoker-1023/2018022212/cpanreporter_000_config.ini
    PERL_EXTUTILS_AUTOINSTALL = --defaultdeps
    SHELL = /bin/zsh
    TERM = screen
    TMPDIR = /var/tmp/cpansmoker-1023/2018022212

Perl special variables (and OS-specific diagnostics, for MSWin32):

    $^X = /bbbike/perl-5.22.3t/bin/perl
    $UID/$EUID = 1023 / 1023
    $GID = 1023 1023
    $EGID = 1023 1023

Perl module toolchain versions installed:

    Module              Have    
    ------------------- --------
    CPAN                2.11_01 
    CPAN::Meta          2.150010
    Cwd                 3.62    
    ExtUtils::CBuilder  0.280224
    ExtUtils::Command   7.24    
    ExtUtils::Install   2.04    
    ExtUtils::MakeMaker 7.24    
    ExtUtils::Manifest  1.70    
    ExtUtils::ParseXS   3.30    
    File::Spec          3.62    
    JSON                2.90    
    JSON::PP            2.27400 
    Module::Build       0.4220  
    Module::Signature   n/a     
    Parse::CPAN::Meta   2.150010
    Test::Harness       3.36    
    Test::More          1.302075
    YAML                1.21    
    YAML::Syck          1.29    
    version             0.9917  


--

Summary of my perl5 (revision 5 version 22 subversion 3) configuration:
   
  Platform:
    osname=linux, osvers=3.16.0-4-amd64, archname=x86_64-linux-thread-multi
    uname='linux eserte 3.16.0-4-amd64 #1 smp debian 3.16.39-1 (2016-12-30) x86_64 gnulinux '
    config_args='-ds -e -Dprefix=/opt/perl-5.22.3t -Dusethreads -Dcf_email=srezic@cpan.org'
    hint=recommended, useposix=true, d_sigaction=define
    useithreads=define, usemultiplicity=define
    use64bitint=define, use64bitall=define, uselongdouble=undef
    usemymalloc=n, bincompat5005=undef
  Compiler:
    cc='cc', ccflags ='-D_REENTRANT -D_GNU_SOURCE -fwrapv -fno-strict-aliasing -pipe -fstack-protector-strong -I/usr/local/include -D_LARGEFILE_SOURCE -D_FILE_OFFSET_BITS=64 -D_FORTIFY_SOURCE=2',
    optimize='-O2',
    cppflags='-D_REENTRANT -D_GNU_SOURCE -fwrapv -fno-strict-aliasing -pipe -fstack-protector-strong -I/usr/local/include'
    ccversion='', gccversion='4.9.2', gccosandvers=''
    intsize=4, longsize=8, ptrsize=8, doublesize=8, byteorder=12345678, doublekind=3
    d_longlong=define, longlongsize=8, d_longdbl=define, longdblsize=16, longdblkind=3
    ivtype='long', ivsize=8, nvtype='double', nvsize=8, Off_t='off_t', lseeksize=8
    alignbytes=8, prototype=define
  Linker and Libraries:
    ld='cc', ldflags =' -fstack-protector-strong -L/usr/local/lib'
    libpth=/usr/local/lib /usr/lib/gcc/x86_64-linux-gnu/4.9/include-fixed /usr/include/x86_64-linux-gnu /usr/lib /lib/x86_64-linux-gnu /lib/../lib /usr/lib/x86_64-linux-gnu /usr/lib/../lib /lib
    libs=-lpthread -lnsl -lgdbm -ldb -ldl -lm -lcrypt -lutil -lc -lgdbm_compat
    perllibs=-lpthread -lnsl -ldl -lm -lcrypt -lutil -lc
    libc=libc-2.19.so, so=so, useshrplib=false, libperl=libperl.a
    gnulibc_version='2.19'
  Dynamic Linking:
    dlsrc=dl_dlopen.xs, dlext=so, d_dlsymun=undef, ccdlflags='-Wl,-E'
    cccdlflags='-fPIC', lddlflags='-shared -O2 -L/usr/local/lib -fstack-protector-strong'


Characteristics of this binary (from libperl): 
  Compile-time options: HAS_TIMES MULTIPLICITY PERLIO_LAYERS
                        PERL_DONT_CREATE_GVSV
                        PERL_HASH_FUNC_ONE_AT_A_TIME_HARD
                        PERL_IMPLICIT_CONTEXT PERL_MALLOC_WRAP
                        PERL_NEW_COPY_ON_WRITE PERL_PRESERVE_IVUV
                        USE_64_BIT_ALL USE_64_BIT_INT USE_ITHREADS
                        USE_LARGE_FILES USE_LOCALE USE_LOCALE_COLLATE
                        USE_LOCALE_CTYPE USE_LOCALE_NUMERIC USE_LOCALE_TIME
                        USE_PERLIO USE_PERL_ATOF USE_REENTRANT_API
  Built under linux
  Compiled at Jan 17 2017 19:09:56
  %ENV:
    PERL5LIB="/home/cpansand/.cpan/build/2018022212/Test-Carp-0.2-XROMlm/blib/arch:/home/cpansand/.cpan/build/2018022212/Test-Carp-0.2-XROMlm/blib/lib:/home/cpansand/.cpan/build/2018022212/Geo-StreetAddress-US-1.04-uWDCoQ/blib/arch:/home/cpansand/.cpan/build/2018022212/Geo-StreetAddress-US-1.04-uWDCoQ/blib/lib:/home/cpansand/.cpan/build/2018022212/Net-SSLeay-1.84-FzzPBO/blib/arch:/home/cpansand/.cpan/build/2018022212/Net-SSLeay-1.84-FzzPBO/blib/lib"
    PERL5OPT=""
    PERL5_CPANPLUS_IS_RUNNING="5447"
    PERL5_CPAN_IS_RUNNING="5447"
    PERL5_CPAN_IS_RUNNING_IN_RECURSION="8535,5447"
    PERLDOC="-MPod::Perldoc::ToTextOverstrike"
    PERL_BATCH="yes"
    PERL_CANARY_STABILITY_NOPROMPT="1"
    PERL_CPAN_REPORTER_CONFIG="/var/tmp/cpansmoker-1023/2018022212/cpanreporter_000_config.ini"
    PERL_EXTUTILS_AUTOINSTALL="--defaultdeps"
  @INC:
    /home/cpansand/.cpan/build/2018022212/Test-Carp-0.2-XROMlm/blib/arch
    /home/cpansand/.cpan/build/2018022212/Test-Carp-0.2-XROMlm/blib/lib
    /home/cpansand/.cpan/build/2018022212/Geo-StreetAddress-US-1.04-uWDCoQ/blib/arch
    /home/cpansand/.cpan/build/2018022212/Geo-StreetAddress-US-1.04-uWDCoQ/blib/lib
    /home/cpansand/.cpan/build/2018022212/Net-SSLeay-1.84-FzzPBO/blib/arch
    /home/cpansand/.cpan/build/2018022212/Net-SSLeay-1.84-FzzPBO/blib/lib
    /opt/perl-5.22.3t/lib/site_perl/5.22.3/x86_64-linux-thread-multi
    /opt/perl-5.22.3t/lib/site_perl/5.22.3
    /opt/perl-5.22.3t/lib/5.22.3/x86_64-linux-thread-multi
    /opt/perl-5.22.3t/lib/5.22.3
    .