MouseX-NativeTraits v1.09 Perl 5 v5.39.6 x86_64-linux
- Status
- Pass
- From
- Slaven Rezić
- Dist
-
MouseX-NativeTraits v1.09
- Platform
- Perl 5 v5.39.6 x86_64-linux
- Date
- 2024-01-13 16:50:42
- ID
- e35c27ea-b233-11ee-83ff-fc366e8775ea
This distribution has been tested as part of the CPAN Testers
project, supporting the Perl programming language. See
http://wiki.cpantesters.org/ for more information or email
questions to cpan-testers-discuss@perl.org
--
Dear Goro Fuji,
This is a computer-generated report for MouseX-NativeTraits-1.09
on perl 5.39.6, created by CPAN-Reporter-1.2019.
Thank you for uploading your work to CPAN. Congratulations!
All tests were successful.
Sections of this report:
* Tester comments
* Program output
* Prerequisites
* Environment and other context
------------------------------
TESTER COMMENTS
------------------------------
Additional comments from tester:
none provided
------------------------------
PROGRAM OUTPUT
------------------------------
Output from '/usr/bin/make test':
PERL_DL_NONLAZY=1 "/opt/perl-5.39.6/bin/perl5.39.6" "-MExtUtils::Command::MM" "-MTest::Harness" "-e" "\$ENV{q{ANY_MOOSE}} = q{Mouse}; undef *Test::Harness::Switches; test_harness(0, 'inc', 'blib/lib', 'blib/arch'); " t/*.t t/070_native_traits/*.t
# Testing MouseX::NativeTraits/1.09
# Dependencies:
# Mouse/v2.5.10
t/00_load.t ...................................... ok
Any::Moose is deprecated. Please use Moo instead at t/01_basic.t line 8.
t/01_basic.t ..................................... ok
Any::Moose is deprecated. Please use Moo instead at t/02_meta.t line 7.
t/02_meta.t ...................................... ok
t/03_extra.t ..................................... ok
t/04_counter.t ................................... ok
t/05_remain_tied.t ............................... ok
Any::Moose is deprecated. Please use Moo instead at t/070_native_traits/010_trait_array.t line 8.
t/070_native_traits/010_trait_array.t ............ ok
Any::Moose is deprecated. Please use Moo instead at t/070_native_traits/011_array_subtypes.t line 8.
t/070_native_traits/011_array_subtypes.t ......... ok
t/070_native_traits/012_array_trigger.t .......... ok
t/070_native_traits/013_array_coerce.t ........... skipped: Not supported by MouseX::NativeTraits
Any::Moose is deprecated. Please use Moo instead at t/070_native_traits/020_trait_bool.t line 8.
t/070_native_traits/020_trait_bool.t ............. ok
Any::Moose is deprecated. Please use Moo instead at t/070_native_traits/030_trait_code.t line 6.
t/070_native_traits/030_trait_code.t ............. ok
Any::Moose is deprecated. Please use Moo instead at t/070_native_traits/040_trait_counter.t line 8.
t/070_native_traits/040_trait_counter.t .......... ok
Any::Moose is deprecated. Please use Moo instead at t/070_native_traits/050_trait_hash.t line 8.
t/070_native_traits/050_trait_hash.t ............. ok
t/070_native_traits/051_hash_subtypes.t .......... ok
t/070_native_traits/052_hash_trigger.t ........... ok
t/070_native_traits/053_hash_coerce.t ............ skipped: Not supported by MouseX::NativeTraits
Any::Moose is deprecated. Please use Moo instead at t/070_native_traits/060_trait_number.t line 8.
t/070_native_traits/060_trait_number.t ........... ok
Any::Moose is deprecated. Please use Moo instead at t/070_native_traits/070_trait_string.t line 8.
t/070_native_traits/070_trait_string.t ........... ok
t/070_native_traits/100_array_from_role.t ........ ok
t/070_native_traits/101_remove_attribute.t ....... skipped: Not supported by MouseX::NativeTraits
t/070_native_traits/102_collection_with_roles.t .. ok
t/070_native_traits/103_custom_instance.t ........ skipped: not supproted by MouseX::NativeTraits
All tests successful.
Files=23, Tests=3482, 2 wallclock secs ( 0.28 usr 0.07 sys + 1.89 cusr 0.41 csys = 2.65 CPU)
Result: PASS
------------------------------
PREREQUISITES
------------------------------
Prerequisite modules loaded:
requires:
Module Need Have
------------------- -------- --------
Mouse 0.82 v2.5.10
perl 5.006002 5.039006
build_requires:
Module Need Have
------------------- -------- --------
Any::Moose 0.13 0.27
ExtUtils::MakeMaker 6.59 7.70
Test::Fatal 0.003 0.017
Test::More 0.88 1.302198
configure_requires:
Module Need Have
------------------- -------- --------
ExtUtils::MakeMaker 6.59 7.70
------------------------------
ENVIRONMENT AND OTHER CONTEXT
------------------------------
Environment variables:
LANG = en_US.UTF-8
PATH = /usr/local/bin:/usr/bin:/bin:/usr/local/sbin:/usr/sbin:/sbin:/home/cpansand/bin/linux-gnu:/home/cpansand/bin/sh:/home/cpansand/bin:/usr/games:/home/cpansand/devel:/home/eserte/src/srezic-misc/scripts
PERL5LIB = /home/cpansand/.cpan/build/2024011316/Any-Moose-0.27-4/blib/arch:/home/cpansand/.cpan/build/2024011316/Any-Moose-0.27-4/blib/lib:/home/cpansand/.cpan/build/2024011316/Array-IntSpan-2.004-4/blib/arch:/home/cpansand/.cpan/build/2024011316/Array-IntSpan-2.004-4/blib/lib
PERL5OPT =
PERL5_CPANPLUS_IS_RUNNING = 193605
PERL5_CPAN_IS_RUNNING = 193605
PERL5_CPAN_IS_RUNNING_IN_RECURSION = 183589,193605
PERLDOC = -MPod::Perldoc::ToTextOverstrike
PERL_BATCH = yes
PERL_CANARY_STABILITY_NOPROMPT = 1
PERL_CPAN_REPORTER_CONFIG = /var/tmp/cpansmoker-1023/2024011316/cpanreporter_000_config.ini
PERL_EXTUTILS_AUTOINSTALL = --defaultdeps
PERL_USE_UNSAFE_INC = 1
SHELL = /usr/bin/zsh
TERM = screen
TMPDIR = /var/tmp/cpansmoker-1023/2024011316
Perl special variables (and OS-specific diagnostics, for MSWin32):
$^X = /opt/perl-5.39.6/bin/perl5.39.6
$UID/$EUID = 1023 / 1023
$GID = 1023 1023
$EGID = 1023 1023
Perl module toolchain versions installed:
Module Have
------------------- --------
CPAN 2.36
CPAN::Meta 2.150010
Cwd 3.90
ExtUtils::CBuilder 0.280240
ExtUtils::Command 7.70
ExtUtils::Install 2.22
ExtUtils::MakeMaker 7.70
ExtUtils::Manifest 1.75
ExtUtils::ParseXS 3.51
File::Spec 3.90
JSON 4.10
JSON::PP 4.16
Module::Build 0.4234
Module::Signature n/a
Parse::CPAN::Meta 2.150010
Test2 1.302198
Test::Harness 3.48
Test::More 1.302198
YAML 1.31
YAML::Syck 1.34
version 0.9930
--
Summary of my perl5 (revision 5 version 39 subversion 6) configuration:
Platform:
osname=linux
osvers=6.6.8-100.fc38.x86_64
archname=x86_64-linux
uname='linux fedora39-2gb-hil 6.6.8-100.fc38.x86_64 #1 smp preempt_dynamic thu dec 21 04:01:45 utc 2023 x86_64 gnulinux '
config_args='-ds -e -Dprefix=/opt/perl-5.39.6 -Dusedevel -Dusemallocwrap=no -Dcf_email=srezic@cpan.org'
hint=recommended
useposix=true
d_sigaction=define
useithreads=undef
usemultiplicity=undef
use64bitint=define
use64bitall=define
uselongdouble=undef
usemymalloc=n
default_inc_excludes_dot=define
Compiler:
cc='cc'
ccflags ='-fwrapv -fno-strict-aliasing -pipe -fstack-protector-strong -I/usr/local/include -D_LARGEFILE_SOURCE -D_FILE_OFFSET_BITS=64 -D_FORTIFY_SOURCE=2'
optimize='-O2'
cppflags='-fwrapv -fno-strict-aliasing -pipe -fstack-protector-strong -I/usr/local/include'
ccversion=''
gccversion='13.2.1 20231205 (Red Hat 13.2.1-6)'
gccosandvers=''
intsize=4
longsize=8
ptrsize=8
doublesize=8
byteorder=12345678
doublekind=3
d_longlong=define
longlongsize=8
d_longdbl=define
longdblsize=16
longdblkind=3
ivtype='long'
ivsize=8
nvtype='double'
nvsize=8
Off_t='off_t'
lseeksize=8
alignbytes=8
prototype=define
Linker and Libraries:
ld='cc'
ldflags =' -fstack-protector-strong -L/usr/local/lib'
libpth=/usr/local/lib /usr/lib /usr/lib64 /usr/local/lib64
libs=-lpthread -ldb -ldl -lm -lcrypt -lutil -lc
perllibs=-lpthread -ldl -lm -lcrypt -lutil -lc
libc=/lib/../lib64/libc.so.6
so=so
useshrplib=false
libperl=libperl.a
gnulibc_version='2.38'
Dynamic Linking:
dlsrc=dl_dlopen.xs
dlext=so
d_dlsymun=undef
ccdlflags='-Wl,-E'
cccdlflags='-fPIC'
lddlflags='-shared -O2 -L/usr/local/lib -fstack-protector-strong'
Characteristics of this binary (from libperl):
Compile-time options:
HAS_LONG_DOUBLE
HAS_STRTOLD
HAS_TIMES
PERLIO_LAYERS
PERL_COPY_ON_WRITE
PERL_DONT_CREATE_GVSV
PERL_HASH_FUNC_SIPHASH13
PERL_HASH_USE_SBOX32
PERL_OP_PARENT
PERL_PRESERVE_IVUV
PERL_USE_DEVEL
PERL_USE_SAFE_PUTENV
USE_64_BIT_ALL
USE_64_BIT_INT
USE_LARGE_FILES
USE_LOCALE
USE_LOCALE_COLLATE
USE_LOCALE_CTYPE
USE_LOCALE_NUMERIC
USE_LOCALE_TIME
USE_PERLIO
USE_PERL_ATOF
Built under linux
Compiled at Dec 31 2023 08:12:44
%ENV:
PERL5LIB="/home/cpansand/.cpan/build/2024011316/Any-Moose-0.27-4/blib/arch:/home/cpansand/.cpan/build/2024011316/Any-Moose-0.27-4/blib/lib:/home/cpansand/.cpan/build/2024011316/Array-IntSpan-2.004-4/blib/arch:/home/cpansand/.cpan/build/2024011316/Array-IntSpan-2.004-4/blib/lib"
PERL5OPT=""
PERL5_CPANPLUS_IS_RUNNING="193605"
PERL5_CPAN_IS_RUNNING="193605"
PERL5_CPAN_IS_RUNNING_IN_RECURSION="183589,193605"
PERLDOC="-MPod::Perldoc::ToTextOverstrike"
PERL_BATCH="yes"
PERL_CANARY_STABILITY_NOPROMPT="1"
PERL_CPAN_REPORTER_CONFIG="/var/tmp/cpansmoker-1023/2024011316/cpanreporter_000_config.ini"
PERL_EXTUTILS_AUTOINSTALL="--defaultdeps"
PERL_USE_UNSAFE_INC="1"
@INC:
/home/cpansand/.cpan/build/2024011316/Any-Moose-0.27-4/blib/arch
/home/cpansand/.cpan/build/2024011316/Any-Moose-0.27-4/blib/lib
/home/cpansand/.cpan/build/2024011316/Array-IntSpan-2.004-4/blib/arch
/home/cpansand/.cpan/build/2024011316/Array-IntSpan-2.004-4/blib/lib
/opt/perl-5.39.6/lib/site_perl/5.39.6/x86_64-linux
/opt/perl-5.39.6/lib/site_perl/5.39.6
/opt/perl-5.39.6/lib/5.39.6/x86_64-linux
/opt/perl-5.39.6/lib/5.39.6
.