Report for Orochi-0.00010

Back
From: metabase:user:b53c7f44-4c0e-11e4-9ced-a04ade49192c
Subject: PASS Orochi-0.00010 v5.8.8 GNU/Linux
Date: 2015-04-15T01:15:21Z

This distribution has been tested as part of the CPAN Testers
project, supporting the Perl programming language.  See
http://wiki.cpantesters.org/ for more information or email
questions to cpan-testers-discuss@perl.org


--
Dear Daisuke Maki,

This is a computer-generated report for Orochi-0.00010
on perl 5.8.8, created by CPAN-Reporter-1.2011.

Thank you for uploading your work to CPAN.  Congratulations!
All tests were successful.

Sections of this report:

    * Tester comments
    * Program output
    * Prerequisites
    * Environment and other context

------------------------------
TESTER COMMENTS
------------------------------

Additional comments from tester:

this report is from an automated smoke testing program
and was not reviewed by a human for accuracy

------------------------------
PROGRAM OUTPUT
------------------------------

Output from '/usr/bin/make test':

PERL_DL_NONLAZY=1 "/opt/perl492-32-O0-5.8.8/bin/perl" "-MExtUtils::Command::MM" "-MTest::Harness" "-e" "undef *Test::Harness::Switches; test_harness(0, 'inc', 'blib/lib', 'blib/arch')" t/*.t
Class::MOP::is_class_loaded is deprecated at /opt/perl492-32-O0-5.8.8/lib/site_perl/5.8.8/i686-linux-thread-multi-64int-ld/Class/MOP.pm line 87.
	Class::MOP::is_class_loaded("Test::MockObject") called at /root/.cpan/build/Orochi-0.00010-9wXFBV/blib/lib/Orochi/Injection/Constructor.pm line 58
	Orochi::Injection::Constructor::construct_object(Orochi::Injection::Constructor=HASH(0x98ddd30), Orochi=HASH(0x8bc62a4), ARRAY(0x96f962c)) called at /root/.cpan/build/Orochi-0.00010-9wXFBV/blib/lib/Orochi/Injection/Constructor.pm line 50
	Orochi::Injection::Constructor::expand(Orochi::Injection::Constructor=HASH(0x98ddd30), Orochi=HASH(0x8bc62a4)) called at /root/.cpan/build/Orochi-0.00010-9wXFBV/blib/lib/Orochi.pm line 88
	eval {...} called at /root/.cpan/build/Orochi-0.00010-9wXFBV/blib/lib/Orochi.pm line 87
	Orochi::get(Orochi=HASH(0x8bc62a4), "/myapp/foo") called at t/001_constructor.t line 13
t/001_constructor.t ... ok
t/002_declare.t ....... ok
Class::MOP::is_class_loaded is deprecated at /opt/perl492-32-O0-5.8.8/lib/site_perl/5.8.8/i686-linux-thread-multi-64int-ld/Class/MOP.pm line 87.
	Class::MOP::is_class_loaded("Orochi::Test::MooseBased1") called at /root/.cpan/build/Orochi-0.00010-9wXFBV/blib/lib/Orochi.pm line 213
	Orochi::inject_class(Orochi=HASH(0x91b52a4), "Orochi::Test::MooseBased1") called at t/300_moosex.t line 10
Class::MOP::load_class is deprecated at /opt/perl492-32-O0-5.8.8/lib/site_perl/5.8.8/i686-linux-thread-multi-64int-ld/Class/MOP.pm line 69.
	Class::MOP::load_class("Orochi::Test::MooseBased1") called at /root/.cpan/build/Orochi-0.00010-9wXFBV/blib/lib/Orochi.pm line 213
	Orochi::inject_class(Orochi=HASH(0x91b52a4), "Orochi::Test::MooseBased1") called at t/300_moosex.t line 10
Class::MOP::is_class_loaded is deprecated at /opt/perl492-32-O0-5.8.8/lib/site_perl/5.8.8/i686-linux-thread-multi-64int-ld/Class/MOP.pm line 87.
	Class::MOP::is_class_loaded("Orochi::Injection::Constructor") called at /root/.cpan/build/Orochi-0.00010-9wXFBV/blib/lib/MooseX/Orochi.pm line 42
	MooseX::Orochi::bind_constructor(Moose::Meta::Class::__ANON__::SERIAL::3=HASH(0x9f42428), "/orochi/test/MooseBased1", "args", HASH(0x9e05954)) called at /opt/perl492-32-O0-5.8.8/lib/site_perl/5.8.8/i686-linux-thread-multi-64int-ld/Moose/Exporter.pm line 419
	MooseX::Orochi::bind_constructor("/orochi/test/MooseBased1", "args", HASH(0x9e05954)) called at t/lib/Orochi/Test/MooseBased1.pm line 5
	require Orochi/Test/MooseBased1.pm called at /opt/perl492-32-O0-5.8.8/lib/site_perl/5.8.8/Module/Runtime.pm line 313
	Module::Runtime::require_module("Orochi::Test::MooseBased1") called at /opt/perl492-32-O0-5.8.8/lib/site_perl/5.8.8/Class/Load.pm line 180
	Class::Load::try {...} () called at /opt/perl492-32-O0-5.8.8/lib/site_perl/5.8.8/Try/Tiny.pm line 76
	eval {...} called at /opt/perl492-32-O0-5.8.8/lib/site_perl/5.8.8/Try/Tiny.pm line 72
	Try::Tiny::try(CODE(0x9e7861c), Try::Tiny::Catch=REF(0x9e787fc)) called at /opt/perl492-32-O0-5.8.8/lib/site_perl/5.8.8/Class/Load.pm line 186
	Class::Load::try_load_class("Orochi::Test::MooseBased1", undef) called at /opt/perl492-32-O0-5.8.8/lib/site_perl/5.8.8/Class/Load.pm line 41
	Class::Load::load_class("Orochi::Test::MooseBased1") called at /root/.cpan/build/Orochi-0.00010-9wXFBV/blib/lib/Orochi.pm line 213
	Orochi::inject_class(Orochi=HASH(0x91b52a4), "Orochi::Test::MooseBased1") called at t/300_moosex.t line 10
Class::MOP::is_class_loaded is deprecated at /opt/perl492-32-O0-5.8.8/lib/site_perl/5.8.8/i686-linux-thread-multi-64int-ld/Class/MOP.pm line 87.
	Class::MOP::is_class_loaded("Orochi::Test::MooseBased1") called at /root/.cpan/build/Orochi-0.00010-9wXFBV/blib/lib/Orochi/Injection/Constructor.pm line 58
	Orochi::Injection::Constructor::construct_object(Orochi::Injection::Constructor=HASH(0x9b73d08), Orochi=HASH(0x91b52a4), ARRAY(0x9cc07e8)) called at /root/.cpan/build/Orochi-0.00010-9wXFBV/blib/lib/Orochi/Injection/Constructor.pm line 50
	Orochi::Injection::Constructor::expand(Orochi::Injection::Constructor=HASH(0x9b73d08), Orochi=HASH(0x91b52a4)) called at /root/.cpan/build/Orochi-0.00010-9wXFBV/blib/lib/Orochi.pm line 88
	eval {...} called at /root/.cpan/build/Orochi-0.00010-9wXFBV/blib/lib/Orochi.pm line 87
	Orochi::get(Orochi=HASH(0x91b52a4), "/orochi/test/MooseBased1") called at t/300_moosex.t line 12
t/300_moosex.t ........ ok
Class::MOP::is_class_loaded is deprecated at /opt/perl492-32-O0-5.8.8/lib/site_perl/5.8.8/i686-linux-thread-multi-64int-ld/Class/MOP.pm line 87.
	Class::MOP::is_class_loaded("Orochi::Test::MooseBased3") called at /root/.cpan/build/Orochi-0.00010-9wXFBV/blib/lib/Orochi.pm line 213
	Orochi::inject_class(Orochi=HASH(0x93b82a4), "Orochi::Test::MooseBased3") called at t/900_cascade_bind.t line 19
Class::MOP::load_class is deprecated at /opt/perl492-32-O0-5.8.8/lib/site_perl/5.8.8/i686-linux-thread-multi-64int-ld/Class/MOP.pm line 69.
	Class::MOP::load_class("Orochi::Test::MooseBased3") called at /root/.cpan/build/Orochi-0.00010-9wXFBV/blib/lib/Orochi.pm line 213
	Orochi::inject_class(Orochi=HASH(0x93b82a4), "Orochi::Test::MooseBased3") called at t/900_cascade_bind.t line 19
Class::MOP::is_class_loaded is deprecated at /opt/perl492-32-O0-5.8.8/lib/site_perl/5.8.8/i686-linux-thread-multi-64int-ld/Class/MOP.pm line 87.
	Class::MOP::is_class_loaded("Orochi::Injection::Setter") called at /root/.cpan/build/Orochi-0.00010-9wXFBV/blib/lib/MooseX/Orochi.pm line 42
	MooseX::Orochi::bind_constructor(Moose::Meta::Class::__ANON__::SERIAL::3=HASH(0xa15ea0c), "/orochi/test/MooseBased3", "injection_class", "Setter", "setter_params", HASH(0xa0bd2d4)) called at /opt/perl492-32-O0-5.8.8/lib/site_perl/5.8.8/i686-linux-thread-multi-64int-ld/Moose/Exporter.pm line 419
	MooseX::Orochi::bind_constructor("/orochi/test/MooseBased3", "injection_class", "Setter", "setter_params", HASH(0xa0bd2d4)) called at t/lib/Orochi/Test/MooseBased3.pm line 5
	require Orochi/Test/MooseBased3.pm called at /opt/perl492-32-O0-5.8.8/lib/site_perl/5.8.8/Module/Runtime.pm line 313
	Module::Runtime::require_module("Orochi::Test::MooseBased3") called at /opt/perl492-32-O0-5.8.8/lib/site_perl/5.8.8/Class/Load.pm line 180
	Class::Load::try {...} () called at /opt/perl492-32-O0-5.8.8/lib/site_perl/5.8.8/Try/Tiny.pm line 76
	eval {...} called at /opt/perl492-32-O0-5.8.8/lib/site_perl/5.8.8/Try/Tiny.pm line 72
	Try::Tiny::try(CODE(0xa0b2ab0), Try::Tiny::Catch=REF(0xa0b2c90)) called at /opt/perl492-32-O0-5.8.8/lib/site_perl/5.8.8/Class/Load.pm line 186
	Class::Load::try_load_class("Orochi::Test::MooseBased3", undef) called at /opt/perl492-32-O0-5.8.8/lib/site_perl/5.8.8/Class/Load.pm line 41
	Class::Load::load_class("Orochi::Test::MooseBased3") called at /root/.cpan/build/Orochi-0.00010-9wXFBV/blib/lib/Orochi.pm line 213
	Orochi::inject_class(Orochi=HASH(0x93b82a4), "Orochi::Test::MooseBased3") called at t/900_cascade_bind.t line 19
Class::MOP::load_class is deprecated at /opt/perl492-32-O0-5.8.8/lib/site_perl/5.8.8/i686-linux-thread-multi-64int-ld/Class/MOP.pm line 69.
	Class::MOP::load_class("Orochi::Injection::Setter") called at /root/.cpan/build/Orochi-0.00010-9wXFBV/blib/lib/MooseX/Orochi.pm line 42
	MooseX::Orochi::bind_constructor(Moose::Meta::Class::__ANON__::SERIAL::3=HASH(0xa15ea0c), "/orochi/test/MooseBased3", "injection_class", "Setter", "setter_params", HASH(0xa0bd2d4)) called at /opt/perl492-32-O0-5.8.8/lib/site_perl/5.8.8/i686-linux-thread-multi-64int-ld/Moose/Exporter.pm line 419
	MooseX::Orochi::bind_constructor("/orochi/test/MooseBased3", "injection_class", "Setter", "setter_params", HASH(0xa0bd2d4)) called at t/lib/Orochi/Test/MooseBased3.pm line 5
	require Orochi/Test/MooseBased3.pm called at /opt/perl492-32-O0-5.8.8/lib/site_perl/5.8.8/Module/Runtime.pm line 313
	Module::Runtime::require_module("Orochi::Test::MooseBased3") called at /opt/perl492-32-O0-5.8.8/lib/site_perl/5.8.8/Class/Load.pm line 180
	Class::Load::try {...} () called at /opt/perl492-32-O0-5.8.8/lib/site_perl/5.8.8/Try/Tiny.pm line 76
	eval {...} called at /opt/perl492-32-O0-5.8.8/lib/site_perl/5.8.8/Try/Tiny.pm line 72
	Try::Tiny::try(CODE(0xa0b2ab0), Try::Tiny::Catch=REF(0xa0b2c90)) called at /opt/perl492-32-O0-5.8.8/lib/site_perl/5.8.8/Class/Load.pm line 186
	Class::Load::try_load_class("Orochi::Test::MooseBased3", undef) called at /opt/perl492-32-O0-5.8.8/lib/site_perl/5.8.8/Class/Load.pm line 41
	Class::Load::load_class("Orochi::Test::MooseBased3") called at /root/.cpan/build/Orochi-0.00010-9wXFBV/blib/lib/Orochi.pm line 213
	Orochi::inject_class(Orochi=HASH(0x93b82a4), "Orochi::Test::MooseBased3") called at t/900_cascade_bind.t line 19
Class::MOP::is_class_loaded is deprecated at /opt/perl492-32-O0-5.8.8/lib/site_perl/5.8.8/i686-linux-thread-multi-64int-ld/Class/MOP.pm line 87.
	Class::MOP::is_class_loaded("Orochi::Test::MooseBased3") called at /root/.cpan/build/Orochi-0.00010-9wXFBV/blib/lib/Orochi/Injection/Constructor.pm line 58
	Orochi::Injection::Constructor::construct_object(Orochi::Injection::Setter=HASH(0xa17261c), Orochi=HASH(0x93b82a4), ARRAY(0x9ec1008)) called at /root/.cpan/build/Orochi-0.00010-9wXFBV/blib/lib/Orochi/Injection/Constructor.pm line 50
	Orochi::Injection::Constructor::expand(Orochi::Injection::Setter=HASH(0xa17261c), Orochi=HASH(0x93b82a4)) called at /root/.cpan/build/Orochi-0.00010-9wXFBV/blib/lib/Orochi.pm line 88
	eval {...} called at /root/.cpan/build/Orochi-0.00010-9wXFBV/blib/lib/Orochi.pm line 87
	Orochi::get(Orochi=HASH(0x93b82a4), "/orochi/test/MooseBased3") called at t/900_cascade_bind.t line 23
	main::__ANON__() called at /opt/perl492-32-O0-5.8.8/lib/site_perl/5.8.8/Test/Exception.pm line 362
	eval {...} called at /opt/perl492-32-O0-5.8.8/lib/site_perl/5.8.8/Test/Exception.pm line 362
	Test::Exception::lives_and(CODE(0xa0bd13c)) called at t/900_cascade_bind.t line 26
t/900_cascade_bind.t .. ok
All tests successful.
Files=4, Tests=43, 25 wallclock secs ( 0.12 usr  0.01 sys + 11.52 cusr  0.36 csys = 12.01 CPU)
Result: PASS

------------------------------
PREREQUISITES
------------------------------

Prerequisite modules loaded:

requires:

    Module              Need    Have      
    ------------------- ------- ----------
    Data::Visitor       0       0.30      
    Module::Pluggable   0       5.1       
    Moose               0.93_01 2.1403    
    namespace::clean    0       0.25      
    Path::Router        0       0.14      
    Sub::Exporter       0       0.987     

build_requires:

    Module              Need    Have      
    ------------------- ------- ----------
    ExtUtils::MakeMaker 6.42    7.04      
    Test::MockObject    0       1.20140408
    Test::More          0.88    1.001014  
    UNIVERSAL::can      0       1.20140328
    UNIVERSAL::isa      0       1.20140927

configure_requires:

    Module              Need    Have      
    ------------------- ------- ----------
    ExtUtils::MakeMaker 6.42    7.04      


------------------------------
ENVIRONMENT AND OTHER CONTEXT
------------------------------

Environment variables:

    AUTOMATED_TESTING = 1
    LANG = en_US.utf8
    NONINTERACTIVE_TESTING = 1
    PATH = /usr/lib/qt-3.3/bin:/usr/kerberos/sbin:/usr/kerberos/bin:/usr/lib/ccache:/usr/local/sbin:/usr/sbin:/sbin:/usr/local/bin:/usr/bin:/bin:/usr/lib/firebird/bin:/opt/real/RealPlayer:/root/bin:/usr/lib/firebird/bin:/opt/real/RealPlayer
    PERL5LIB = 
    PERL5OPT = 
    PERL5_CPANPLUS_IS_RUNNING = 6276
    PERL5_CPAN_IS_RUNNING = 6276
    PERL_MM_USE_DEFAULT = 1
    SHELL = /bin/bash
    TERM = xterm

Perl special variables (and OS-specific diagnostics, for MSWin32):

    $^X = /opt/perl492-32-O0-5.8.8/bin/perl
    $UID/$EUID = 0 / 0
    $GID = 0 10 6 4 3 2 1 0
    $EGID = 0 10 6 4 3 2 1 0

Perl module toolchain versions installed:

    Module              Have    
    ------------------- --------
    CPAN                2.10    
    CPAN::Meta          2.150001
    Cwd                 3.47    
    ExtUtils::CBuilder  0.280220
    ExtUtils::Command   1.20    
    ExtUtils::Install   2.04    
    ExtUtils::MakeMaker 7.04    
    ExtUtils::Manifest  1.70    
    ExtUtils::ParseXS   3.24    
    File::Spec          3.47    
    JSON                2.90    
    JSON::PP            2.27300 
    Module::Build       0.4211  
    Module::Signature   0.77    
    Parse::CPAN::Meta   1.4414  
    Test::Harness       3.35    
    Test::More          1.001014
    YAML                1.14    
    YAML::Syck          1.29    
    version             0.9912  


--

Summary of my perl5 (revision 5 version 8 subversion 8) configuration:
  Platform:
    osname=linux, osvers=2.6.32.63, archname=i686-linux-thread-multi-64int-ld
    uname='linux localhost.localdomain 2.6.32.63 #2 smp fri jan 30 10:45:01 pst 2015 i686 i686 i386 gnulinux '
    config_args='-Dcc=/opt/492/bin/gcc -Dprefix=/opt/perl492-32-O0-5.8.8 -DDEBUGGING'
    hint=recommended, useposix=true, d_sigaction=define
    usethreads=define use5005threads=undef useithreads=define usemultiplicity=define
    useperlio=define d_sfio=undef uselargefiles=define usesocks=undef
    use64bitint=define use64bitall=undef uselongdouble=define
    usemymalloc=y, bincompat5005=undef
  Compiler:
    cc='/opt/492/bin/gcc', ccflags ='-D_REENTRANT -D_GNU_SOURCE -DTHREADS_HAVE_PIDS -fno-strict-aliasing -pipe -Wdeclaration-after-statement -I/usr/local/include -D_LARGEFILE_SOURCE -D_FILE_OFFSET_BITS=64',
    optimize='-O0',
    cppflags='-D_REENTRANT -D_GNU_SOURCE -DTHREADS_HAVE_PIDS -fno-strict-aliasing -pipe -Wdeclaration-after-statement -I/usr/local/include'
    ccversion='', gccversion='4.9.2', gccosandvers=''
    intsize=4, longsize=4, ptrsize=4, doublesize=8, byteorder=12345678
    d_longlong=define, longlongsize=8, d_longdbl=define, longdblsize=12
    ivtype='long long', ivsize=8, nvtype='long double', nvsize=12, Off_t='off_t', lseeksize=8
    alignbytes=4, prototype=define
  Linker and Libraries:
    ld='/opt/492/bin/gcc', ldflags =' -L/usr/local/lib'
    libpth=/usr/local/lib /lib /usr/lib
    libs=-lnsl -lgdbm -ldb -ldl -lm -lcrypt -lutil -lpthread -lc
    perllibs=-lnsl -ldl -lm -lcrypt -lutil -lpthread -lc
    libc=/lib/libc-2.8.so, so=so, useshrplib=true, libperl=libperl.so
    gnulibc_version='2.8'
  Dynamic Linking:
    dlsrc=dl_dlopen.xs, dlext=so, d_dlsymun=undef, ccdlflags='-Wl,-E -Wl,-rpath,/opt/perl492-32-O0-5.8.8/lib/5.8.8/i686-linux-thread-multi-64int-ld/CORE'
    cccdlflags='-fpic', lddlflags='-shared -L/usr/local/lib'


Characteristics of this binary (from libperl): 
  Compile-time options: MULTIPLICITY MYMALLOC PERL_IMPLICIT_CONTEXT
                        PERL_MALLOC_WRAP THREADS_HAVE_PIDS USE_64_BIT_INT
                        USE_ITHREADS USE_LARGE_FILES USE_LONG_DOUBLE
                        USE_PERLIO USE_REENTRANT_API
  Built under linux
  Compiled at Apr  1 2015 01:32:10
  %ENV:
    PERL5LIB=""
    PERL5OPT=""
    PERL5_CPANPLUS_IS_RUNNING="6276"
    PERL5_CPAN_IS_RUNNING="6276"
    PERL_MM_USE_DEFAULT="1"
  @INC:
    /opt/perl492-32-O0-5.8.8/lib/5.8.8/i686-linux-thread-multi-64int-ld
    /opt/perl492-32-O0-5.8.8/lib/5.8.8
    /opt/perl492-32-O0-5.8.8/lib/site_perl/5.8.8/i686-linux-thread-multi-64int-ld
    /opt/perl492-32-O0-5.8.8/lib/site_perl/5.8.8
    /opt/perl492-32-O0-5.8.8/lib/site_perl
    .