HiD v1.992 Perl 5 v5.20.3 x86_64-linux

Status
Pass
From
Andreas J. König (ANDK)
Dist
HiD v1.992
Platform
Perl 5 v5.20.3 x86_64-linux
Date
2019-01-03 06:29:12
ID
e2b2d16a-0f20-11e9-b44e-38f337c47247
This distribution has been tested as part of the CPAN Testers
project, supporting the Perl programming language.  See
http://wiki.cpantesters.org/ for more information or email
questions to cpan-testers-discuss@perl.org


--
Dear John SJ Anderson,

This is a computer-generated report for HiD-1.992
on perl 5.20.3, created by CPAN-Reporter-1.2018.

Thank you for uploading your work to CPAN.  Congratulations!
All tests were successful.

Sections of this report:

    * Tester comments
    * Program output
    * Prerequisites
    * Environment and other context

------------------------------
TESTER COMMENTS
------------------------------

Additional comments from tester:

this report is from an automated smoke testing program
and was not reviewed by a human for accuracy

------------------------------
PROGRAM OUTPUT
------------------------------

Output from '/usr/bin/make test':

PERL_DL_NONLAZY=1 "/home/sand/src/perl/repoperls/installed-perls/host/k93msid/v5.20.3/da1c/bin/perl" "-MExtUtils::Command::MM" "-MTest::Harness" "-e" "undef *Test::Harness::Switches; test_harness(0, 'blib/lib', 'blib/arch')" t/*.t
t/00-compile.t ........... ok
t/author-eol.t ........... skipped: these tests are for testing by the author
t/author-pod-coverage.t .. skipped: these tests are for testing by the author
t/author-pod-syntax.t .... skipped: these tests are for testing by the author
t/cmd-config.t ........... ok
t/cmd-help.t ............. ok
t/cmd-init.t ............. ok
# Testing in /tmp/EDcAvjcmKh
t/cmd-publish.t .......... ok
t/config.t ............... ok
t/file.t ................. ok
t/hid-server.t ........... ok
[2019/01/03 06:28:57]  WARN Skipping _posts/2008-02-02-not-published.textile because 'published' flag is false
[2019/01/03 06:28:57] ERROR ERROR: Post failed to build: Died at /tmp/loop_over_bdir-13705-vABi54/HiD-1.992-0/blib/lib/HiD/Post.pm line 36.
t/hid.t .................. ok
t/layout.t ............... ok
t/page.t ................. ok
t/post-twitter.t ......... ok
t/post.t ................. ok
All tests successful.

Test Summary Report
-------------------
t/cmd-publish.t        (Wstat: 0 Tests: 76 Failed: 0)
  TODO passed:   72-73
Files=16, Tests=209, 30 wallclock secs ( 0.06 usr  0.09 sys + 17.42 cusr  3.60 csys = 21.17 CPU)
Result: PASS

------------------------------
PREREQUISITES
------------------------------

Prerequisite modules loaded:

requires:

    Module                       Need  Have    
    ---------------------------- ----- --------
    autodie                      0     2.29    
    Carp                         0     1.50    
    charnames                    0     1.40    
    Class::Load                  0     0.25    
    Data::Page                   0     2.02    
    Data::Printer                0.35  0.40    
    Date::Parse                  0     2.30    
    DateTime                     0     1.50    
    feature                      0     1.36_01 
    File::Copy                   0     2.30    
    File::Find::Rule             0     0.34    
    Log::Log4perl                0     1.49    
    Moose                        0     2.2011  
    Moose::Role                  0     2.2011  
    Moose::Util::TypeConstraints 0     2.2011  
    MooseX::App::Cmd             0     0.32    
    MooseX::App::Cmd::Command    0     0.32    
    MooseX::Getopt               0     0.74    
    namespace::autoclean         0     0.28    
    open                         0     1.10    
    parent                       0     0.237   
    Path::Tiny                   0.054 0.108   
    perl                         5.014 5.020003
    Plack::App::File             0     0       
    Plack::Builder               0     0       
    Plack::Handler::Standalone   0     0       
    Plack::Loader::Restarter     0     0       
    Plack::Runner                0     0       
    strict                       0     1.08    
    String::Errf                 0     0.008   
    Template                     0     2.28    
    Text::Handlebars             0     0.05    
    Text::Markdown               0     1.000031
    Text::MultiMarkdown          0     1.000035
    Text::Textile                0     2.13    
    Text::Xslate                 0     v3.5.6  
    Try::Tiny                    0     0.30    
    utf8                         0     1.13_01 
    warnings                     0     1.23    
    XML::Feed                    0     0.55    
    XML::Feed::Entry             0     0.55    
    YAML::Tiny                   0     1.73    
    YAML::XS                     0     0.76    

build_requires:

    Module                       Need  Have    
    ---------------------------- ----- --------
    App::Cmd::Tester             0     0.331   
    Exporter                     0     5.73    
    ExtUtils::MakeMaker          0     7.35_07 
    File::Spec                   0     3.75    
    FindBin                      0     1.51    
    HTTP::Request::Common        0     6.18    
    IO::Handle                   0     1.35    
    IPC::Open3                   0     1.16    
    lib                          0     0.63    
    Plack::Test                  0     0       
    Test::File                   0     1.443   
    Test::File::Contents         0     0.23    
    Test::More                   0     1.302148
    Test::Routine                0     0.027   
    Test::Routine::Util          0     0.027   
    Test::Warn                   0     0.36    

configure_requires:

    Module                       Need  Have    
    ---------------------------- ----- --------
    ExtUtils::MakeMaker          0     7.35_07 
    perl                         5.014 5.020003


------------------------------
ENVIRONMENT AND OTHER CONTEXT
------------------------------

Environment variables:

    AUTOMATED_TESTING = 1
    LANG = en_US.UTF-8
    PATH = /home/sand/bin:/usr/local/bin:/usr/bin:/bin:/usr/games:/usr/local/perl/bin:/usr/X11/bin:/sbin:/usr/sbin
    PERL5LIB = /tmp/loop_over_bdir-13705-vABi54/XML-Feed-0.55-0/blib/arch:/tmp/loop_over_bdir-13705-vABi54/XML-Feed-0.55-0/blib/lib:/tmp/loop_over_bdir-13705-vABi54/XML-RSS-1.60-0/blib/arch:/tmp/loop_over_bdir-13705-vABi54/XML-RSS-1.60-0/blib/lib:/tmp/loop_over_bdir-13705-vABi54/URI-Fetch-0.13-0/blib/arch:/tmp/loop_over_bdir-13705-vABi54/URI-Fetch-0.13-0/blib/lib:/tmp/loop_over_bdir-13705-vABi54/Feed-Find-0.07-0/blib/arch:/tmp/loop_over_bdir-13705-vABi54/Feed-Find-0.07-0/blib/lib:/tmp/loop_over_bdir-13705-vABi54/Class-ErrorHandler-0.04-0/blib/arch:/tmp/loop_over_bdir-13705-vABi54/Class-ErrorHandler-0.04-0/blib/lib:/tmp/loop_over_bdir-13705-vABi54/Text-Textile-2.13-0/blib/arch:/tmp/loop_over_bdir-13705-vABi54/Text-Textile-2.13-0/blib/lib:/tmp/loop_over_bdir-13705-vABi54/Text-MultiMarkdown-1.000035-0/blib/arch:/tmp/loop_over_bdir-13705-vABi54/Text-MultiMarkdown-1.000035-0/blib/lib:/tmp/loop_over_bdir-13705-vABi54/Text-Handlebars-0.05-0/blib/arch:/tmp/loop_over_bdir-13705-vABi54/Text-Handlebars-0.05-0/blib/lib:/tmp/loop_over_bdir-13705-vABi54/Test-Routine-0.027-0/blib/arch:/tmp/loop_over_bdir-13705-vABi54/Test-Routine-0.027-0/blib/lib:/tmp/loop_over_bdir-13705-vABi54/Test-Abortable-0.002-0/blib/arch:/tmp/loop_over_bdir-13705-vABi54/Test-Abortable-0.002-0/blib/lib:/tmp/loop_over_bdir-13705-vABi54/MooseX-App-Cmd-0.32-0/blib/arch:/tmp/loop_over_bdir-13705-vABi54/MooseX-App-Cmd-0.32-0/blib/lib
    PERL5OPT = 
    PERL5_CPANPLUS_IS_RUNNING = 13706
    PERL5_CPAN_IS_RUNNING = 13706
    PERL5_CPAN_IS_RUNNING_IN_RECURSION = 5756,13706
    PERL_CANARY_STABILITY_NOPROMPT = 1
    PERL_MM_USE_DEFAULT = 1
    PERL_USE_UNSAFE_INC = 1
    SHELL = /usr/bin/zsh
    TERM = screen

Perl special variables (and OS-specific diagnostics, for MSWin32):

    $^X = /home/sand/src/perl/repoperls/installed-perls/host/k93msid/v5.20.3/da1c/bin/perl
    $UID/$EUID = 1005 / 1005
    $GID = 1005 1005
    $EGID = 1005 1005

Perl module toolchain versions installed:

    Module              Have    
    ------------------- --------
    CPAN                2.21    
    CPAN::Meta          2.150010
    Cwd                 3.75    
    ExtUtils::CBuilder  0.280230
    ExtUtils::Command   7.35_07 
    ExtUtils::Install   2.06    
    ExtUtils::MakeMaker 7.35_07 
    ExtUtils::Manifest  1.70    
    ExtUtils::ParseXS   3.35    
    File::Spec          3.75    
    JSON                4.00    
    JSON::PP            2.97001 
    Module::Build       0.4224  
    Module::Signature   0.83    
    Parse::CPAN::Meta   2.150010
    Test::Harness       3.42    
    Test::More          1.302148
    YAML                1.26    
    YAML::Syck          1.31    
    version             0.9924  


--

Summary of my perl5 (revision 5 version 20 subversion 3) configuration:
  Derived from: b67331aafd6eff33e3fd904c45e811f69cbfb0b2
  Platform:
    osname=linux, osvers=4.18.0-2-amd64, archname=x86_64-linux
    uname='linux k93msid 4.18.0-2-amd64 #1 smp debian 4.18.10-2 (2018-10-07) x86_64 gnulinux '
    config_args='-Dprefix=/home/sand/src/perl/repoperls/installed-perls/host/k93msid/v5.20.3/da1c -Dmyhostname=k93msid -Dinstallusrbinperl=n -Uversiononly -Dusedevel -des -Ui_db -Dlibswanted=cl pthread socket inet nsl gdbm dbm malloc dl ld sun m crypt sec util c cposix posix ucb BSD gdbm_compat -Uuseithreads -Uuselongdouble -DEBUGGING=-g'
    hint=recommended, useposix=true, d_sigaction=define
    useithreads=undef, usemultiplicity=undef
    use64bitint=define, use64bitall=define, uselongdouble=undef
    usemymalloc=n, bincompat5005=undef
  Compiler:
    cc='cc', ccflags ='-fwrapv -fno-strict-aliasing -pipe -fstack-protector -I/usr/local/include -D_LARGEFILE_SOURCE -D_FILE_OFFSET_BITS=64',
    optimize='-O2 -g',
    cppflags='-fwrapv -fno-strict-aliasing -pipe -fstack-protector -I/usr/local/include'
    ccversion='', gccversion='8.2.0', gccosandvers=''
    intsize=4, longsize=8, ptrsize=8, doublesize=8, byteorder=12345678
    d_longlong=define, longlongsize=8, d_longdbl=define, longdblsize=16
    ivtype='long', ivsize=8, nvtype='double', nvsize=8, Off_t='off_t', lseeksize=8
    alignbytes=8, prototype=define
  Linker and Libraries:
    ld='cc', ldflags =' -fstack-protector -L/usr/local/lib'
    libpth=/usr/local/lib /usr/lib/gcc/x86_64-linux-gnu/8/include-fixed /usr/include/x86_64-linux-gnu /usr/lib /lib/x86_64-linux-gnu /lib/../lib /usr/lib/x86_64-linux-gnu /usr/lib/../lib /lib
    libs=-lpthread -lnsl -ldl -lm -lcrypt -lutil -lc
    perllibs=-lpthread -lnsl -ldl -lm -lcrypt -lutil -lc
    libc=libc-2.27.so, so=so, useshrplib=false, libperl=libperl.a
    gnulibc_version='2.27'
  Dynamic Linking:
    dlsrc=dl_dlopen.xs, dlext=so, d_dlsymun=undef, ccdlflags='-Wl,-E'
    cccdlflags='-fPIC', lddlflags='-shared -O2 -g -L/usr/local/lib -fstack-protector'


Characteristics of this binary (from libperl): 
  Compile-time options: HAS_TIMES PERLIO_LAYERS PERL_DONT_CREATE_GVSV
                        PERL_HASH_FUNC_ONE_AT_A_TIME_HARD PERL_MALLOC_WRAP
                        PERL_NEW_COPY_ON_WRITE PERL_PRESERVE_IVUV
                        PERL_USE_DEVEL USE_64_BIT_ALL USE_64_BIT_INT
                        USE_LARGE_FILES USE_LOCALE USE_LOCALE_COLLATE
                        USE_LOCALE_CTYPE USE_LOCALE_NUMERIC USE_PERLIO
                        USE_PERL_ATOF
  Locally applied patches:
	uncommitted-changes
  Built under linux
  Compiled at Oct 28 2018 22:54:11
  %ENV:
    PERL5LIB="/tmp/loop_over_bdir-13705-vABi54/XML-Feed-0.55-0/blib/arch:/tmp/loop_over_bdir-13705-vABi54/XML-Feed-0.55-0/blib/lib:/tmp/loop_over_bdir-13705-vABi54/XML-RSS-1.60-0/blib/arch:/tmp/loop_over_bdir-13705-vABi54/XML-RSS-1.60-0/blib/lib:/tmp/loop_over_bdir-13705-vABi54/URI-Fetch-0.13-0/blib/arch:/tmp/loop_over_bdir-13705-vABi54/URI-Fetch-0.13-0/blib/lib:/tmp/loop_over_bdir-13705-vABi54/Feed-Find-0.07-0/blib/arch:/tmp/loop_over_bdir-13705-vABi54/Feed-Find-0.07-0/blib/lib:/tmp/loop_over_bdir-13705-vABi54/Class-ErrorHandler-0.04-0/blib/arch:/tmp/loop_over_bdir-13705-vABi54/Class-ErrorHandler-0.04-0/blib/lib:/tmp/loop_over_bdir-13705-vABi54/Text-Textile-2.13-0/blib/arch:/tmp/loop_over_bdir-13705-vABi54/Text-Textile-2.13-0/blib/lib:/tmp/loop_over_bdir-13705-vABi54/Text-MultiMarkdown-1.000035-0/blib/arch:/tmp/loop_over_bdir-13705-vABi54/Text-MultiMarkdown-1.000035-0/blib/lib:/tmp/loop_over_bdir-13705-vABi54/Text-Handlebars-0.05-0/blib/arch:/tmp/loop_over_bdir-13705-vABi54/Text-Handlebars-0.05-0/blib/lib:/tmp/loop_over_bdir-13705-vABi54/Test-Routine-0.027-0/blib/arch:/tmp/loop_over_bdir-13705-vABi54/Test-Routine-0.027-0/blib/lib:/tmp/loop_over_bdir-13705-vABi54/Test-Abortable-0.002-0/blib/arch:/tmp/loop_over_bdir-13705-vABi54/Test-Abortable-0.002-0/blib/lib:/tmp/loop_over_bdir-13705-vABi54/MooseX-App-Cmd-0.32-0/blib/arch:/tmp/loop_over_bdir-13705-vABi54/MooseX-App-Cmd-0.32-0/blib/lib"
    PERL5OPT=""
    PERL5_CPANPLUS_IS_RUNNING="13706"
    PERL5_CPAN_IS_RUNNING="13706"
    PERL5_CPAN_IS_RUNNING_IN_RECURSION="5756,13706"
    PERL_CANARY_STABILITY_NOPROMPT="1"
    PERL_MM_USE_DEFAULT="1"
    PERL_USE_UNSAFE_INC="1"
  @INC:
    /tmp/loop_over_bdir-13705-vABi54/XML-Feed-0.55-0/blib/arch
    /tmp/loop_over_bdir-13705-vABi54/XML-Feed-0.55-0/blib/lib
    /tmp/loop_over_bdir-13705-vABi54/XML-RSS-1.60-0/blib/arch
    /tmp/loop_over_bdir-13705-vABi54/XML-RSS-1.60-0/blib/lib
    /tmp/loop_over_bdir-13705-vABi54/URI-Fetch-0.13-0/blib/arch
    /tmp/loop_over_bdir-13705-vABi54/URI-Fetch-0.13-0/blib/lib
    /tmp/loop_over_bdir-13705-vABi54/Feed-Find-0.07-0/blib/arch
    /tmp/loop_over_bdir-13705-vABi54/Feed-Find-0.07-0/blib/lib
    /tmp/loop_over_bdir-13705-vABi54/Class-ErrorHandler-0.04-0/blib/arch
    /tmp/loop_over_bdir-13705-vABi54/Class-ErrorHandler-0.04-0/blib/lib
    /tmp/loop_over_bdir-13705-vABi54/Text-Textile-2.13-0/blib/arch
    /tmp/loop_over_bdir-13705-vABi54/Text-Textile-2.13-0/blib/lib
    /tmp/loop_over_bdir-13705-vABi54/Text-MultiMarkdown-1.000035-0/blib/arch
    /tmp/loop_over_bdir-13705-vABi54/Text-MultiMarkdown-1.000035-0/blib/lib
    /tmp/loop_over_bdir-13705-vABi54/Text-Handlebars-0.05-0/blib/arch
    /tmp/loop_over_bdir-13705-vABi54/Text-Handlebars-0.05-0/blib/lib
    /tmp/loop_over_bdir-13705-vABi54/Test-Routine-0.027-0/blib/arch
    /tmp/loop_over_bdir-13705-vABi54/Test-Routine-0.027-0/blib/lib
    /tmp/loop_over_bdir-13705-vABi54/Test-Abortable-0.002-0/blib/arch
    /tmp/loop_over_bdir-13705-vABi54/Test-Abortable-0.002-0/blib/lib
    /tmp/loop_over_bdir-13705-vABi54/MooseX-App-Cmd-0.32-0/blib/arch
    /tmp/loop_over_bdir-13705-vABi54/MooseX-App-Cmd-0.32-0/blib/lib
    /home/sand/src/perl/repoperls/installed-perls/host/k93msid/v5.20.3/da1c/lib/site_perl/5.20.3/x86_64-linux
    /home/sand/src/perl/repoperls/installed-perls/host/k93msid/v5.20.3/da1c/lib/site_perl/5.20.3
    /home/sand/src/perl/repoperls/installed-perls/host/k93msid/v5.20.3/da1c/lib/5.20.3/x86_64-linux
    /home/sand/src/perl/repoperls/installed-perls/host/k93msid/v5.20.3/da1c/lib/5.20.3
    .